BEGIN:VCALENDAR
VERSION:2.0
PRODID:-//Maskat Shrine - ECPv6.15.13//NONSGML v1.0//EN
CALSCALE:GREGORIAN
METHOD:PUBLISH
X-ORIGINAL-URL:https://maskatshrine.com
X-WR-CALDESC:Events for Maskat Shrine
REFRESH-INTERVAL;VALUE=DURATION:PT1H
X-Robots-Tag:noindex
X-PUBLISHED-TTL:PT1H
BEGIN:VTIMEZONE
TZID:America/Chicago
BEGIN:DAYLIGHT
TZOFFSETFROM:-0600
TZOFFSETTO:-0500
TZNAME:CDT
DTSTART:20220313T080000
END:DAYLIGHT
BEGIN:STANDARD
TZOFFSETFROM:-0500
TZOFFSETTO:-0600
TZNAME:CST
DTSTART:20221106T070000
END:STANDARD
BEGIN:DAYLIGHT
TZOFFSETFROM:-0600
TZOFFSETTO:-0500
TZNAME:CDT
DTSTART:20230312T080000
END:DAYLIGHT
BEGIN:STANDARD
TZOFFSETFROM:-0500
TZOFFSETTO:-0600
TZNAME:CST
DTSTART:20231105T070000
END:STANDARD
BEGIN:DAYLIGHT
TZOFFSETFROM:-0600
TZOFFSETTO:-0500
TZNAME:CDT
DTSTART:20240310T080000
END:DAYLIGHT
BEGIN:STANDARD
TZOFFSETFROM:-0500
TZOFFSETTO:-0600
TZNAME:CST
DTSTART:20241103T070000
END:STANDARD
END:VTIMEZONE
BEGIN:VEVENT
DTSTART;TZID=America/Chicago:20230311T140000
DTEND;TZID=America/Chicago:20230311T170000
DTSTAMP:20260425T103035
CREATED:20230131T194652Z
LAST-MODIFIED:20230131T194652Z
UID:10001766-1678543200-1678554000@maskatshrine.com
SUMMARY:Nile Installation
DESCRIPTION:
URL:https://maskatshrine.com/event/nile-installation-7/
CATEGORIES:Ladies Events
END:VEVENT
BEGIN:VEVENT
DTSTART;TZID=America/Chicago:20230313T190000
DTEND;TZID=America/Chicago:20230313T213000
DTSTAMP:20260425T103035
CREATED:20230131T002357Z
LAST-MODIFIED:20230131T002357Z
UID:10001640-1678734000-1678743000@maskatshrine.com
SUMMARY:Nile Dancers
DESCRIPTION:
URL:https://maskatshrine.com/event/nile-dancers-3/2023-03-13/
CATEGORIES:Ladies Events
END:VEVENT
BEGIN:VEVENT
DTSTART;TZID=America/Chicago:20230313T190000
DTEND;TZID=America/Chicago:20230313T213000
DTSTAMP:20260425T103035
CREATED:20230131T193110Z
LAST-MODIFIED:20230131T193110Z
UID:10001754-1678734000-1678743000@maskatshrine.com
SUMMARY:Nile Fun Band
DESCRIPTION:
URL:https://maskatshrine.com/event/nile-fun-band-10/2023-03-13/
CATEGORIES:Ladies Events
END:VEVENT
BEGIN:VEVENT
DTSTART;TZID=America/Chicago:20230316T183000
DTEND;TZID=America/Chicago:20230316T210000
DTSTAMP:20260425T103035
CREATED:20230131T023255Z
LAST-MODIFIED:20230131T023255Z
UID:10001738-1678991400-1679000400@maskatshrine.com
SUMMARY:Nile Patrol
DESCRIPTION:
URL:https://maskatshrine.com/event/nile-patrol-10/2023-03-16/
CATEGORIES:Ladies Events
END:VEVENT
BEGIN:VEVENT
DTSTART;TZID=America/Chicago:20230320T190000
DTEND;TZID=America/Chicago:20230320T213000
DTSTAMP:20260425T103035
CREATED:20230131T002357Z
LAST-MODIFIED:20230131T002357Z
UID:10001641-1679338800-1679347800@maskatshrine.com
SUMMARY:Nile Dancers
DESCRIPTION:
URL:https://maskatshrine.com/event/nile-dancers-3/2023-03-20/
CATEGORIES:Ladies Events
END:VEVENT
BEGIN:VEVENT
DTSTART;TZID=America/Chicago:20230327T190000
DTEND;TZID=America/Chicago:20230327T213000
DTSTAMP:20260425T103035
CREATED:20230131T002357Z
LAST-MODIFIED:20230131T002357Z
UID:10001642-1679943600-1679952600@maskatshrine.com
SUMMARY:Nile Dancers
DESCRIPTION:
URL:https://maskatshrine.com/event/nile-dancers-3/2023-03-27/
CATEGORIES:Ladies Events
END:VEVENT
BEGIN:VEVENT
DTSTART;TZID=America/Chicago:20230401T140000
DTEND;TZID=America/Chicago:20230401T170000
DTSTAMP:20260425T103035
CREATED:20230321T161724Z
LAST-MODIFIED:20230321T161724Z
UID:10001843-1680357600-1680368400@maskatshrine.com
SUMMARY:Nile Installation
DESCRIPTION:
URL:https://maskatshrine.com/event/nile-installation-8/
CATEGORIES:Ladies Events
END:VEVENT
BEGIN:VEVENT
DTSTART;TZID=America/Chicago:20230403T190000
DTEND;TZID=America/Chicago:20230403T213000
DTSTAMP:20260425T103035
CREATED:20230131T002357Z
LAST-MODIFIED:20230131T002357Z
UID:10001643-1680548400-1680557400@maskatshrine.com
SUMMARY:Nile Dancers
DESCRIPTION:
URL:https://maskatshrine.com/event/nile-dancers-3/2023-04-03/
CATEGORIES:Ladies Events
END:VEVENT
BEGIN:VEVENT
DTSTART;TZID=America/Chicago:20230406T190000
DTEND;TZID=America/Chicago:20230406T210000
DTSTAMP:20260425T103035
CREATED:20230131T020805Z
LAST-MODIFIED:20230131T201624Z
UID:10001695-1680807600-1680814800@maskatshrine.com
SUMMARY:Nile Stated Session
DESCRIPTION:
URL:https://maskatshrine.com/event/nile-stated-meeting/2023-04-06/
CATEGORIES:Ladies Events
END:VEVENT
BEGIN:VEVENT
DTSTART;TZID=America/Chicago:20230410T190000
DTEND;TZID=America/Chicago:20230410T213000
DTSTAMP:20260425T103035
CREATED:20230131T002357Z
LAST-MODIFIED:20230131T002357Z
UID:10001644-1681153200-1681162200@maskatshrine.com
SUMMARY:Nile Dancers
DESCRIPTION:
URL:https://maskatshrine.com/event/nile-dancers-3/2023-04-10/
CATEGORIES:Ladies Events
END:VEVENT
BEGIN:VEVENT
DTSTART;TZID=America/Chicago:20230410T190000
DTEND;TZID=America/Chicago:20230410T213000
DTSTAMP:20260425T103035
CREATED:20230131T193110Z
LAST-MODIFIED:20230131T193110Z
UID:10001755-1681153200-1681162200@maskatshrine.com
SUMMARY:Nile Fun Band
DESCRIPTION:
URL:https://maskatshrine.com/event/nile-fun-band-10/2023-04-10/
CATEGORIES:Ladies Events
END:VEVENT
BEGIN:VEVENT
DTSTART;TZID=America/Chicago:20230413T103000
DTEND;TZID=America/Chicago:20230413T120000
DTSTAMP:20260425T103035
CREATED:20230131T021528Z
LAST-MODIFIED:20230131T021528Z
UID:10001705-1681381800-1681387200@maskatshrine.com
SUMMARY:Nile Sewing
DESCRIPTION:
URL:https://maskatshrine.com/event/nile-sewing-10/2023-04-13/
CATEGORIES:Ladies Events
END:VEVENT
BEGIN:VEVENT
DTSTART;TZID=America/Chicago:20230417T190000
DTEND;TZID=America/Chicago:20230417T213000
DTSTAMP:20260425T103035
CREATED:20230131T002357Z
LAST-MODIFIED:20230131T002357Z
UID:10001645-1681758000-1681767000@maskatshrine.com
SUMMARY:Nile Dancers
DESCRIPTION:
URL:https://maskatshrine.com/event/nile-dancers-3/2023-04-17/
CATEGORIES:Ladies Events
END:VEVENT
BEGIN:VEVENT
DTSTART;TZID=America/Chicago:20230420T183000
DTEND;TZID=America/Chicago:20230420T210000
DTSTAMP:20260425T103035
CREATED:20230131T023255Z
LAST-MODIFIED:20230131T023255Z
UID:10001739-1682015400-1682024400@maskatshrine.com
SUMMARY:Nile Patrol
DESCRIPTION:
URL:https://maskatshrine.com/event/nile-patrol-10/2023-04-20/
CATEGORIES:Ladies Events
END:VEVENT
BEGIN:VEVENT
DTSTART;TZID=America/Chicago:20230424T190000
DTEND;TZID=America/Chicago:20230424T213000
DTSTAMP:20260425T103035
CREATED:20230131T002357Z
LAST-MODIFIED:20230131T002357Z
UID:10001646-1682362800-1682371800@maskatshrine.com
SUMMARY:Nile Dancers
DESCRIPTION:
URL:https://maskatshrine.com/event/nile-dancers-3/2023-04-24/
CATEGORIES:Ladies Events
END:VEVENT
BEGIN:VEVENT
DTSTART;TZID=America/Chicago:20230501T190000
DTEND;TZID=America/Chicago:20230501T213000
DTSTAMP:20260425T103035
CREATED:20230131T002357Z
LAST-MODIFIED:20230131T002357Z
UID:10001647-1682967600-1682976600@maskatshrine.com
SUMMARY:Nile Dancers
DESCRIPTION:
URL:https://maskatshrine.com/event/nile-dancers-3/2023-05-01/
CATEGORIES:Ladies Events
END:VEVENT
BEGIN:VEVENT
DTSTART;TZID=America/Chicago:20230504T190000
DTEND;TZID=America/Chicago:20230504T210000
DTSTAMP:20260425T103035
CREATED:20230131T020805Z
LAST-MODIFIED:20230131T201624Z
UID:10001696-1683226800-1683234000@maskatshrine.com
SUMMARY:Nile Stated Session
DESCRIPTION:
URL:https://maskatshrine.com/event/nile-stated-meeting/2023-05-04/
CATEGORIES:Ladies Events
END:VEVENT
BEGIN:VEVENT
DTSTART;VALUE=DATE:20230506
DTEND;VALUE=DATE:20230507
DTSTAMP:20260425T103035
CREATED:20230131T202145Z
LAST-MODIFIED:20230131T202145Z
UID:10001775-1683331200-1683417599@maskatshrine.com
SUMMARY:Nile Queens' Luncheon
DESCRIPTION:
URL:https://maskatshrine.com/event/nile-queens-luncheon-4/
CATEGORIES:Ladies Events
END:VEVENT
BEGIN:VEVENT
DTSTART;TZID=America/Chicago:20230508T190000
DTEND;TZID=America/Chicago:20230508T213000
DTSTAMP:20260425T103035
CREATED:20230131T002357Z
LAST-MODIFIED:20230131T002357Z
UID:10001648-1683572400-1683581400@maskatshrine.com
SUMMARY:Nile Dancers
DESCRIPTION:
URL:https://maskatshrine.com/event/nile-dancers-3/2023-05-08/
CATEGORIES:Ladies Events
END:VEVENT
BEGIN:VEVENT
DTSTART;TZID=America/Chicago:20230508T190000
DTEND;TZID=America/Chicago:20230508T213000
DTSTAMP:20260425T103035
CREATED:20230131T193110Z
LAST-MODIFIED:20230131T193110Z
UID:10001756-1683572400-1683581400@maskatshrine.com
SUMMARY:Nile Fun Band
DESCRIPTION:
URL:https://maskatshrine.com/event/nile-fun-band-10/2023-05-08/
CATEGORIES:Ladies Events
END:VEVENT
BEGIN:VEVENT
DTSTART;TZID=America/Chicago:20230511T103000
DTEND;TZID=America/Chicago:20230511T120000
DTSTAMP:20260425T103035
CREATED:20230131T021528Z
LAST-MODIFIED:20230131T021528Z
UID:10001706-1683801000-1683806400@maskatshrine.com
SUMMARY:Nile Sewing
DESCRIPTION:
URL:https://maskatshrine.com/event/nile-sewing-10/2023-05-11/
CATEGORIES:Ladies Events
END:VEVENT
BEGIN:VEVENT
DTSTART;TZID=America/Chicago:20230515T190000
DTEND;TZID=America/Chicago:20230515T213000
DTSTAMP:20260425T103035
CREATED:20230131T002357Z
LAST-MODIFIED:20230131T002357Z
UID:10001649-1684177200-1684186200@maskatshrine.com
SUMMARY:Nile Dancers
DESCRIPTION:
URL:https://maskatshrine.com/event/nile-dancers-3/2023-05-15/
CATEGORIES:Ladies Events
END:VEVENT
BEGIN:VEVENT
DTSTART;TZID=America/Chicago:20230518T183000
DTEND;TZID=America/Chicago:20230518T210000
DTSTAMP:20260425T103035
CREATED:20230131T023255Z
LAST-MODIFIED:20230131T023255Z
UID:10001740-1684434600-1684443600@maskatshrine.com
SUMMARY:Nile Patrol
DESCRIPTION:
URL:https://maskatshrine.com/event/nile-patrol-10/2023-05-18/
CATEGORIES:Ladies Events
END:VEVENT
BEGIN:VEVENT
DTSTART;TZID=America/Chicago:20230522T190000
DTEND;TZID=America/Chicago:20230522T213000
DTSTAMP:20260425T103035
CREATED:20230131T002357Z
LAST-MODIFIED:20230131T002357Z
UID:10001650-1684782000-1684791000@maskatshrine.com
SUMMARY:Nile Dancers
DESCRIPTION:
URL:https://maskatshrine.com/event/nile-dancers-3/2023-05-22/
CATEGORIES:Ladies Events
END:VEVENT
BEGIN:VEVENT
DTSTART;TZID=America/Chicago:20230529T190000
DTEND;TZID=America/Chicago:20230529T213000
DTSTAMP:20260425T103035
CREATED:20230131T002357Z
LAST-MODIFIED:20230131T002357Z
UID:10001651-1685386800-1685395800@maskatshrine.com
SUMMARY:Nile Dancers
DESCRIPTION:
URL:https://maskatshrine.com/event/nile-dancers-3/2023-05-29/
CATEGORIES:Ladies Events
END:VEVENT
BEGIN:VEVENT
DTSTART;TZID=America/Chicago:20230605T190000
DTEND;TZID=America/Chicago:20230605T213000
DTSTAMP:20260425T103035
CREATED:20230131T002357Z
LAST-MODIFIED:20230131T002357Z
UID:10001652-1685991600-1686000600@maskatshrine.com
SUMMARY:Nile Dancers
DESCRIPTION:
URL:https://maskatshrine.com/event/nile-dancers-3/2023-06-05/
CATEGORIES:Ladies Events
END:VEVENT
BEGIN:VEVENT
DTSTART;TZID=America/Chicago:20230612T190000
DTEND;TZID=America/Chicago:20230612T213000
DTSTAMP:20260425T103035
CREATED:20230131T002357Z
LAST-MODIFIED:20230131T002357Z
UID:10001653-1686596400-1686605400@maskatshrine.com
SUMMARY:Nile Dancers
DESCRIPTION:
URL:https://maskatshrine.com/event/nile-dancers-3/2023-06-12/
CATEGORIES:Ladies Events
END:VEVENT
BEGIN:VEVENT
DTSTART;TZID=America/Chicago:20230619T190000
DTEND;TZID=America/Chicago:20230619T213000
DTSTAMP:20260425T103035
CREATED:20230131T002357Z
LAST-MODIFIED:20230131T002357Z
UID:10001654-1687201200-1687210200@maskatshrine.com
SUMMARY:Nile Dancers
DESCRIPTION:
URL:https://maskatshrine.com/event/nile-dancers-3/2023-06-19/
CATEGORIES:Ladies Events
END:VEVENT
BEGIN:VEVENT
DTSTART;TZID=America/Chicago:20230626T190000
DTEND;TZID=America/Chicago:20230626T213000
DTSTAMP:20260425T103035
CREATED:20230131T002357Z
LAST-MODIFIED:20230131T002357Z
UID:10001655-1687806000-1687815000@maskatshrine.com
SUMMARY:Nile Dancers
DESCRIPTION:
URL:https://maskatshrine.com/event/nile-dancers-3/2023-06-26/
CATEGORIES:Ladies Events
END:VEVENT
BEGIN:VEVENT
DTSTART;TZID=America/Chicago:20230703T190000
DTEND;TZID=America/Chicago:20230703T213000
DTSTAMP:20260425T103035
CREATED:20230131T002357Z
LAST-MODIFIED:20230131T002357Z
UID:10001656-1688410800-1688419800@maskatshrine.com
SUMMARY:Nile Dancers
DESCRIPTION:
URL:https://maskatshrine.com/event/nile-dancers-3/2023-07-03/
CATEGORIES:Ladies Events
END:VEVENT
END:VCALENDAR