BEGIN:VCALENDAR
VERSION:2.0
PRODID:-//Maskat Shrine - ECPv6.15.13//NONSGML v1.0//EN
CALSCALE:GREGORIAN
METHOD:PUBLISH
X-ORIGINAL-URL:https://maskatshrine.com
X-WR-CALDESC:Events for Maskat Shrine
REFRESH-INTERVAL;VALUE=DURATION:PT1H
X-Robots-Tag:noindex
X-PUBLISHED-TTL:PT1H
BEGIN:VTIMEZONE
TZID:America/Chicago
BEGIN:DAYLIGHT
TZOFFSETFROM:-0600
TZOFFSETTO:-0500
TZNAME:CDT
DTSTART:20250309T080000
END:DAYLIGHT
BEGIN:STANDARD
TZOFFSETFROM:-0500
TZOFFSETTO:-0600
TZNAME:CST
DTSTART:20251102T070000
END:STANDARD
BEGIN:DAYLIGHT
TZOFFSETFROM:-0600
TZOFFSETTO:-0500
TZNAME:CDT
DTSTART:20260308T080000
END:DAYLIGHT
BEGIN:STANDARD
TZOFFSETFROM:-0500
TZOFFSETTO:-0600
TZNAME:CST
DTSTART:20261101T070000
END:STANDARD
BEGIN:DAYLIGHT
TZOFFSETFROM:-0600
TZOFFSETTO:-0500
TZNAME:CDT
DTSTART:20270314T080000
END:DAYLIGHT
BEGIN:STANDARD
TZOFFSETFROM:-0500
TZOFFSETTO:-0600
TZNAME:CST
DTSTART:20271107T070000
END:STANDARD
END:VTIMEZONE
BEGIN:VEVENT
DTSTART;TZID=America/Chicago:20260902T183000
DTEND;TZID=America/Chicago:20260902T213000
DTSTAMP:20260423T004836
CREATED:20251224T010525Z
LAST-MODIFIED:20260102T201220Z
UID:10003024-1788373800-1788384600@maskatshrine.com
SUMMARY:Units Council
DESCRIPTION:
URL:https://maskatshrine.com/event/units-council-24/2026-09-02/
LOCATION:Maskat Shrine\, 5101 Henry S. Grace Fwy\, Wichita Falls\, TX\, 76302\, United States
CATEGORIES:Meeting
GEO:33.8506458;-98.4870434
X-APPLE-STRUCTURED-LOCATION;VALUE=URI;X-ADDRESS=Maskat Shrine 5101 Henry S. Grace Fwy Wichita Falls TX 76302 United States;X-APPLE-RADIUS=500;X-TITLE=5101 Henry S. Grace Fwy:geo:-98.4870434,33.8506458
END:VEVENT
BEGIN:VEVENT
DTSTART;VALUE=DATE:20260905
DTEND;VALUE=DATE:20260906
DTSTAMP:20260423T004836
CREATED:20260102T143852Z
LAST-MODIFIED:20260103T011115Z
UID:10003094-1788566400-1788652799@maskatshrine.com
SUMMARY:Provost Guard Practice
DESCRIPTION:
URL:https://maskatshrine.com/event/provost-guard-practice-6/2026-09-05/
CATEGORIES:Meeting
END:VEVENT
BEGIN:VEVENT
DTSTART;TZID=America/Chicago:20260908T183000
DTEND;TZID=America/Chicago:20260908T213000
DTSTAMP:20260423T004836
CREATED:20260102T191910Z
LAST-MODIFIED:20260103T010447Z
UID:10003139-1788892200-1788903000@maskatshrine.com
SUMMARY:Stated Meeting
DESCRIPTION:
URL:https://maskatshrine.com/event/stated-meeting-26/2026-09-08/
CATEGORIES:Meeting
END:VEVENT
BEGIN:VEVENT
DTSTART;VALUE=DATE:20260912
DTEND;VALUE=DATE:20260913
DTSTAMP:20260423T004836
CREATED:20260102T143852Z
LAST-MODIFIED:20260103T011115Z
UID:10003095-1789171200-1789257599@maskatshrine.com
SUMMARY:Provost Guard Practice
DESCRIPTION:
URL:https://maskatshrine.com/event/provost-guard-practice-6/2026-09-12/
CATEGORIES:Meeting
END:VEVENT
BEGIN:VEVENT
DTSTART;VALUE=DATE:20260919
DTEND;VALUE=DATE:20260920
DTSTAMP:20260423T004836
CREATED:20260102T143852Z
LAST-MODIFIED:20260103T011115Z
UID:10003096-1789776000-1789862399@maskatshrine.com
SUMMARY:Provost Guard Practice
DESCRIPTION:
URL:https://maskatshrine.com/event/provost-guard-practice-6/2026-09-19/
CATEGORIES:Meeting
END:VEVENT
BEGIN:VEVENT
DTSTART;VALUE=DATE:20260926
DTEND;VALUE=DATE:20260927
DTSTAMP:20260423T004836
CREATED:20260102T143852Z
LAST-MODIFIED:20260103T011115Z
UID:10003097-1790380800-1790467199@maskatshrine.com
SUMMARY:Provost Guard Practice
DESCRIPTION:
URL:https://maskatshrine.com/event/provost-guard-practice-6/2026-09-26/
CATEGORIES:Meeting
END:VEVENT
END:VCALENDAR