BEGIN:VCALENDAR
VERSION:2.0
PRODID:-//Maskat Shrine - ECPv6.15.13//NONSGML v1.0//EN
CALSCALE:GREGORIAN
METHOD:PUBLISH
X-WR-CALNAME:Maskat Shrine
X-ORIGINAL-URL:https://maskatshrine.com
X-WR-CALDESC:Events for Maskat Shrine
REFRESH-INTERVAL;VALUE=DURATION:PT1H
X-Robots-Tag:noindex
X-PUBLISHED-TTL:PT1H
BEGIN:VTIMEZONE
TZID:America/Chicago
BEGIN:DAYLIGHT
TZOFFSETFROM:-0600
TZOFFSETTO:-0500
TZNAME:CDT
DTSTART:20220313T080000
END:DAYLIGHT
BEGIN:STANDARD
TZOFFSETFROM:-0500
TZOFFSETTO:-0600
TZNAME:CST
DTSTART:20221106T070000
END:STANDARD
BEGIN:DAYLIGHT
TZOFFSETFROM:-0600
TZOFFSETTO:-0500
TZNAME:CDT
DTSTART:20230312T080000
END:DAYLIGHT
BEGIN:STANDARD
TZOFFSETFROM:-0500
TZOFFSETTO:-0600
TZNAME:CST
DTSTART:20231105T070000
END:STANDARD
BEGIN:DAYLIGHT
TZOFFSETFROM:-0600
TZOFFSETTO:-0500
TZNAME:CDT
DTSTART:20240310T080000
END:DAYLIGHT
BEGIN:STANDARD
TZOFFSETFROM:-0500
TZOFFSETTO:-0600
TZNAME:CST
DTSTART:20241103T070000
END:STANDARD
END:VTIMEZONE
BEGIN:VEVENT
DTSTART;VALUE=DATE:20230902
DTEND;VALUE=DATE:20230903
DTSTAMP:20260420T090128
CREATED:20230131T210615Z
LAST-MODIFIED:20230131T210615Z
UID:10001803-1693612800-1693699199@maskatshrine.com
SUMMARY:Steak Cook-Off
DESCRIPTION:
URL:https://maskatshrine.com/event/steak-cook-off-4/
CATEGORIES:Special Events
END:VEVENT
BEGIN:VEVENT
DTSTART;VALUE=DATE:20230904
DTEND;VALUE=DATE:20230905
DTSTAMP:20260420T090128
CREATED:20230131T210108Z
LAST-MODIFIED:20230131T210535Z
UID:10001800-1693785600-1693871999@maskatshrine.com
SUMMARY:SHRINE CIRCUS
DESCRIPTION:
URL:https://maskatshrine.com/event/maskat-shrine-circus-4/
CATEGORIES:Special Events
END:VEVENT
BEGIN:VEVENT
DTSTART;VALUE=DATE:20230922
DTEND;VALUE=DATE:20230925
DTSTAMP:20260420T090128
CREATED:20230131T210323Z
LAST-MODIFIED:20230131T210323Z
UID:10001802-1695340800-1695599999@maskatshrine.com
SUMMARY:Provost Guard Fall Invitational-San Antonio
DESCRIPTION:
URL:https://maskatshrine.com/event/provost-guard-fall-invitational-san-antonio/
CATEGORIES:Special Events
END:VEVENT
END:VCALENDAR