BEGIN:VCALENDAR
VERSION:2.0
PRODID:-//Maskat Shrine - ECPv6.15.13//NONSGML v1.0//EN
CALSCALE:GREGORIAN
METHOD:PUBLISH
X-ORIGINAL-URL:https://maskatshrine.com
X-WR-CALDESC:Events for Maskat Shrine
REFRESH-INTERVAL;VALUE=DURATION:PT1H
X-Robots-Tag:noindex
X-PUBLISHED-TTL:PT1H
BEGIN:VTIMEZONE
TZID:America/Chicago
BEGIN:DAYLIGHT
TZOFFSETFROM:-0600
TZOFFSETTO:-0500
TZNAME:CDT
DTSTART:20240310T080000
END:DAYLIGHT
BEGIN:STANDARD
TZOFFSETFROM:-0500
TZOFFSETTO:-0600
TZNAME:CST
DTSTART:20241103T070000
END:STANDARD
BEGIN:DAYLIGHT
TZOFFSETFROM:-0600
TZOFFSETTO:-0500
TZNAME:CDT
DTSTART:20250309T080000
END:DAYLIGHT
BEGIN:STANDARD
TZOFFSETFROM:-0500
TZOFFSETTO:-0600
TZNAME:CST
DTSTART:20251102T070000
END:STANDARD
BEGIN:DAYLIGHT
TZOFFSETFROM:-0600
TZOFFSETTO:-0500
TZNAME:CDT
DTSTART:20260308T080000
END:DAYLIGHT
BEGIN:STANDARD
TZOFFSETFROM:-0500
TZOFFSETTO:-0600
TZNAME:CST
DTSTART:20261101T070000
END:STANDARD
BEGIN:DAYLIGHT
TZOFFSETFROM:-0600
TZOFFSETTO:-0500
TZNAME:CDT
DTSTART:20270314T080000
END:DAYLIGHT
BEGIN:STANDARD
TZOFFSETFROM:-0500
TZOFFSETTO:-0600
TZNAME:CST
DTSTART:20271107T070000
END:STANDARD
END:VTIMEZONE
BEGIN:VEVENT
DTSTART;VALUE=DATE:20250629
DTEND;VALUE=DATE:20250704
DTSTAMP:20260425T072351
CREATED:20250202T230931Z
LAST-MODIFIED:20250202T231052Z
UID:10002898-1751155200-1751587199@maskatshrine.com
SUMMARY:IMPERIAL-Atlanta
DESCRIPTION:
URL:https://maskatshrine.com/event/imperial-atlanta/
CATEGORIES:Special Events
END:VEVENT
BEGIN:VEVENT
DTSTART;TZID=America/Chicago:20250913T180000
DTEND;TZID=America/Chicago:20250913T200000
DTSTAMP:20260425T072351
CREATED:20250203T000821Z
LAST-MODIFIED:20250203T000821Z
UID:10002923-1757786400-1757793600@maskatshrine.com
SUMMARY:PUZZLE PARTY
DESCRIPTION:
URL:https://maskatshrine.com/event/puzzle-party/
CATEGORIES:Special Events
END:VEVENT
BEGIN:VEVENT
DTSTART;VALUE=DATE:20250926
DTEND;VALUE=DATE:20250929
DTSTAMP:20260425T072351
CREATED:20250203T001508Z
LAST-MODIFIED:20250203T001533Z
UID:10002928-1758844800-1759103999@maskatshrine.com
SUMMARY:Provost Guard Fall Invitational-Suez
DESCRIPTION:
URL:https://maskatshrine.com/event/provost-guard-fall-invitational-suez/
CATEGORIES:Special Events
END:VEVENT
BEGIN:VEVENT
DTSTART;VALUE=DATE:20251010
DTEND;VALUE=DATE:20251013
DTSTAMP:20260425T072351
CREATED:20250203T001940Z
LAST-MODIFIED:20250203T001940Z
UID:10002930-1760054400-1760313599@maskatshrine.com
SUMMARY:Maskat Golf in Granbury
DESCRIPTION:
URL:https://maskatshrine.com/event/maskat-golf-in-granbury/
CATEGORIES:Special Events
END:VEVENT
BEGIN:VEVENT
DTSTART;VALUE=DATE:20251018
DTEND;VALUE=DATE:20251019
DTSTAMP:20260425T072351
CREATED:20250203T002254Z
LAST-MODIFIED:20250203T002254Z
UID:10002932-1760745600-1760831999@maskatshrine.com
SUMMARY:HIGH TEA
DESCRIPTION:
URL:https://maskatshrine.com/event/high-tea-2/
CATEGORIES:Special Events
END:VEVENT
BEGIN:VEVENT
DTSTART;TZID=America/Chicago:20251025T190000
DTEND;TZID=America/Chicago:20251025T230000
DTSTAMP:20260425T072351
CREATED:20250203T002513Z
LAST-MODIFIED:20250203T002513Z
UID:10002934-1761418800-1761433200@maskatshrine.com
SUMMARY:MASKAT HALLOWEEN PARTY
DESCRIPTION:
URL:https://maskatshrine.com/event/maskat-halloween-party/
CATEGORIES:Special Events
END:VEVENT
BEGIN:VEVENT
DTSTART;VALUE=DATE:20260117
DTEND;VALUE=DATE:20260118
DTSTAMP:20260425T072351
CREATED:20260102T144640Z
LAST-MODIFIED:20260102T144640Z
UID:10003112-1768608000-1768694399@maskatshrine.com
SUMMARY:Provost Guard Christmas
DESCRIPTION:
URL:https://maskatshrine.com/event/provost-guard-christmas-2/
CATEGORIES:Special Events
END:VEVENT
BEGIN:VEVENT
DTSTART;TZID=America/Chicago:20260127T170000
DTEND;TZID=America/Chicago:20260127T200000
DTSTAMP:20260425T072351
CREATED:20260102T151330Z
LAST-MODIFIED:20260102T151330Z
UID:10003125-1769533200-1769544000@maskatshrine.com
SUMMARY:East-West Shrine Bowl Watch Party
DESCRIPTION:
URL:https://maskatshrine.com/event/east-west-shrine-bowl-watch-party/
LOCATION:Maskat Shrine\, 5101 Henry S. Grace Fwy\, Wichita Falls\, TX\, 76302\, United States
CATEGORIES:Special Events
GEO:33.8506458;-98.4870434
X-APPLE-STRUCTURED-LOCATION;VALUE=URI;X-ADDRESS=Maskat Shrine 5101 Henry S. Grace Fwy Wichita Falls TX 76302 United States;X-APPLE-RADIUS=500;X-TITLE=5101 Henry S. Grace Fwy:geo:-98.4870434,33.8506458
END:VEVENT
BEGIN:VEVENT
DTSTART;VALUE=DATE:20260205
DTEND;VALUE=DATE:20260208
DTSTAMP:20260425T072351
CREATED:20260102T190159Z
LAST-MODIFIED:20260102T190159Z
UID:10003126-1770249600-1770508799@maskatshrine.com
SUMMARY:Divan Mid-Winter\, Austin
DESCRIPTION:
URL:https://maskatshrine.com/event/divan-mid-winter-austin/
CATEGORIES:Special Events
END:VEVENT
BEGIN:VEVENT
DTSTART;TZID=America/Chicago:20260214T183000
DTEND;TZID=America/Chicago:20260214T210000
DTSTAMP:20260425T072351
CREATED:20260102T193445Z
LAST-MODIFIED:20260102T193445Z
UID:10003145-1771093800-1771102800@maskatshrine.com
SUMMARY:Valentine Steak Dinner
DESCRIPTION:
URL:https://maskatshrine.com/event/valentine-steak-dinner/
LOCATION:Maskat Shrine\, 5101 Henry S. Grace Fwy\, Wichita Falls\, TX\, 76302\, United States
CATEGORIES:Special Events
GEO:33.8506458;-98.4870434
X-APPLE-STRUCTURED-LOCATION;VALUE=URI;X-ADDRESS=Maskat Shrine 5101 Henry S. Grace Fwy Wichita Falls TX 76302 United States;X-APPLE-RADIUS=500;X-TITLE=5101 Henry S. Grace Fwy:geo:-98.4870434,33.8506458
END:VEVENT
BEGIN:VEVENT
DTSTART;VALUE=DATE:20260228
DTEND;VALUE=DATE:20260301
DTSTAMP:20260425T072351
CREATED:20260102T194154Z
LAST-MODIFIED:20260102T194154Z
UID:10003149-1772236800-1772323199@maskatshrine.com
SUMMARY:Potentate's Ball
DESCRIPTION:
URL:https://maskatshrine.com/event/potentates-ball-7/
LOCATION:Maskat Shrine\, 5101 Henry S. Grace Fwy\, Wichita Falls\, TX\, 76302\, United States
CATEGORIES:Special Events
GEO:33.8506458;-98.4870434
X-APPLE-STRUCTURED-LOCATION;VALUE=URI;X-ADDRESS=Maskat Shrine 5101 Henry S. Grace Fwy Wichita Falls TX 76302 United States;X-APPLE-RADIUS=500;X-TITLE=5101 Henry S. Grace Fwy:geo:-98.4870434,33.8506458
END:VEVENT
BEGIN:VEVENT
DTSTART;VALUE=DATE:20260305
DTEND;VALUE=DATE:20260309
DTSTAMP:20260425T072351
CREATED:20260102T194531Z
LAST-MODIFIED:20260102T194531Z
UID:10003150-1772668800-1773014399@maskatshrine.com
SUMMARY:OG Trip
DESCRIPTION:
URL:https://maskatshrine.com/event/og-trip-4/
CATEGORIES:Special Events
END:VEVENT
BEGIN:VEVENT
DTSTART;TZID=America/Chicago:20260308T140000
DTEND;TZID=America/Chicago:20260308T180000
DTSTAMP:20260425T072351
CREATED:20260102T193155Z
LAST-MODIFIED:20260102T193155Z
UID:10003144-1772978400-1772992800@maskatshrine.com
SUMMARY:Super Bowl Party
DESCRIPTION:
URL:https://maskatshrine.com/event/super-bowl-party-7/
LOCATION:Maskat Shrine\, 5101 Henry S. Grace Fwy\, Wichita Falls\, TX\, 76302\, United States
CATEGORIES:Special Events
GEO:33.8506458;-98.4870434
X-APPLE-STRUCTURED-LOCATION;VALUE=URI;X-ADDRESS=Maskat Shrine 5101 Henry S. Grace Fwy Wichita Falls TX 76302 United States;X-APPLE-RADIUS=500;X-TITLE=5101 Henry S. Grace Fwy:geo:-98.4870434,33.8506458
END:VEVENT
BEGIN:VEVENT
DTSTART;VALUE=DATE:20260327
DTEND;VALUE=DATE:20260330
DTSTAMP:20260425T072351
CREATED:20260102T195144Z
LAST-MODIFIED:20260102T195144Z
UID:10003153-1774569600-1774828799@maskatshrine.com
SUMMARY:Provost Guard Mid-Winter\, Tyler
DESCRIPTION:
URL:https://maskatshrine.com/event/provost-guard-mid-winter-tyler/
CATEGORIES:Special Events
END:VEVENT
BEGIN:VEVENT
DTSTART;TZID=America/Chicago:20260404T120000
DTEND;TZID=America/Chicago:20260404T153000
DTSTAMP:20260425T072351
CREATED:20260102T201639Z
LAST-MODIFIED:20260102T201639Z
UID:10003156-1775304000-1775316600@maskatshrine.com
SUMMARY:Easter Egg Hunt
DESCRIPTION:
URL:https://maskatshrine.com/event/easter-egg-hunt-10/
CATEGORIES:Special Events
END:VEVENT
BEGIN:VEVENT
DTSTART;VALUE=DATE:20260405
DTEND;VALUE=DATE:20260406
DTSTAMP:20260425T072351
CREATED:20260102T201822Z
LAST-MODIFIED:20260102T201822Z
UID:10003158-1775347200-1775433599@maskatshrine.com
SUMMARY:EASTER
DESCRIPTION:
URL:https://maskatshrine.com/event/easter-7/
CATEGORIES:Special Events
END:VEVENT
BEGIN:VEVENT
DTSTART;TZID=America/Chicago:20260507T130000
DTEND;TZID=America/Chicago:20260507T180000
DTSTAMP:20260425T072351
CREATED:20260102T202258Z
LAST-MODIFIED:20260309T185242Z
UID:10003160-1778158800-1778176800@maskatshrine.com
SUMMARY:Maskat Shrine Golf Tournament-River Creek
DESCRIPTION:
URL:https://maskatshrine.com/event/maskat-shrine-golf-tournament-river-creek/
CATEGORIES:Special Events
END:VEVENT
BEGIN:VEVENT
DTSTART;TZID=America/Chicago:20260523T100000
DTEND;TZID=America/Chicago:20260523T130000
DTSTAMP:20260425T072351
CREATED:20260102T202818Z
LAST-MODIFIED:20260102T202925Z
UID:10003162-1779530400-1779541200@maskatshrine.com
SUMMARY:Shrine Family Picnic
DESCRIPTION:
URL:https://maskatshrine.com/event/shrine-family-picnic/
CATEGORIES:Special Events
END:VEVENT
BEGIN:VEVENT
DTSTART;VALUE=DATE:20260603
DTEND;VALUE=DATE:20260607
DTSTAMP:20260425T072351
CREATED:20260102T214609Z
LAST-MODIFIED:20260102T214609Z
UID:10003164-1780444800-1780790399@maskatshrine.com
SUMMARY:Oil Bowl
DESCRIPTION:
URL:https://maskatshrine.com/event/oil-bowl-12/
CATEGORIES:Special Events
END:VEVENT
BEGIN:VEVENT
DTSTART;VALUE=DATE:20260611
DTEND;VALUE=DATE:20260615
DTSTAMP:20260425T072351
CREATED:20260102T215156Z
LAST-MODIFIED:20260102T215422Z
UID:10003165-1781136000-1781481599@maskatshrine.com
SUMMARY:TSA-Austin
DESCRIPTION:
URL:https://maskatshrine.com/event/tsa-austin/
CATEGORIES:Special Events
END:VEVENT
BEGIN:VEVENT
DTSTART;VALUE=DATE:20260712
DTEND;VALUE=DATE:20260717
DTSTAMP:20260425T072351
CREATED:20260102T221347Z
LAST-MODIFIED:20260102T221347Z
UID:10003168-1783814400-1784246399@maskatshrine.com
SUMMARY:Imperial-Tampa
DESCRIPTION:
URL:https://maskatshrine.com/event/imperial-tampa/
CATEGORIES:Special Events
END:VEVENT
BEGIN:VEVENT
DTSTART;VALUE=DATE:20260808
DTEND;VALUE=DATE:20260816
DTSTAMP:20260425T072351
CREATED:20260102T221642Z
LAST-MODIFIED:20260102T221642Z
UID:10003169-1786147200-1786838399@maskatshrine.com
SUMMARY:Potentate's Trip
DESCRIPTION:
URL:https://maskatshrine.com/event/potentates-trip-6/
CATEGORIES:Special Events
END:VEVENT
BEGIN:VEVENT
DTSTART;VALUE=DATE:20260918
DTEND;VALUE=DATE:20260921
DTSTAMP:20260425T072351
CREATED:20260102T222942Z
LAST-MODIFIED:20260102T222942Z
UID:10003178-1789689600-1789948799@maskatshrine.com
SUMMARY:Shrine Circus
DESCRIPTION:
URL:https://maskatshrine.com/event/shrine-circus-2/
CATEGORIES:Special Events
END:VEVENT
BEGIN:VEVENT
DTSTART;VALUE=DATE:20260925
DTEND;VALUE=DATE:20260928
DTSTAMP:20260425T072351
CREATED:20260102T223650Z
LAST-MODIFIED:20260102T223650Z
UID:10003181-1790294400-1790553599@maskatshrine.com
SUMMARY:Provost Guard Fall Invitational-Maskat
DESCRIPTION:
URL:https://maskatshrine.com/event/provost-guard-fall-invitational-maskat/
CATEGORIES:Special Events
END:VEVENT
BEGIN:VEVENT
DTSTART;VALUE=DATE:20261009
DTEND;VALUE=DATE:20261012
DTSTAMP:20260425T072351
CREATED:20260102T224036Z
LAST-MODIFIED:20260102T224036Z
UID:10003182-1791504000-1791763199@maskatshrine.com
SUMMARY:Golf Christmas in Granbury
DESCRIPTION:
URL:https://maskatshrine.com/event/golf-christmas-in-granbury-2/
CATEGORIES:Special Events
END:VEVENT
BEGIN:VEVENT
DTSTART;TZID=America/Chicago:20261017T130000
DTEND;TZID=America/Chicago:20261017T170000
DTSTAMP:20260425T072351
CREATED:20260102T224609Z
LAST-MODIFIED:20260102T224609Z
UID:10003185-1792242000-1792256400@maskatshrine.com
SUMMARY:Ceremonial
DESCRIPTION:
URL:https://maskatshrine.com/event/ceremonial-6/
CATEGORIES:Special Events
END:VEVENT
BEGIN:VEVENT
DTSTART;TZID=America/Chicago:20261024T180000
DTEND;TZID=America/Chicago:20261024T233000
DTSTAMP:20260425T072351
CREATED:20260102T224847Z
LAST-MODIFIED:20260102T225514Z
UID:10003190-1792864800-1792884600@maskatshrine.com
SUMMARY:Halloween Party
DESCRIPTION:
URL:https://maskatshrine.com/event/halloween-party-2/
CATEGORIES:Special Events
END:VEVENT
BEGIN:VEVENT
DTSTART;VALUE=DATE:20261031
DTEND;VALUE=DATE:20261101
DTSTAMP:20260425T072351
CREATED:20260102T224956Z
LAST-MODIFIED:20260102T224956Z
UID:10003187-1793404800-1793491199@maskatshrine.com
SUMMARY:Rib Cook
DESCRIPTION:
URL:https://maskatshrine.com/event/rib-cook-3/
CATEGORIES:Special Events
END:VEVENT
BEGIN:VEVENT
DTSTART;VALUE=DATE:20261212
DTEND;VALUE=DATE:20261213
DTSTAMP:20260425T072351
CREATED:20260103T010837Z
LAST-MODIFIED:20260103T010837Z
UID:10003198-1797033600-1797119999@maskatshrine.com
SUMMARY:Divan Christmas Party
DESCRIPTION:
URL:https://maskatshrine.com/event/divan-christmas-party/
CATEGORIES:Special Events
END:VEVENT
END:VCALENDAR