BEGIN:VCALENDAR
VERSION:2.0
PRODID:-//Maskat Shrine - ECPv6.15.13//NONSGML v1.0//EN
CALSCALE:GREGORIAN
METHOD:PUBLISH
X-ORIGINAL-URL:https://maskatshrine.com
X-WR-CALDESC:Events for Maskat Shrine
REFRESH-INTERVAL;VALUE=DURATION:PT1H
X-Robots-Tag:noindex
X-PUBLISHED-TTL:PT1H
BEGIN:VTIMEZONE
TZID:America/Chicago
BEGIN:DAYLIGHT
TZOFFSETFROM:-0600
TZOFFSETTO:-0500
TZNAME:CDT
DTSTART:20230312T080000
END:DAYLIGHT
BEGIN:STANDARD
TZOFFSETFROM:-0500
TZOFFSETTO:-0600
TZNAME:CST
DTSTART:20231105T070000
END:STANDARD
BEGIN:DAYLIGHT
TZOFFSETFROM:-0600
TZOFFSETTO:-0500
TZNAME:CDT
DTSTART:20240310T080000
END:DAYLIGHT
BEGIN:STANDARD
TZOFFSETFROM:-0500
TZOFFSETTO:-0600
TZNAME:CST
DTSTART:20241103T070000
END:STANDARD
BEGIN:DAYLIGHT
TZOFFSETFROM:-0600
TZOFFSETTO:-0500
TZNAME:CDT
DTSTART:20250309T080000
END:DAYLIGHT
BEGIN:STANDARD
TZOFFSETFROM:-0500
TZOFFSETTO:-0600
TZNAME:CST
DTSTART:20251102T070000
END:STANDARD
BEGIN:DAYLIGHT
TZOFFSETFROM:-0600
TZOFFSETTO:-0500
TZNAME:CDT
DTSTART:20260308T080000
END:DAYLIGHT
BEGIN:STANDARD
TZOFFSETFROM:-0500
TZOFFSETTO:-0600
TZNAME:CST
DTSTART:20261101T070000
END:STANDARD
END:VTIMEZONE
BEGIN:VEVENT
DTSTART;VALUE=DATE:20240321
DTEND;VALUE=DATE:20240324
DTSTAMP:20260419T175258
CREATED:20231214T201304Z
LAST-MODIFIED:20231214T201304Z
UID:10002095-1710979200-1711238399@maskatshrine.com
SUMMARY:PG Mid-Winter\, Corpus Christi
DESCRIPTION:
URL:https://maskatshrine.com/event/pg-mid-winter-corpus-christi/
CATEGORIES:Special Events
END:VEVENT
BEGIN:VEVENT
DTSTART;VALUE=DATE:20240330
DTEND;VALUE=DATE:20240331
DTSTAMP:20260419T175258
CREATED:20231214T202710Z
LAST-MODIFIED:20231214T202710Z
UID:10002096-1711756800-1711843199@maskatshrine.com
SUMMARY:Easter Egg Hunt
DESCRIPTION:
URL:https://maskatshrine.com/event/easter-egg-hunt-8/
CATEGORIES:Special Events
END:VEVENT
BEGIN:VEVENT
DTSTART;VALUE=DATE:20240406
DTEND;VALUE=DATE:20240407
DTSTAMP:20260419T175258
CREATED:20231214T203943Z
LAST-MODIFIED:20240212T193823Z
UID:10002098-1712361600-1712447999@maskatshrine.com
SUMMARY:Texas High Tea
DESCRIPTION:
URL:https://maskatshrine.com/event/texas-high-tea/
CATEGORIES:Special Events
END:VEVENT
BEGIN:VEVENT
DTSTART;VALUE=DATE:20240413
DTEND;VALUE=DATE:20240414
DTSTAMP:20260419T175258
CREATED:20231214T203813Z
LAST-MODIFIED:20231214T204053Z
UID:10002097-1712966400-1713052799@maskatshrine.com
SUMMARY:Past Potentate Appreciation Dinner
DESCRIPTION:
URL:https://maskatshrine.com/event/past-potentate-appreciation-dinner/
CATEGORIES:Special Events
END:VEVENT
BEGIN:VEVENT
DTSTART;VALUE=DATE:20240417
DTEND;VALUE=DATE:20240420
DTSTAMP:20260419T175258
CREATED:20240212T194317Z
LAST-MODIFIED:20240212T194317Z
UID:10002175-1713312000-1713571199@maskatshrine.com
SUMMARY:Golf Mid-Winter - Fort Worth
DESCRIPTION:
URL:https://maskatshrine.com/event/golf-mid-winter-fort-worth/
CATEGORIES:Special Events
END:VEVENT
BEGIN:VEVENT
DTSTART;VALUE=DATE:20240427
DTEND;VALUE=DATE:20240428
DTSTAMP:20260419T175258
CREATED:20231214T204405Z
LAST-MODIFIED:20231214T204405Z
UID:10002100-1714176000-1714262399@maskatshrine.com
SUMMARY:PG Fun Shoot
DESCRIPTION:
URL:https://maskatshrine.com/event/pg-fun-shoot/
CATEGORIES:Special Events
END:VEVENT
BEGIN:VEVENT
DTSTART;VALUE=DATE:20240503
DTEND;VALUE=DATE:20240504
DTSTAMP:20260419T175258
CREATED:20231214T204633Z
LAST-MODIFIED:20231214T204633Z
UID:10002101-1714694400-1714780799@maskatshrine.com
SUMMARY:Maskat Golf Tournament
DESCRIPTION:
URL:https://maskatshrine.com/event/maskat-golf-tournament-7/
CATEGORIES:Special Events
END:VEVENT
BEGIN:VEVENT
DTSTART;VALUE=DATE:20240504
DTEND;VALUE=DATE:20240505
DTSTAMP:20260419T175258
CREATED:20240117T161030Z
LAST-MODIFIED:20240506T171644Z
UID:10002148-1714780800-1714867199@maskatshrine.com
SUMMARY:Bing's Picnic
DESCRIPTION:
URL:https://maskatshrine.com/event/bings-picnic/
CATEGORIES:Special Events
END:VEVENT
BEGIN:VEVENT
DTSTART;VALUE=DATE:20240518
DTEND;VALUE=DATE:20240519
DTSTAMP:20260419T175258
CREATED:20231214T205713Z
LAST-MODIFIED:20240506T171044Z
UID:10002106-1715990400-1716076799@maskatshrine.com
SUMMARY:Ladies' Brunch and Style Show
DESCRIPTION:
URL:https://maskatshrine.com/event/ladies-brunch-and-style-show/
CATEGORIES:Special Events
END:VEVENT
BEGIN:VEVENT
DTSTART;VALUE=DATE:20240606
DTEND;VALUE=DATE:20240609
DTSTAMP:20260419T175258
CREATED:20240104T193349Z
LAST-MODIFIED:20240104T193349Z
UID:10002109-1717632000-1717891199@maskatshrine.com
SUMMARY:TSA-San Angelo
DESCRIPTION:
URL:https://maskatshrine.com/event/tsa-san-angelo/
CATEGORIES:Special Events
END:VEVENT
BEGIN:VEVENT
DTSTART;VALUE=DATE:20240612
DTEND;VALUE=DATE:20240616
DTSTAMP:20260419T175258
CREATED:20240104T193529Z
LAST-MODIFIED:20240104T193529Z
UID:10002110-1718150400-1718495999@maskatshrine.com
SUMMARY:OIL BOWL
DESCRIPTION:
URL:https://maskatshrine.com/event/oil-bowl-10/
CATEGORIES:Special Events
END:VEVENT
BEGIN:VEVENT
DTSTART;VALUE=DATE:20240626
DTEND;VALUE=DATE:20240630
DTSTAMP:20260419T175258
CREATED:20240104T193829Z
LAST-MODIFIED:20240104T193926Z
UID:10002111-1719360000-1719705599@maskatshrine.com
SUMMARY:POTENTATE'S TRIP - Reno
DESCRIPTION:
URL:https://maskatshrine.com/event/potentates-trip-4/
CATEGORIES:Special Events
END:VEVENT
BEGIN:VEVENT
DTSTART;VALUE=DATE:20240630
DTEND;VALUE=DATE:20240705
DTSTAMP:20260419T175258
CREATED:20240104T194039Z
LAST-MODIFIED:20240104T194039Z
UID:10002112-1719705600-1720137599@maskatshrine.com
SUMMARY:IMPERIAL-Reno
DESCRIPTION:
URL:https://maskatshrine.com/event/imperial-reno/
CATEGORIES:Special Events
END:VEVENT
BEGIN:VEVENT
DTSTART;VALUE=DATE:20240720
DTEND;VALUE=DATE:20240721
DTSTAMP:20260419T175258
CREATED:20240104T194721Z
LAST-MODIFIED:20240104T194721Z
UID:10002116-1721433600-1721519999@maskatshrine.com
SUMMARY:Ice Cream Freeze & Pot Luck
DESCRIPTION:
URL:https://maskatshrine.com/event/ice-cream-freeze-pot-luck/
CATEGORIES:Special Events
END:VEVENT
BEGIN:VEVENT
DTSTART;VALUE=DATE:20240817
DTEND;VALUE=DATE:20240818
DTSTAMP:20260419T175258
CREATED:20240104T195648Z
LAST-MODIFIED:20240104T195648Z
UID:10002122-1723852800-1723939199@maskatshrine.com
SUMMARY:Pizza & Puzzle Party
DESCRIPTION:
URL:https://maskatshrine.com/event/pizza-puzzle-party/
CATEGORIES:Special Events
END:VEVENT
BEGIN:VEVENT
DTSTART;VALUE=DATE:20240926
DTEND;VALUE=DATE:20240929
DTSTAMP:20260419T175258
CREATED:20240104T202425Z
LAST-MODIFIED:20240104T202425Z
UID:10002147-1727308800-1727567999@maskatshrine.com
SUMMARY:PG Fall Invitational-Tyler
DESCRIPTION:
URL:https://maskatshrine.com/event/pg-fall-invitational-tyler/
CATEGORIES:Special Events
END:VEVENT
BEGIN:VEVENT
DTSTART;VALUE=DATE:20241003
DTEND;VALUE=DATE:20241006
DTSTAMP:20260419T175258
CREATED:20240117T161555Z
LAST-MODIFIED:20240117T161555Z
UID:10002149-1727913600-1728172799@maskatshrine.com
SUMMARY:Golf Christmas in Granbury
DESCRIPTION:
URL:https://maskatshrine.com/event/golf-christmas-in-granbury/
CATEGORIES:Special Events
END:VEVENT
BEGIN:VEVENT
DTSTART;VALUE=DATE:20241012
DTEND;VALUE=DATE:20241013
DTSTAMP:20260419T175258
CREATED:20240117T161728Z
LAST-MODIFIED:20240117T161728Z
UID:10002150-1728691200-1728777599@maskatshrine.com
SUMMARY:Fall Ceremonial
DESCRIPTION:
URL:https://maskatshrine.com/event/fall-ceremonial/
CATEGORIES:Special Events
END:VEVENT
BEGIN:VEVENT
DTSTART;VALUE=DATE:20241019
DTEND;VALUE=DATE:20241020
DTSTAMP:20260419T175258
CREATED:20240911T172049Z
LAST-MODIFIED:20240911T172049Z
UID:10002180-1729296000-1729382399@maskatshrine.com
SUMMARY:Rib Cook
DESCRIPTION:
URL:https://maskatshrine.com/event/rib-cook-2/
CATEGORIES:Special Events
END:VEVENT
BEGIN:VEVENT
DTSTART;VALUE=DATE:20241026
DTEND;VALUE=DATE:20241027
DTSTAMP:20260419T175258
CREATED:20240117T162025Z
LAST-MODIFIED:20240117T162025Z
UID:10002152-1729900800-1729987199@maskatshrine.com
SUMMARY:Halloween Masquerade Party
DESCRIPTION:
URL:https://maskatshrine.com/event/halloween-masquerade-party/
CATEGORIES:Special Events
END:VEVENT
BEGIN:VEVENT
DTSTART;TZID=America/Chicago:20241116T080000
DTEND;TZID=America/Chicago:20241116T170000
DTSTAMP:20260419T175258
CREATED:20240117T163631Z
LAST-MODIFIED:20240117T163631Z
UID:10002160-1731744000-1731776400@maskatshrine.com
SUMMARY:Military Thanksgiving Dinner
DESCRIPTION:
URL:https://maskatshrine.com/event/military-thanksgiving-dinner/
CATEGORIES:Special Events
END:VEVENT
BEGIN:VEVENT
DTSTART;TZID=America/Chicago:20241202T080000
DTEND;TZID=America/Chicago:20241202T170000
DTSTAMP:20260419T175258
CREATED:20240117T164559Z
LAST-MODIFIED:20240117T164559Z
UID:10002165-1733126400-1733158800@maskatshrine.com
SUMMARY:Foster Kid's Party
DESCRIPTION:
URL:https://maskatshrine.com/event/foster-kids-party-3/
CATEGORIES:Special Events
END:VEVENT
BEGIN:VEVENT
DTSTART;VALUE=DATE:20241206
DTEND;VALUE=DATE:20241209
DTSTAMP:20260419T175258
CREATED:20240117T164833Z
LAST-MODIFIED:20240117T164833Z
UID:10002166-1733443200-1733702399@maskatshrine.com
SUMMARY:Festival of Trees
DESCRIPTION:
URL:https://maskatshrine.com/event/festival-of-trees/
CATEGORIES:Special Events
END:VEVENT
BEGIN:VEVENT
DTSTART;TZID=America/Chicago:20250118T130000
DTEND;TZID=America/Chicago:20250118T150000
DTSTAMP:20260419T175258
CREATED:20250202T035050Z
LAST-MODIFIED:20250202T035050Z
UID:10002581-1737205200-1737212400@maskatshrine.com
SUMMARY:MEET THE DIVAN
DESCRIPTION:
URL:https://maskatshrine.com/event/meet-the-divan/
CATEGORIES:Special Events
END:VEVENT
BEGIN:VEVENT
DTSTART;VALUE=DATE:20250206
DTEND;VALUE=DATE:20250209
DTSTAMP:20260419T175258
CREATED:20250202T034423Z
LAST-MODIFIED:20250202T034527Z
UID:10002314-1738800000-1739059199@maskatshrine.com
SUMMARY:Divan Mid-Winter
DESCRIPTION:
URL:https://maskatshrine.com/event/divan-mid-winter-3/
CATEGORIES:Special Events
END:VEVENT
BEGIN:VEVENT
DTSTART;TZID=America/Chicago:20250209T140000
DTEND;TZID=America/Chicago:20250209T190000
DTSTAMP:20260419T175258
CREATED:20250202T041633Z
LAST-MODIFIED:20250202T041633Z
UID:10002846-1739109600-1739127600@maskatshrine.com
SUMMARY:SUPERBOWL PARTY
DESCRIPTION:
URL:https://maskatshrine.com/event/superbowl-party-2/
CATEGORIES:Special Events
END:VEVENT
BEGIN:VEVENT
DTSTART;TZID=America/Chicago:20250222T183000
DTEND;TZID=America/Chicago:20250222T230000
DTSTAMP:20260419T175258
CREATED:20250202T042506Z
LAST-MODIFIED:20250202T042506Z
UID:10002849-1740249000-1740265200@maskatshrine.com
SUMMARY:POTENTATE'S BALL
DESCRIPTION:Recption-6:30pm; Intros-7:45; Dance-8pm
URL:https://maskatshrine.com/event/potentates-ball-6/
CATEGORIES:Special Events
END:VEVENT
BEGIN:VEVENT
DTSTART;VALUE=DATE:20250320
DTEND;VALUE=DATE:20250324
DTSTAMP:20260419T175258
CREATED:20250202T221216Z
LAST-MODIFIED:20250202T221216Z
UID:10002867-1742428800-1742774399@maskatshrine.com
SUMMARY:OG TRIP
DESCRIPTION:
URL:https://maskatshrine.com/event/og-trip-3/
CATEGORIES:Special Events
END:VEVENT
BEGIN:VEVENT
DTSTART;VALUE=DATE:20250328
DTEND;VALUE=DATE:20250330
DTSTAMP:20260419T175258
CREATED:20250202T221604Z
LAST-MODIFIED:20250202T221604Z
UID:10002869-1743120000-1743292799@maskatshrine.com
SUMMARY:PROVOST GUARD MIDWINTER-Wihita Falls
DESCRIPTION:
URL:https://maskatshrine.com/event/provost-guard-midwinter-wihita-falls/
CATEGORIES:Special Events
END:VEVENT
BEGIN:VEVENT
DTSTART;VALUE=DATE:20250410
DTEND;VALUE=DATE:20250414
DTSTAMP:20260419T175258
CREATED:20250202T222003Z
LAST-MODIFIED:20250202T222452Z
UID:10002871-1744243200-1744588799@maskatshrine.com
SUMMARY:POTENTATE'S TRIP
DESCRIPTION:
URL:https://maskatshrine.com/event/potentates-trip-5/
CATEGORIES:Special Events
END:VEVENT
END:VCALENDAR