BEGIN:VCALENDAR
VERSION:2.0
PRODID:-//Maskat Shrine - ECPv6.15.13//NONSGML v1.0//EN
CALSCALE:GREGORIAN
METHOD:PUBLISH
X-ORIGINAL-URL:https://maskatshrine.com
X-WR-CALDESC:Events for Maskat Shrine
REFRESH-INTERVAL;VALUE=DURATION:PT1H
X-Robots-Tag:noindex
X-PUBLISHED-TTL:PT1H
BEGIN:VTIMEZONE
TZID:America/Chicago
BEGIN:DAYLIGHT
TZOFFSETFROM:-0600
TZOFFSETTO:-0500
TZNAME:CDT
DTSTART:20250309T080000
END:DAYLIGHT
BEGIN:STANDARD
TZOFFSETFROM:-0500
TZOFFSETTO:-0600
TZNAME:CST
DTSTART:20251102T070000
END:STANDARD
BEGIN:DAYLIGHT
TZOFFSETFROM:-0600
TZOFFSETTO:-0500
TZNAME:CDT
DTSTART:20260308T080000
END:DAYLIGHT
BEGIN:STANDARD
TZOFFSETFROM:-0500
TZOFFSETTO:-0600
TZNAME:CST
DTSTART:20261101T070000
END:STANDARD
BEGIN:DAYLIGHT
TZOFFSETFROM:-0600
TZOFFSETTO:-0500
TZNAME:CDT
DTSTART:20270314T080000
END:DAYLIGHT
BEGIN:STANDARD
TZOFFSETFROM:-0500
TZOFFSETTO:-0600
TZNAME:CST
DTSTART:20271107T070000
END:STANDARD
END:VTIMEZONE
BEGIN:VEVENT
DTSTART;VALUE=DATE:20260418
DTEND;VALUE=DATE:20260419
DTSTAMP:20260419T154630
CREATED:20260102T143852Z
LAST-MODIFIED:20260103T011115Z
UID:10003074-1776470400-1776556799@maskatshrine.com
SUMMARY:Provost Guard Practice
DESCRIPTION:
URL:https://maskatshrine.com/event/provost-guard-practice-6/2026-04-18/
CATEGORIES:Meeting
END:VEVENT
BEGIN:VEVENT
DTSTART;TZID=America/Chicago:20260416T173000
DTEND;TZID=America/Chicago:20260416T183000
DTSTAMP:20260419T154630
CREATED:20260102T140843Z
LAST-MODIFIED:20260102T140843Z
UID:10003040-1776360600-1776364200@maskatshrine.com
SUMMARY:Happy Hour
DESCRIPTION:
URL:https://maskatshrine.com/event/happy-hour-5/2026-04-16/
CATEGORIES:Ladies Events,Miscellaneous
END:VEVENT
BEGIN:VEVENT
DTSTART;TZID=America/Chicago:20260414T183000
DTEND;TZID=America/Chicago:20260414T213000
DTSTAMP:20260419T154630
CREATED:20260102T191910Z
LAST-MODIFIED:20260103T010447Z
UID:10003134-1776191400-1776202200@maskatshrine.com
SUMMARY:Stated Meeting
DESCRIPTION:
URL:https://maskatshrine.com/event/stated-meeting-26/2026-04-14/
CATEGORIES:Meeting
END:VEVENT
BEGIN:VEVENT
DTSTART;TZID=America/Chicago:20260413T190000
DTEND;TZID=America/Chicago:20260413T210000
DTSTAMP:20260419T154630
CREATED:20250202T040044Z
LAST-MODIFIED:20260103T010229Z
UID:10002637-1776106800-1776114000@maskatshrine.com
SUMMARY:Nile Danceers
DESCRIPTION:
URL:https://maskatshrine.com/event/nile-dancers-6-3-2/2026-04-13/
CATEGORIES:Ladies Events
END:VEVENT
BEGIN:VEVENT
DTSTART;TZID=America/Chicago:20260413T183000
DTEND;TZID=America/Chicago:20260413T210000
DTSTAMP:20260419T154630
CREATED:20260102T141926Z
LAST-MODIFIED:20260102T141926Z
UID:10003052-1776105000-1776114000@maskatshrine.com
SUMMARY:Nile Fun Band
DESCRIPTION:
URL:https://maskatshrine.com/event/nile-fun-band-16/2026-04-13/
CATEGORIES:Ladies Events
END:VEVENT
BEGIN:VEVENT
DTSTART;VALUE=DATE:20260411
DTEND;VALUE=DATE:20260412
DTSTAMP:20260419T154630
CREATED:20260102T143852Z
LAST-MODIFIED:20260103T011115Z
UID:10003073-1775865600-1775951999@maskatshrine.com
SUMMARY:Provost Guard Practice
DESCRIPTION:
URL:https://maskatshrine.com/event/provost-guard-practice-6/2026-04-11/
CATEGORIES:Meeting
END:VEVENT
BEGIN:VEVENT
DTSTART;TZID=America/Chicago:20260408T183000
DTEND;TZID=America/Chicago:20260408T213000
DTSTAMP:20260419T154630
CREATED:20260102T201333Z
LAST-MODIFIED:20260102T201333Z
UID:10003155-1775673000-1775683800@maskatshrine.com
SUMMARY:Units Council
DESCRIPTION:
URL:https://maskatshrine.com/event/units-council-25/
LOCATION:Maskat Shrine\, 5101 Henry S. Grace Fwy\, Wichita Falls\, TX\, 76302\, United States
CATEGORIES:Meeting
GEO:33.8506458;-98.4870434
X-APPLE-STRUCTURED-LOCATION;VALUE=URI;X-ADDRESS=Maskat Shrine 5101 Henry S. Grace Fwy Wichita Falls TX 76302 United States;X-APPLE-RADIUS=500;X-TITLE=5101 Henry S. Grace Fwy:geo:-98.4870434,33.8506458
END:VEVENT
BEGIN:VEVENT
DTSTART;TZID=America/Chicago:20260408T130000
DTEND;TZID=America/Chicago:20260408T150000
DTSTAMP:20260419T154630
CREATED:20251224T010202Z
LAST-MODIFIED:20251224T010202Z
UID:10002959-1775653200-1775660400@maskatshrine.com
SUMMARY:Shrine Ladies
DESCRIPTION:
URL:https://maskatshrine.com/event/shrine-ladies-13/2026-04-08/
CATEGORIES:Shrine Ladies
END:VEVENT
BEGIN:VEVENT
DTSTART;TZID=America/Chicago:20260406T190000
DTEND;TZID=America/Chicago:20260406T210000
DTSTAMP:20260419T154630
CREATED:20250202T040044Z
LAST-MODIFIED:20260103T010229Z
UID:10002636-1775502000-1775509200@maskatshrine.com
SUMMARY:Nile Danceers
DESCRIPTION:
URL:https://maskatshrine.com/event/nile-dancers-6-3-2/2026-04-06/
CATEGORIES:Ladies Events
END:VEVENT
BEGIN:VEVENT
DTSTART;VALUE=DATE:20260405
DTEND;VALUE=DATE:20260406
DTSTAMP:20260419T154630
CREATED:20260102T201822Z
LAST-MODIFIED:20260102T201822Z
UID:10003158-1775347200-1775433599@maskatshrine.com
SUMMARY:EASTER
DESCRIPTION:
URL:https://maskatshrine.com/event/easter-7/
CATEGORIES:Special Events
END:VEVENT
BEGIN:VEVENT
DTSTART;TZID=America/Chicago:20260404T120000
DTEND;TZID=America/Chicago:20260404T153000
DTSTAMP:20260419T154630
CREATED:20260102T201639Z
LAST-MODIFIED:20260102T201639Z
UID:10003156-1775304000-1775316600@maskatshrine.com
SUMMARY:Easter Egg Hunt
DESCRIPTION:
URL:https://maskatshrine.com/event/easter-egg-hunt-10/
CATEGORIES:Special Events
END:VEVENT
BEGIN:VEVENT
DTSTART;VALUE=DATE:20260404
DTEND;VALUE=DATE:20260405
DTSTAMP:20260419T154630
CREATED:20260102T201720Z
LAST-MODIFIED:20260102T201720Z
UID:10003157-1775260800-1775347199@maskatshrine.com
SUMMARY:Building Rental
DESCRIPTION:
URL:https://maskatshrine.com/event/building-rental-90/
CATEGORIES:Rentals
END:VEVENT
BEGIN:VEVENT
DTSTART;VALUE=DATE:20260404
DTEND;VALUE=DATE:20260405
DTSTAMP:20260419T154630
CREATED:20260102T143852Z
LAST-MODIFIED:20260103T011115Z
UID:10003072-1775260800-1775347199@maskatshrine.com
SUMMARY:Provost Guard Practice
DESCRIPTION:
URL:https://maskatshrine.com/event/provost-guard-practice-6/2026-04-04/
CATEGORIES:Meeting
END:VEVENT
BEGIN:VEVENT
DTSTART;TZID=America/Chicago:20260402T190000
DTEND;TZID=America/Chicago:20260402T213000
DTSTAMP:20260419T154630
CREATED:20251224T011651Z
LAST-MODIFIED:20260102T222237Z
UID:10003035-1775156400-1775165400@maskatshrine.com
SUMMARY:Nile Stated Session
DESCRIPTION:
URL:https://maskatshrine.com/event/nile-stated-session-15/2026-04-02/
CATEGORIES:Ladies Events
END:VEVENT
BEGIN:VEVENT
DTSTART;TZID=America/Chicago:20260330T190000
DTEND;TZID=America/Chicago:20260330T210000
DTSTAMP:20260419T154630
CREATED:20250202T040044Z
LAST-MODIFIED:20260103T010229Z
UID:10002635-1774897200-1774904400@maskatshrine.com
SUMMARY:Nile Danceers
DESCRIPTION:
URL:https://maskatshrine.com/event/nile-dancers-6-3-2/2026-03-30/
CATEGORIES:Ladies Events
END:VEVENT
BEGIN:VEVENT
DTSTART;VALUE=DATE:20260329
DTEND;VALUE=DATE:20260330
DTSTAMP:20260419T154630
CREATED:20260102T195249Z
LAST-MODIFIED:20260102T195249Z
UID:10003154-1774742400-1774828799@maskatshrine.com
SUMMARY:Building Rental
DESCRIPTION:
URL:https://maskatshrine.com/event/building-rental-89/
CATEGORIES:Rentals
END:VEVENT
BEGIN:VEVENT
DTSTART;VALUE=DATE:20260328
DTEND;VALUE=DATE:20260329
DTSTAMP:20260419T154630
CREATED:20260102T143852Z
LAST-MODIFIED:20260103T011115Z
UID:10003071-1774656000-1774742399@maskatshrine.com
SUMMARY:Provost Guard Practice
DESCRIPTION:
URL:https://maskatshrine.com/event/provost-guard-practice-6/2026-03-28/
CATEGORIES:Meeting
END:VEVENT
BEGIN:VEVENT
DTSTART;VALUE=DATE:20260327
DTEND;VALUE=DATE:20260330
DTSTAMP:20260419T154630
CREATED:20260102T195144Z
LAST-MODIFIED:20260102T195144Z
UID:10003153-1774569600-1774828799@maskatshrine.com
SUMMARY:Provost Guard Mid-Winter\, Tyler
DESCRIPTION:
URL:https://maskatshrine.com/event/provost-guard-mid-winter-tyler/
CATEGORIES:Special Events
END:VEVENT
BEGIN:VEVENT
DTSTART;TZID=America/Chicago:20260323T190000
DTEND;TZID=America/Chicago:20260323T210000
DTSTAMP:20260419T154630
CREATED:20250202T040044Z
LAST-MODIFIED:20260103T010229Z
UID:10002634-1774292400-1774299600@maskatshrine.com
SUMMARY:Nile Danceers
DESCRIPTION:
URL:https://maskatshrine.com/event/nile-dancers-6-3-2/2026-03-23/
CATEGORIES:Ladies Events
END:VEVENT
BEGIN:VEVENT
DTSTART;VALUE=DATE:20260322
DTEND;VALUE=DATE:20260323
DTSTAMP:20260419T154630
CREATED:20260102T195013Z
LAST-MODIFIED:20260102T195013Z
UID:10003152-1774137600-1774223999@maskatshrine.com
SUMMARY:Building Rental
DESCRIPTION:
URL:https://maskatshrine.com/event/building-rental-88/
CATEGORIES:Rentals
END:VEVENT
BEGIN:VEVENT
DTSTART;VALUE=DATE:20260321
DTEND;VALUE=DATE:20260322
DTSTAMP:20260419T154630
CREATED:20260102T143852Z
LAST-MODIFIED:20260103T011115Z
UID:10003070-1774051200-1774137599@maskatshrine.com
SUMMARY:Provost Guard Practice
DESCRIPTION:
URL:https://maskatshrine.com/event/provost-guard-practice-6/2026-03-21/
CATEGORIES:Meeting
END:VEVENT
BEGIN:VEVENT
DTSTART;TZID=America/Chicago:20260319T173000
DTEND;TZID=America/Chicago:20260319T183000
DTSTAMP:20260419T154630
CREATED:20260102T140843Z
LAST-MODIFIED:20260102T140843Z
UID:10003039-1773941400-1773945000@maskatshrine.com
SUMMARY:Happy Hour
DESCRIPTION:
URL:https://maskatshrine.com/event/happy-hour-5/2026-03-19/
CATEGORIES:Ladies Events,Miscellaneous
END:VEVENT
BEGIN:VEVENT
DTSTART;TZID=America/Chicago:20260316T190000
DTEND;TZID=America/Chicago:20260316T210000
DTSTAMP:20260419T154630
CREATED:20250202T040044Z
LAST-MODIFIED:20260103T010229Z
UID:10002633-1773687600-1773694800@maskatshrine.com
SUMMARY:Nile Danceers
DESCRIPTION:
URL:https://maskatshrine.com/event/nile-dancers-6-3-2/2026-03-16/
CATEGORIES:Ladies Events
END:VEVENT
BEGIN:VEVENT
DTSTART;VALUE=DATE:20260316
DTEND;VALUE=DATE:20260317
DTSTAMP:20260419T154630
CREATED:20260102T150407Z
LAST-MODIFIED:20260102T223449Z
UID:10002266-1773619200-1773705599@maskatshrine.com
SUMMARY:Wildcat Articles Due
DESCRIPTION:
URL:https://maskatshrine.com/event/wildcat-articles-due-19-2/2026-03-16/
CATEGORIES:Miscellaneous
END:VEVENT
BEGIN:VEVENT
DTSTART;TZID=America/Chicago:20260314T140000
DTEND;TZID=America/Chicago:20260314T170000
DTSTAMP:20260419T154630
CREATED:20260102T194651Z
LAST-MODIFIED:20260102T194824Z
UID:10003151-1773496800-1773507600@maskatshrine.com
SUMMARY:Nile Installation
DESCRIPTION:
URL:https://maskatshrine.com/event/nile-installation-11/
LOCATION:Maskat Shrine\, 5101 Henry S. Grace Fwy\, Wichita Falls\, TX\, 76302\, United States
CATEGORIES:Ladies Events
GEO:33.8506458;-98.4870434
X-APPLE-STRUCTURED-LOCATION;VALUE=URI;X-ADDRESS=Maskat Shrine 5101 Henry S. Grace Fwy Wichita Falls TX 76302 United States;X-APPLE-RADIUS=500;X-TITLE=5101 Henry S. Grace Fwy:geo:-98.4870434,33.8506458
END:VEVENT
BEGIN:VEVENT
DTSTART;VALUE=DATE:20260314
DTEND;VALUE=DATE:20260315
DTSTAMP:20260419T154630
CREATED:20260102T143852Z
LAST-MODIFIED:20260103T011115Z
UID:10003069-1773446400-1773532799@maskatshrine.com
SUMMARY:Provost Guard Practice
DESCRIPTION:
URL:https://maskatshrine.com/event/provost-guard-practice-6/2026-03-14/
CATEGORIES:Meeting
END:VEVENT
BEGIN:VEVENT
DTSTART;TZID=America/Chicago:20260311T130000
DTEND;TZID=America/Chicago:20260311T150000
DTSTAMP:20260419T154630
CREATED:20251224T010202Z
LAST-MODIFIED:20251224T010202Z
UID:10002958-1773234000-1773241200@maskatshrine.com
SUMMARY:Shrine Ladies
DESCRIPTION:
URL:https://maskatshrine.com/event/shrine-ladies-13/2026-03-11/
CATEGORIES:Shrine Ladies
END:VEVENT
BEGIN:VEVENT
DTSTART;TZID=America/Chicago:20260310T183000
DTEND;TZID=America/Chicago:20260310T213000
DTSTAMP:20260419T154630
CREATED:20260102T191910Z
LAST-MODIFIED:20260103T010447Z
UID:10003133-1773167400-1773178200@maskatshrine.com
SUMMARY:Stated Meeting
DESCRIPTION:
URL:https://maskatshrine.com/event/stated-meeting-26/2026-03-10/
CATEGORIES:Meeting
END:VEVENT
BEGIN:VEVENT
DTSTART;TZID=America/Chicago:20260309T190000
DTEND;TZID=America/Chicago:20260309T210000
DTSTAMP:20260419T154630
CREATED:20250202T040044Z
LAST-MODIFIED:20260103T010229Z
UID:10002632-1773082800-1773090000@maskatshrine.com
SUMMARY:Nile Danceers
DESCRIPTION:
URL:https://maskatshrine.com/event/nile-dancers-6-3-2/2026-03-09/
CATEGORIES:Ladies Events
END:VEVENT
BEGIN:VEVENT
DTSTART;TZID=America/Chicago:20260309T183000
DTEND;TZID=America/Chicago:20260309T210000
DTSTAMP:20260419T154630
CREATED:20260102T141926Z
LAST-MODIFIED:20260102T141926Z
UID:10003051-1773081000-1773090000@maskatshrine.com
SUMMARY:Nile Fun Band
DESCRIPTION:
URL:https://maskatshrine.com/event/nile-fun-band-16/2026-03-09/
CATEGORIES:Ladies Events
END:VEVENT
END:VCALENDAR