BEGIN:VCALENDAR
VERSION:2.0
PRODID:-//Maskat Shrine - ECPv6.15.13//NONSGML v1.0//EN
CALSCALE:GREGORIAN
METHOD:PUBLISH
X-WR-CALNAME:Maskat Shrine
X-ORIGINAL-URL:https://maskatshrine.com
X-WR-CALDESC:Events for Maskat Shrine
REFRESH-INTERVAL;VALUE=DURATION:PT1H
X-Robots-Tag:noindex
X-PUBLISHED-TTL:PT1H
BEGIN:VTIMEZONE
TZID:America/Chicago
BEGIN:DAYLIGHT
TZOFFSETFROM:-0600
TZOFFSETTO:-0500
TZNAME:CDT
DTSTART:20230312T080000
END:DAYLIGHT
BEGIN:STANDARD
TZOFFSETFROM:-0500
TZOFFSETTO:-0600
TZNAME:CST
DTSTART:20231105T070000
END:STANDARD
BEGIN:DAYLIGHT
TZOFFSETFROM:-0600
TZOFFSETTO:-0500
TZNAME:CDT
DTSTART:20240310T080000
END:DAYLIGHT
BEGIN:STANDARD
TZOFFSETFROM:-0500
TZOFFSETTO:-0600
TZNAME:CST
DTSTART:20241103T070000
END:STANDARD
BEGIN:DAYLIGHT
TZOFFSETFROM:-0600
TZOFFSETTO:-0500
TZNAME:CDT
DTSTART:20250309T080000
END:DAYLIGHT
BEGIN:STANDARD
TZOFFSETFROM:-0500
TZOFFSETTO:-0600
TZNAME:CST
DTSTART:20251102T070000
END:STANDARD
END:VTIMEZONE
BEGIN:VEVENT
DTSTART;TZID=America/Chicago:20240113T080000
DTEND;TZID=America/Chicago:20240113T170000
DTSTAMP:20260423T165330
CREATED:20231214T182304Z
LAST-MODIFIED:20231214T182304Z
UID:10001953-1705132800-1705165200@maskatshrine.com
SUMMARY:Provost Guard Practice
DESCRIPTION:
URL:https://maskatshrine.com/event/provost-guard-practice-4/2024-01-13/
CATEGORIES:Miscellaneous
END:VEVENT
BEGIN:VEVENT
DTSTART;TZID=America/Chicago:20240113T183000
DTEND;TZID=America/Chicago:20240113T210000
DTSTAMP:20260423T165330
CREATED:20231214T185941Z
LAST-MODIFIED:20231214T185941Z
UID:10002048-1705170600-1705179600@maskatshrine.com
SUMMARY:Meet Your Divan
DESCRIPTION:
URL:https://maskatshrine.com/event/meet-your-divan/
CATEGORIES:Special Events
END:VEVENT
BEGIN:VEVENT
DTSTART;VALUE=DATE:20240115
DTEND;VALUE=DATE:20240116
DTSTAMP:20260423T165330
CREATED:20231214T190135Z
LAST-MODIFIED:20231214T190201Z
UID:10002049-1705276800-1705363199@maskatshrine.com
SUMMARY:Wildcat Articles Due
DESCRIPTION:
URL:https://maskatshrine.com/event/wildcat-articles-due-18/2024-01-15/
CATEGORIES:Miscellaneous
END:VEVENT
BEGIN:VEVENT
DTSTART;TZID=America/Chicago:20240115T190000
DTEND;TZID=America/Chicago:20240115T210000
DTSTAMP:20260423T165330
CREATED:20231214T175141Z
LAST-MODIFIED:20240117T165632Z
UID:10002005-1705345200-1705352400@maskatshrine.com
SUMMARY:Nile Dancers
DESCRIPTION:
URL:https://maskatshrine.com/event/nile-dancers-5/2024-01-15/
CATEGORIES:Ladies Events
END:VEVENT
BEGIN:VEVENT
DTSTART;TZID=America/Chicago:20240118T173000
DTEND;TZID=America/Chicago:20240118T193000
DTSTAMP:20260423T165330
CREATED:20231214T190429Z
LAST-MODIFIED:20231214T190429Z
UID:10002061-1705599000-1705606200@maskatshrine.com
SUMMARY:HAPPY BIRTHDAY! Happy Hour
DESCRIPTION:
URL:https://maskatshrine.com/event/happy-birthday-happy-hour/2024-01-18/
CATEGORIES:Miscellaneous
END:VEVENT
BEGIN:VEVENT
DTSTART;TZID=America/Chicago:20240120T080000
DTEND;TZID=America/Chicago:20240120T170000
DTSTAMP:20260423T165330
CREATED:20231214T182304Z
LAST-MODIFIED:20231214T182304Z
UID:10001954-1705737600-1705770000@maskatshrine.com
SUMMARY:Provost Guard Practice
DESCRIPTION:
URL:https://maskatshrine.com/event/provost-guard-practice-4/2024-01-20/
CATEGORIES:Miscellaneous
END:VEVENT
BEGIN:VEVENT
DTSTART;TZID=America/Chicago:20240122T190000
DTEND;TZID=America/Chicago:20240122T210000
DTSTAMP:20260423T165330
CREATED:20231214T175141Z
LAST-MODIFIED:20240117T165632Z
UID:10002006-1705950000-1705957200@maskatshrine.com
SUMMARY:Nile Dancers
DESCRIPTION:
URL:https://maskatshrine.com/event/nile-dancers-5/2024-01-22/
CATEGORIES:Ladies Events
END:VEVENT
BEGIN:VEVENT
DTSTART;TZID=America/Chicago:20240127T080000
DTEND;TZID=America/Chicago:20240127T170000
DTSTAMP:20260423T165330
CREATED:20231214T182304Z
LAST-MODIFIED:20231214T182304Z
UID:10001955-1706342400-1706374800@maskatshrine.com
SUMMARY:Provost Guard Practice
DESCRIPTION:
URL:https://maskatshrine.com/event/provost-guard-practice-4/2024-01-27/
CATEGORIES:Miscellaneous
END:VEVENT
BEGIN:VEVENT
DTSTART;TZID=America/Chicago:20240129T190000
DTEND;TZID=America/Chicago:20240129T210000
DTSTAMP:20260423T165330
CREATED:20231214T175141Z
LAST-MODIFIED:20240117T165632Z
UID:10002007-1706554800-1706562000@maskatshrine.com
SUMMARY:Nile Dancers
DESCRIPTION:
URL:https://maskatshrine.com/event/nile-dancers-5/2024-01-29/
CATEGORIES:Ladies Events
END:VEVENT
BEGIN:VEVENT
DTSTART;TZID=America/Chicago:20240201T190000
DTEND;TZID=America/Chicago:20240201T210000
DTSTAMP:20260423T165330
CREATED:20231214T173819Z
LAST-MODIFIED:20231214T183640Z
UID:10001859-1706814000-1706821200@maskatshrine.com
SUMMARY:Nile Stated Session
DESCRIPTION:
URL:https://maskatshrine.com/event/nile-stated-session-11/2024-02-01/
CATEGORIES:Ladies Events
END:VEVENT
BEGIN:VEVENT
DTSTART;TZID=America/Chicago:20240203T080000
DTEND;TZID=America/Chicago:20240203T170000
DTSTAMP:20260423T165330
CREATED:20231214T182304Z
LAST-MODIFIED:20231214T182304Z
UID:10001956-1706947200-1706979600@maskatshrine.com
SUMMARY:Provost Guard Practice
DESCRIPTION:
URL:https://maskatshrine.com/event/provost-guard-practice-4/2024-02-03/
CATEGORIES:Miscellaneous
END:VEVENT
BEGIN:VEVENT
DTSTART;TZID=America/Chicago:20240205T190000
DTEND;TZID=America/Chicago:20240205T210000
DTSTAMP:20260423T165330
CREATED:20231214T175141Z
LAST-MODIFIED:20240117T165632Z
UID:10001864-1707159600-1707166800@maskatshrine.com
SUMMARY:Nile Dancers
DESCRIPTION:
URL:https://maskatshrine.com/event/nile-dancers-5/2024-02-05/
CATEGORIES:Ladies Events
END:VEVENT
BEGIN:VEVENT
DTSTART;TZID=America/Chicago:20240207T183000
DTEND;TZID=America/Chicago:20240207T210000
DTSTAMP:20260423T165330
CREATED:20231214T173326Z
LAST-MODIFIED:20231214T183756Z
UID:10001855-1707330600-1707339600@maskatshrine.com
SUMMARY:Unit's Council
DESCRIPTION:
URL:https://maskatshrine.com/event/units-council-12/2024-02-07/
CATEGORIES:Meeting
END:VEVENT
BEGIN:VEVENT
DTSTART;VALUE=DATE:20240208
DTEND;VALUE=DATE:20240211
DTSTAMP:20260423T165330
CREATED:20231214T191529Z
LAST-MODIFIED:20231214T191529Z
UID:10002073-1707350400-1707609599@maskatshrine.com
SUMMARY:Divan Mid Winter-San Angelo
DESCRIPTION:
URL:https://maskatshrine.com/event/divan-mid-winter-san-angelo/
CATEGORIES:Special Events
END:VEVENT
BEGIN:VEVENT
DTSTART;TZID=America/Chicago:20240208T103000
DTEND;TZID=America/Chicago:20240208T130000
DTSTAMP:20260423T165330
CREATED:20231214T191758Z
LAST-MODIFIED:20231214T191758Z
UID:10002074-1707388200-1707397200@maskatshrine.com
SUMMARY:Nile Sewing
DESCRIPTION:
URL:https://maskatshrine.com/event/nile-sewing-12/2024-02-08/
CATEGORIES:Ladies Events
END:VEVENT
BEGIN:VEVENT
DTSTART;TZID=America/Chicago:20240210T080000
DTEND;TZID=America/Chicago:20240210T170000
DTSTAMP:20260423T165330
CREATED:20231214T182304Z
LAST-MODIFIED:20231214T182304Z
UID:10001957-1707552000-1707584400@maskatshrine.com
SUMMARY:Provost Guard Practice
DESCRIPTION:
URL:https://maskatshrine.com/event/provost-guard-practice-4/2024-02-10/
CATEGORIES:Miscellaneous
END:VEVENT
BEGIN:VEVENT
DTSTART;VALUE=DATE:20240211
DTEND;VALUE=DATE:20240212
DTSTAMP:20260423T165330
CREATED:20231214T191946Z
LAST-MODIFIED:20231214T191946Z
UID:10002078-1707609600-1707695999@maskatshrine.com
SUMMARY:Super Bowl Party
DESCRIPTION:
URL:https://maskatshrine.com/event/super-bowl-party-6/
CATEGORIES:Special Events
END:VEVENT
BEGIN:VEVENT
DTSTART;TZID=America/Chicago:20240212T190000
DTEND;TZID=America/Chicago:20240212T210000
DTSTAMP:20260423T165330
CREATED:20231214T175141Z
LAST-MODIFIED:20240117T165632Z
UID:10002008-1707764400-1707771600@maskatshrine.com
SUMMARY:Nile Dancers
DESCRIPTION:
URL:https://maskatshrine.com/event/nile-dancers-5/2024-02-12/
CATEGORIES:Ladies Events
END:VEVENT
BEGIN:VEVENT
DTSTART;TZID=America/Chicago:20240212T190000
DTEND;TZID=America/Chicago:20240212T210000
DTSTAMP:20260423T165330
CREATED:20231214T185627Z
LAST-MODIFIED:20231214T185627Z
UID:10002043-1707764400-1707771600@maskatshrine.com
SUMMARY:Nile Fun Band
DESCRIPTION:
URL:https://maskatshrine.com/event/nile-fun-band-12/2024-02-12/
CATEGORIES:Ladies Events
END:VEVENT
BEGIN:VEVENT
DTSTART;TZID=America/Chicago:20240213T183000
DTEND;TZID=America/Chicago:20240213T183000
DTSTAMP:20260423T165330
CREATED:20231214T194903Z
LAST-MODIFIED:20231214T195131Z
UID:10002089-1707849000-1707849000@maskatshrine.com
SUMMARY:Stated Meeting
DESCRIPTION:
URL:https://maskatshrine.com/event/stated-meeting-20-2/2024-02-13/
CATEGORIES:Meeting
END:VEVENT
BEGIN:VEVENT
DTSTART;TZID=America/Chicago:20240214T130000
DTEND;TZID=America/Chicago:20240214T150000
DTSTAMP:20260423T165330
CREATED:20231214T180415Z
LAST-MODIFIED:20231214T183542Z
UID:10001879-1707915600-1707922800@maskatshrine.com
SUMMARY:Shrine Ladies
DESCRIPTION:
URL:https://maskatshrine.com/event/shrine-ladies-10/2024-02-14/
CATEGORIES:Ladies Events,Shrine Ladies
END:VEVENT
BEGIN:VEVENT
DTSTART;TZID=America/Chicago:20240215T173000
DTEND;TZID=America/Chicago:20240215T193000
DTSTAMP:20260423T165330
CREATED:20231214T190429Z
LAST-MODIFIED:20231214T190429Z
UID:10002062-1708018200-1708025400@maskatshrine.com
SUMMARY:HAPPY BIRTHDAY! Happy Hour
DESCRIPTION:
URL:https://maskatshrine.com/event/happy-birthday-happy-hour/2024-02-15/
CATEGORIES:Miscellaneous
END:VEVENT
BEGIN:VEVENT
DTSTART;TZID=America/Chicago:20240217T080000
DTEND;TZID=America/Chicago:20240217T170000
DTSTAMP:20260423T165330
CREATED:20231214T182304Z
LAST-MODIFIED:20231214T182304Z
UID:10001958-1708156800-1708189200@maskatshrine.com
SUMMARY:Provost Guard Practice
DESCRIPTION:
URL:https://maskatshrine.com/event/provost-guard-practice-4/2024-02-17/
CATEGORIES:Miscellaneous
END:VEVENT
BEGIN:VEVENT
DTSTART;VALUE=DATE:20240219
DTEND;VALUE=DATE:20240220
DTSTAMP:20260423T165330
CREATED:20231214T190135Z
LAST-MODIFIED:20231214T190201Z
UID:10002050-1708300800-1708387199@maskatshrine.com
SUMMARY:Wildcat Articles Due
DESCRIPTION:
URL:https://maskatshrine.com/event/wildcat-articles-due-18/2024-02-19/
CATEGORIES:Miscellaneous
END:VEVENT
BEGIN:VEVENT
DTSTART;VALUE=DATE:20240219
DTEND;VALUE=DATE:20240220
DTSTAMP:20260423T165330
CREATED:20231214T192559Z
LAST-MODIFIED:20231214T192559Z
UID:10002084-1708300800-1708387199@maskatshrine.com
SUMMARY:President's Day MASKAT CLOSED
DESCRIPTION:
URL:https://maskatshrine.com/event/presidents-day-maskat-closed-3/
CATEGORIES:Holidays
END:VEVENT
BEGIN:VEVENT
DTSTART;TZID=America/Chicago:20240219T190000
DTEND;TZID=America/Chicago:20240219T210000
DTSTAMP:20260423T165330
CREATED:20231214T175141Z
LAST-MODIFIED:20240117T165632Z
UID:10002009-1708369200-1708376400@maskatshrine.com
SUMMARY:Nile Dancers
DESCRIPTION:
URL:https://maskatshrine.com/event/nile-dancers-5/2024-02-19/
CATEGORIES:Ladies Events
END:VEVENT
BEGIN:VEVENT
DTSTART;VALUE=DATE:20240220
DTEND;VALUE=DATE:20240221
DTSTAMP:20260423T165330
CREATED:20240212T194504Z
LAST-MODIFIED:20240212T194504Z
UID:10002177-1708387200-1708473599@maskatshrine.com
SUMMARY:BUILDING RENTAL
DESCRIPTION:
URL:https://maskatshrine.com/event/building-rental-69/
CATEGORIES:Rentals
END:VEVENT
BEGIN:VEVENT
DTSTART;TZID=America/Chicago:20240224T080000
DTEND;TZID=America/Chicago:20240224T170000
DTSTAMP:20260423T165330
CREATED:20231214T182304Z
LAST-MODIFIED:20231214T182304Z
UID:10001959-1708761600-1708794000@maskatshrine.com
SUMMARY:Provost Guard Practice
DESCRIPTION:
URL:https://maskatshrine.com/event/provost-guard-practice-4/2024-02-24/
CATEGORIES:Miscellaneous
END:VEVENT
BEGIN:VEVENT
DTSTART;TZID=America/Chicago:20240226T190000
DTEND;TZID=America/Chicago:20240226T210000
DTSTAMP:20260423T165330
CREATED:20231214T175141Z
LAST-MODIFIED:20240117T165632Z
UID:10002010-1708974000-1708981200@maskatshrine.com
SUMMARY:Nile Dancers
DESCRIPTION:
URL:https://maskatshrine.com/event/nile-dancers-5/2024-02-26/
CATEGORIES:Ladies Events
END:VEVENT
BEGIN:VEVENT
DTSTART;TZID=America/Chicago:20240301T080000
DTEND;TZID=America/Chicago:20240301T170000
DTSTAMP:20260423T165330
CREATED:20231214T193750Z
LAST-MODIFIED:20231214T193750Z
UID:10002085-1709280000-1709312400@maskatshrine.com
SUMMARY:Decorate for Ball
DESCRIPTION:
URL:https://maskatshrine.com/event/decorate-for-ball/
CATEGORIES:Miscellaneous
END:VEVENT
END:VCALENDAR