BEGIN:VCALENDAR
VERSION:2.0
PRODID:-//Maskat Shrine - ECPv6.15.13//NONSGML v1.0//EN
CALSCALE:GREGORIAN
METHOD:PUBLISH
X-ORIGINAL-URL:https://maskatshrine.com
X-WR-CALDESC:Events for Maskat Shrine
REFRESH-INTERVAL;VALUE=DURATION:PT1H
X-Robots-Tag:noindex
X-PUBLISHED-TTL:PT1H
BEGIN:VTIMEZONE
TZID:America/Chicago
BEGIN:DAYLIGHT
TZOFFSETFROM:-0600
TZOFFSETTO:-0500
TZNAME:CDT
DTSTART:20220313T080000
END:DAYLIGHT
BEGIN:STANDARD
TZOFFSETFROM:-0500
TZOFFSETTO:-0600
TZNAME:CST
DTSTART:20221106T070000
END:STANDARD
BEGIN:DAYLIGHT
TZOFFSETFROM:-0600
TZOFFSETTO:-0500
TZNAME:CDT
DTSTART:20230312T080000
END:DAYLIGHT
BEGIN:STANDARD
TZOFFSETFROM:-0500
TZOFFSETTO:-0600
TZNAME:CST
DTSTART:20231105T070000
END:STANDARD
BEGIN:DAYLIGHT
TZOFFSETFROM:-0600
TZOFFSETTO:-0500
TZNAME:CDT
DTSTART:20240310T080000
END:DAYLIGHT
BEGIN:STANDARD
TZOFFSETFROM:-0500
TZOFFSETTO:-0600
TZNAME:CST
DTSTART:20241103T070000
END:STANDARD
END:VTIMEZONE
BEGIN:VEVENT
DTSTART;VALUE=DATE:20231123
DTEND;VALUE=DATE:20231124
DTSTAMP:20260423T063017
CREATED:20230131T213652Z
LAST-MODIFIED:20230131T213652Z
UID:10001828-1700697600-1700783999@maskatshrine.com
SUMMARY:BUILDING RENTAL
DESCRIPTION:
URL:https://maskatshrine.com/event/building-rental-55/
CATEGORIES:Rentals
END:VEVENT
BEGIN:VEVENT
DTSTART;VALUE=DATE:20231123
DTEND;VALUE=DATE:20231125
DTSTAMP:20260423T063017
CREATED:20230131T213605Z
LAST-MODIFIED:20230131T213605Z
UID:10001827-1700697600-1700870399@maskatshrine.com
SUMMARY:Thanksgiving-MASKAT CLOSED
DESCRIPTION:
URL:https://maskatshrine.com/event/thanksgiving-maskat-closed-6/
CATEGORIES:Holidays
END:VEVENT
BEGIN:VEVENT
DTSTART;TZID=America/Chicago:20231125T090000
DTEND;TZID=America/Chicago:20231125T170000
DTSTAMP:20260423T063017
CREATED:20211122T175249Z
LAST-MODIFIED:20230130T213302Z
UID:10001553-1700902800-1700931600@maskatshrine.com
SUMMARY:Provost Guard Practice
DESCRIPTION:
URL:https://maskatshrine.com/event/provost-guard-practice-3/2023-11-25/
CATEGORIES:Miscellaneous
END:VEVENT
BEGIN:VEVENT
DTSTART;VALUE=DATE:20231126
DTEND;VALUE=DATE:20231127
DTSTAMP:20260423T063017
CREATED:20230131T213748Z
LAST-MODIFIED:20230131T213748Z
UID:10001829-1700956800-1701043199@maskatshrine.com
SUMMARY:Decorate for Christmas
DESCRIPTION:
URL:https://maskatshrine.com/event/decorate-for-christmas-6/
CATEGORIES:Miscellaneous
END:VEVENT
BEGIN:VEVENT
DTSTART;VALUE=DATE:20231127
DTEND;VALUE=DATE:20231128
DTSTAMP:20260423T063017
CREATED:20231016T154334Z
LAST-MODIFIED:20231016T154334Z
UID:10001851-1701043200-1701129599@maskatshrine.com
SUMMARY:BUILDING RENTAL
DESCRIPTION:
URL:https://maskatshrine.com/event/building-rental-63/
CATEGORIES:Rentals
END:VEVENT
BEGIN:VEVENT
DTSTART;TZID=America/Chicago:20231127T190000
DTEND;TZID=America/Chicago:20231127T213000
DTSTAMP:20260423T063017
CREATED:20230131T002357Z
LAST-MODIFIED:20230131T002357Z
UID:10001677-1701111600-1701120600@maskatshrine.com
SUMMARY:Nile Dancers
DESCRIPTION:
URL:https://maskatshrine.com/event/nile-dancers-3/2023-11-27/
CATEGORIES:Ladies Events
END:VEVENT
BEGIN:VEVENT
DTSTART;VALUE=DATE:20231201
DTEND;VALUE=DATE:20231202
DTSTAMP:20260423T063017
CREATED:20230426T163606Z
LAST-MODIFIED:20230426T170403Z
UID:10001847-1701388800-1701475199@maskatshrine.com
SUMMARY:BUILDING RENTAL
DESCRIPTION:
URL:https://maskatshrine.com/event/building-rental-59/
CATEGORIES:Rentals
END:VEVENT
BEGIN:VEVENT
DTSTART;TZID=America/Chicago:20231202T090000
DTEND;TZID=America/Chicago:20231202T170000
DTSTAMP:20260423T063017
CREATED:20211122T175249Z
LAST-MODIFIED:20230130T213302Z
UID:10001554-1701507600-1701536400@maskatshrine.com
SUMMARY:Provost Guard Practice
DESCRIPTION:
URL:https://maskatshrine.com/event/provost-guard-practice-3/2023-12-02/
CATEGORIES:Miscellaneous
END:VEVENT
BEGIN:VEVENT
DTSTART;VALUE=DATE:20231203
DTEND;VALUE=DATE:20231204
DTSTAMP:20260423T063017
CREATED:20230131T214126Z
LAST-MODIFIED:20230131T214126Z
UID:10001830-1701561600-1701647999@maskatshrine.com
SUMMARY:Shop for Foster Kids Christmas Party
DESCRIPTION:
URL:https://maskatshrine.com/event/shop-for-foster-kids-christmas-party/
CATEGORIES:Miscellaneous
END:VEVENT
BEGIN:VEVENT
DTSTART;VALUE=DATE:20231204
DTEND;VALUE=DATE:20231205
DTSTAMP:20260423T063017
CREATED:20230131T214225Z
LAST-MODIFIED:20230131T214225Z
UID:10001831-1701648000-1701734399@maskatshrine.com
SUMMARY:Foster Kids Christmas Party
DESCRIPTION:
URL:https://maskatshrine.com/event/foster-kids-christmas-party-5/
CATEGORIES:Special Events
END:VEVENT
BEGIN:VEVENT
DTSTART;TZID=America/Chicago:20231204T190000
DTEND;TZID=America/Chicago:20231204T213000
DTSTAMP:20260423T063017
CREATED:20230131T002357Z
LAST-MODIFIED:20230131T002357Z
UID:10001678-1701716400-1701725400@maskatshrine.com
SUMMARY:Nile Dancers
DESCRIPTION:
URL:https://maskatshrine.com/event/nile-dancers-3/2023-12-04/
CATEGORIES:Ladies Events
END:VEVENT
BEGIN:VEVENT
DTSTART;TZID=America/Chicago:20231206T183000
DTEND;TZID=America/Chicago:20231206T210000
DTSTAMP:20260423T063017
CREATED:20230131T211026Z
LAST-MODIFIED:20230131T211026Z
UID:10001807-1701887400-1701896400@maskatshrine.com
SUMMARY:Units Council
DESCRIPTION:
URL:https://maskatshrine.com/event/units-council-11/
CATEGORIES:Meeting
END:VEVENT
BEGIN:VEVENT
DTSTART;TZID=America/Chicago:20231207T190000
DTEND;TZID=America/Chicago:20231207T213000
DTSTAMP:20260423T063017
CREATED:20230131T211423Z
LAST-MODIFIED:20230131T211423Z
UID:10001811-1701975600-1701984600@maskatshrine.com
SUMMARY:Nile Stated Session
DESCRIPTION:
URL:https://maskatshrine.com/event/nile-stated-session-10/2023-12-07/
CATEGORIES:Ladies Events
END:VEVENT
BEGIN:VEVENT
DTSTART;VALUE=DATE:20231208
DTEND;VALUE=DATE:20231209
DTSTAMP:20260423T063017
CREATED:20230524T154458Z
LAST-MODIFIED:20230524T154458Z
UID:10001848-1701993600-1702079999@maskatshrine.com
SUMMARY:BUILDING RENTAL
DESCRIPTION:
URL:https://maskatshrine.com/event/building-rental-60/
CATEGORIES:Rentals
END:VEVENT
BEGIN:VEVENT
DTSTART;TZID=America/Chicago:20231209T090000
DTEND;TZID=America/Chicago:20231209T170000
DTSTAMP:20260423T063017
CREATED:20211122T175249Z
LAST-MODIFIED:20230130T213302Z
UID:10001555-1702112400-1702141200@maskatshrine.com
SUMMARY:Provost Guard Practice
DESCRIPTION:
URL:https://maskatshrine.com/event/provost-guard-practice-3/2023-12-09/
CATEGORIES:Miscellaneous
END:VEVENT
BEGIN:VEVENT
DTSTART;TZID=America/Chicago:20231211T190000
DTEND;TZID=America/Chicago:20231211T213000
DTSTAMP:20260423T063017
CREATED:20230131T002357Z
LAST-MODIFIED:20230131T002357Z
UID:10001679-1702321200-1702330200@maskatshrine.com
SUMMARY:Nile Dancers
DESCRIPTION:
URL:https://maskatshrine.com/event/nile-dancers-3/2023-12-11/
CATEGORIES:Ladies Events
END:VEVENT
BEGIN:VEVENT
DTSTART;TZID=America/Chicago:20231211T190000
DTEND;TZID=America/Chicago:20231211T213000
DTSTAMP:20260423T063017
CREATED:20230131T193252Z
LAST-MODIFIED:20230131T213051Z
UID:10001824-1702321200-1702330200@maskatshrine.com
SUMMARY:Nile Fun Band
DESCRIPTION:
URL:https://maskatshrine.com/event/nile-fun-band-11/2023-12-11/
CATEGORIES:Ladies Events
END:VEVENT
BEGIN:VEVENT
DTSTART;TZID=America/Chicago:20231212T183000
DTEND;TZID=America/Chicago:20231212T183000
DTSTAMP:20260423T063017
CREATED:20230131T022317Z
LAST-MODIFIED:20230131T022317Z
UID:10001717-1702405800-1702405800@maskatshrine.com
SUMMARY:Stated Meeting
DESCRIPTION:
URL:https://maskatshrine.com/event/stated-meeting-17/2023-12-12/
CATEGORIES:Meeting
END:VEVENT
BEGIN:VEVENT
DTSTART;TZID=America/Chicago:20231212T190000
DTEND;TZID=America/Chicago:20231212T210000
DTSTAMP:20260423T063017
CREATED:20230131T214335Z
LAST-MODIFIED:20230131T214335Z
UID:10001832-1702407600-1702414800@maskatshrine.com
SUMMARY:Elections
DESCRIPTION:
URL:https://maskatshrine.com/event/elections/
CATEGORIES:Meeting
END:VEVENT
BEGIN:VEVENT
DTSTART;TZID=America/Chicago:20231213T130000
DTEND;TZID=America/Chicago:20231213T150000
DTSTAMP:20260423T063017
CREATED:20230131T003211Z
LAST-MODIFIED:20230131T021142Z
UID:10001690-1702472400-1702479600@maskatshrine.com
SUMMARY:Shrine Ladies
DESCRIPTION:
URL:https://maskatshrine.com/event/shrine-ladies-9/2023-12-13/
CATEGORIES:Shrine Ladies
END:VEVENT
BEGIN:VEVENT
DTSTART;TZID=America/Chicago:20231214T103000
DTEND;TZID=America/Chicago:20231214T120000
DTSTAMP:20260423T063017
CREATED:20230131T211620Z
LAST-MODIFIED:20230131T211620Z
UID:10001815-1702549800-1702555200@maskatshrine.com
SUMMARY:Nile Sewing
DESCRIPTION:
URL:https://maskatshrine.com/event/nile-sewing-11/2023-12-14/
CATEGORIES:Ladies Events
END:VEVENT
BEGIN:VEVENT
DTSTART;TZID=America/Chicago:20231214T183000
DTEND;TZID=America/Chicago:20231214T210000
DTSTAMP:20260423T063017
CREATED:20231214T180035Z
LAST-MODIFIED:20231214T180035Z
UID:10001876-1702578600-1702587600@maskatshrine.com
SUMMARY:STATED MEETING
DESCRIPTION:Installation/Ladies Night
URL:https://maskatshrine.com/event/stated-meeting-18/
CATEGORIES:Meeting
END:VEVENT
BEGIN:VEVENT
DTSTART;VALUE=DATE:20231215
DTEND;VALUE=DATE:20231216
DTSTAMP:20260423T063017
CREATED:20230131T214513Z
LAST-MODIFIED:20230131T214513Z
UID:10001833-1702598400-1702684799@maskatshrine.com
SUMMARY:December 18 Deadline for Wildcat Articles
DESCRIPTION:
URL:https://maskatshrine.com/event/december-18-deadline-for-wildcat-articles/
CATEGORIES:Miscellaneous
END:VEVENT
BEGIN:VEVENT
DTSTART;TZID=America/Chicago:20231216T090000
DTEND;TZID=America/Chicago:20231216T170000
DTSTAMP:20260423T063017
CREATED:20211122T175249Z
LAST-MODIFIED:20230130T213302Z
UID:10001556-1702717200-1702746000@maskatshrine.com
SUMMARY:Provost Guard Practice
DESCRIPTION:
URL:https://maskatshrine.com/event/provost-guard-practice-3/2023-12-16/
CATEGORIES:Miscellaneous
END:VEVENT
BEGIN:VEVENT
DTSTART;VALUE=DATE:20231218
DTEND;VALUE=DATE:20231219
DTSTAMP:20260423T063017
CREATED:20230131T205838Z
LAST-MODIFIED:20230131T205838Z
UID:10001799-1702857600-1702943999@maskatshrine.com
SUMMARY:Wildcat Articles Due
DESCRIPTION:
URL:https://maskatshrine.com/event/wildcat-articles-due-17/2023-12-18/
CATEGORIES:Miscellaneous
END:VEVENT
BEGIN:VEVENT
DTSTART;TZID=America/Chicago:20231218T190000
DTEND;TZID=America/Chicago:20231218T213000
DTSTAMP:20260423T063017
CREATED:20230131T002357Z
LAST-MODIFIED:20230131T002357Z
UID:10001680-1702926000-1702935000@maskatshrine.com
SUMMARY:Nile Dancers
DESCRIPTION:
URL:https://maskatshrine.com/event/nile-dancers-3/2023-12-18/
CATEGORIES:Ladies Events
END:VEVENT
BEGIN:VEVENT
DTSTART;TZID=America/Chicago:20231221T173000
DTEND;TZID=America/Chicago:20231221T190000
DTSTAMP:20260423T063017
CREATED:20230131T204734Z
LAST-MODIFIED:20230131T204734Z
UID:10001790-1703179800-1703185200@maskatshrine.com
SUMMARY:Happy Hour
DESCRIPTION:
URL:https://maskatshrine.com/event/happy-hour-3/2023-12-21/
CATEGORIES:Miscellaneous
END:VEVENT
BEGIN:VEVENT
DTSTART;TZID=America/Chicago:20231221T183000
DTEND;TZID=America/Chicago:20231221T210000
DTSTAMP:20260423T063017
CREATED:20230131T023455Z
LAST-MODIFIED:20230131T023455Z
UID:10001744-1703183400-1703192400@maskatshrine.com
SUMMARY:Nile Patrol
DESCRIPTION:
URL:https://maskatshrine.com/event/nile-patrol-11/2023-12-21/
CATEGORIES:Ladies Events
END:VEVENT
BEGIN:VEVENT
DTSTART;TZID=America/Chicago:20231223T090000
DTEND;TZID=America/Chicago:20231223T170000
DTSTAMP:20260423T063017
CREATED:20211122T175249Z
LAST-MODIFIED:20230130T213302Z
UID:10001557-1703322000-1703350800@maskatshrine.com
SUMMARY:Provost Guard Practice
DESCRIPTION:
URL:https://maskatshrine.com/event/provost-guard-practice-3/2023-12-23/
CATEGORIES:Miscellaneous
END:VEVENT
BEGIN:VEVENT
DTSTART;VALUE=DATE:20231224
DTEND;VALUE=DATE:20231225
DTSTAMP:20260423T063017
CREATED:20230131T214555Z
LAST-MODIFIED:20230131T214555Z
UID:10001834-1703376000-1703462399@maskatshrine.com
SUMMARY:BUILDING RENTAL
DESCRIPTION:
URL:https://maskatshrine.com/event/building-rental-56/
CATEGORIES:Rentals
END:VEVENT
END:VCALENDAR