BEGIN:VCALENDAR
VERSION:2.0
PRODID:-//Maskat Shrine - ECPv6.15.13//NONSGML v1.0//EN
CALSCALE:GREGORIAN
METHOD:PUBLISH
X-ORIGINAL-URL:https://maskatshrine.com
X-WR-CALDESC:Events for Maskat Shrine
REFRESH-INTERVAL;VALUE=DURATION:PT1H
X-Robots-Tag:noindex
X-PUBLISHED-TTL:PT1H
BEGIN:VTIMEZONE
TZID:America/Chicago
BEGIN:DAYLIGHT
TZOFFSETFROM:-0600
TZOFFSETTO:-0500
TZNAME:CDT
DTSTART:20210314T080000
END:DAYLIGHT
BEGIN:STANDARD
TZOFFSETFROM:-0500
TZOFFSETTO:-0600
TZNAME:CST
DTSTART:20211107T070000
END:STANDARD
BEGIN:DAYLIGHT
TZOFFSETFROM:-0600
TZOFFSETTO:-0500
TZNAME:CDT
DTSTART:20220313T080000
END:DAYLIGHT
BEGIN:STANDARD
TZOFFSETFROM:-0500
TZOFFSETTO:-0600
TZNAME:CST
DTSTART:20221106T070000
END:STANDARD
BEGIN:DAYLIGHT
TZOFFSETFROM:-0600
TZOFFSETTO:-0500
TZNAME:CDT
DTSTART:20230312T080000
END:DAYLIGHT
BEGIN:STANDARD
TZOFFSETFROM:-0500
TZOFFSETTO:-0600
TZNAME:CST
DTSTART:20231105T070000
END:STANDARD
END:VTIMEZONE
BEGIN:VEVENT
DTSTART;TZID=America/Chicago:20220912T183000
DTEND;TZID=America/Chicago:20220912T203000
DTSTAMP:20260424T210236
CREATED:20211129T170745Z
LAST-MODIFIED:20211129T172156Z
UID:10001571-1663007400-1663014600@maskatshrine.com
SUMMARY:Nile Fun Band
DESCRIPTION:
URL:https://maskatshrine.com/event/nile-fun-band-9/2022-09-12/
LOCATION:TX
CATEGORIES:Ladies Events
END:VEVENT
BEGIN:VEVENT
DTSTART;TZID=America/Chicago:20220912T190000
DTEND;TZID=America/Chicago:20220912T190000
DTSTAMP:20260424T210236
CREATED:20211122T171501Z
LAST-MODIFIED:20211129T173307Z
UID:10001156-1663009200-1663009200@maskatshrine.com
SUMMARY:Nile Dancers
DESCRIPTION:
URL:https://maskatshrine.com/event/nile-dancers-practice-2/2022-09-12/
LOCATION:TX
CATEGORIES:Ladies Events
END:VEVENT
BEGIN:VEVENT
DTSTART;TZID=America/Chicago:20220913T183000
DTEND;TZID=America/Chicago:20220913T183000
DTSTAMP:20260424T210236
CREATED:20211122T185558Z
LAST-MODIFIED:20211122T185558Z
UID:10001602-1663093800-1663093800@maskatshrine.com
SUMMARY:Stated Meeting
DESCRIPTION:
URL:https://maskatshrine.com/event/stated-meeting-15/2022-09-13/
LOCATION:TX
CATEGORIES:Meeting
END:VEVENT
BEGIN:VEVENT
DTSTART;TZID=America/Chicago:20220915T173000
DTEND;TZID=America/Chicago:20220915T173000
DTSTAMP:20260424T210236
CREATED:20211122T184341Z
LAST-MODIFIED:20211122T184409Z
UID:10001592-1663263000-1663263000@maskatshrine.com
SUMMARY:MASKAT HAPPY HOUR
DESCRIPTION:
URL:https://maskatshrine.com/event/maskat-happy-hour-7/2022-09-15/
LOCATION:TX
CATEGORIES:Miscellaneous
END:VEVENT
BEGIN:VEVENT
DTSTART;TZID=America/Chicago:20220915T183000
DTEND;TZID=America/Chicago:20220915T213000
DTSTAMP:20260424T210236
CREATED:20211122T200638Z
LAST-MODIFIED:20211122T200638Z
UID:10000855-1663266600-1663277400@maskatshrine.com
SUMMARY:Nile Patrol
DESCRIPTION:
URL:https://maskatshrine.com/event/nile-patrol-9/2022-09-15/
LOCATION:TX
CATEGORIES:Ladies Events
END:VEVENT
BEGIN:VEVENT
DTSTART;TZID=America/Chicago:20220917T090000
DTEND;TZID=America/Chicago:20220917T170000
DTSTAMP:20260424T210236
CREATED:20211122T175249Z
LAST-MODIFIED:20230130T213302Z
UID:10001491-1663405200-1663434000@maskatshrine.com
SUMMARY:Provost Guard Practice
DESCRIPTION:
URL:https://maskatshrine.com/event/provost-guard-practice-3/2022-09-17/
LOCATION:TX
CATEGORIES:Miscellaneous
END:VEVENT
BEGIN:VEVENT
DTSTART;VALUE=DATE:20220919
DTEND;VALUE=DATE:20220920
DTSTAMP:20260424T210236
CREATED:20211122T192034Z
LAST-MODIFIED:20211122T192106Z
UID:10000851-1663545600-1663631999@maskatshrine.com
SUMMARY:Wildcat Articles Due
DESCRIPTION:
URL:https://maskatshrine.com/event/wildcat-articles-due-14/2022-09-19/
LOCATION:TX
CATEGORIES:Miscellaneous
END:VEVENT
BEGIN:VEVENT
DTSTART;TZID=America/Chicago:20220919T190000
DTEND;TZID=America/Chicago:20220919T190000
DTSTAMP:20260424T210236
CREATED:20211122T171501Z
LAST-MODIFIED:20211129T173307Z
UID:10001157-1663614000-1663614000@maskatshrine.com
SUMMARY:Nile Dancers
DESCRIPTION:
URL:https://maskatshrine.com/event/nile-dancers-practice-2/2022-09-19/
LOCATION:TX
CATEGORIES:Ladies Events
END:VEVENT
BEGIN:VEVENT
DTSTART;VALUE=DATE:20220923
DTEND;VALUE=DATE:20220925
DTSTAMP:20260424T210236
CREATED:20211129T171545Z
LAST-MODIFIED:20211129T171545Z
UID:10000874-1663891200-1664063999@maskatshrine.com
SUMMARY:Provost Guard Fall Invitational
DESCRIPTION:Corpus Christi
URL:https://maskatshrine.com/event/provost-guard-fall-invitational-3/
LOCATION:TX
CATEGORIES:Special Events
END:VEVENT
BEGIN:VEVENT
DTSTART;TZID=America/Chicago:20220924T090000
DTEND;TZID=America/Chicago:20220924T170000
DTSTAMP:20260424T210236
CREATED:20211122T175249Z
LAST-MODIFIED:20230130T213302Z
UID:10001492-1664010000-1664038800@maskatshrine.com
SUMMARY:Provost Guard Practice
DESCRIPTION:
URL:https://maskatshrine.com/event/provost-guard-practice-3/2022-09-24/
LOCATION:TX
CATEGORIES:Miscellaneous
END:VEVENT
BEGIN:VEVENT
DTSTART;TZID=America/Chicago:20220926T190000
DTEND;TZID=America/Chicago:20220926T190000
DTSTAMP:20260424T210236
CREATED:20211122T171501Z
LAST-MODIFIED:20211129T173307Z
UID:10001158-1664218800-1664218800@maskatshrine.com
SUMMARY:Nile Dancers
DESCRIPTION:
URL:https://maskatshrine.com/event/nile-dancers-practice-2/2022-09-26/
LOCATION:TX
CATEGORIES:Ladies Events
END:VEVENT
BEGIN:VEVENT
DTSTART;VALUE=DATE:20221001
DTEND;VALUE=DATE:20221002
DTSTAMP:20260424T210236
CREATED:20220329T152643Z
LAST-MODIFIED:20220329T154719Z
UID:10000555-1664582400-1664668799@maskatshrine.com
SUMMARY:BUILDING RENTAL
DESCRIPTION:
URL:https://maskatshrine.com/event/building-rental-51/
LOCATION:TX
CATEGORIES:Rentals
END:VEVENT
BEGIN:VEVENT
DTSTART;TZID=America/Chicago:20221001T090000
DTEND;TZID=America/Chicago:20221001T170000
DTSTAMP:20260424T210236
CREATED:20211122T175249Z
LAST-MODIFIED:20230130T213302Z
UID:10001493-1664614800-1664643600@maskatshrine.com
SUMMARY:Provost Guard Practice
DESCRIPTION:
URL:https://maskatshrine.com/event/provost-guard-practice-3/2022-10-01/
LOCATION:TX
CATEGORIES:Miscellaneous
END:VEVENT
BEGIN:VEVENT
DTSTART;TZID=America/Chicago:20221003T190000
DTEND;TZID=America/Chicago:20221003T190000
DTSTAMP:20260424T210236
CREATED:20211122T171501Z
LAST-MODIFIED:20211129T173307Z
UID:10001159-1664823600-1664823600@maskatshrine.com
SUMMARY:Nile Dancers
DESCRIPTION:
URL:https://maskatshrine.com/event/nile-dancers-practice-2/2022-10-03/
LOCATION:TX
CATEGORIES:Ladies Events
END:VEVENT
BEGIN:VEVENT
DTSTART;TZID=America/Chicago:20221005T183000
DTEND;TZID=America/Chicago:20221005T183000
DTSTAMP:20260424T210236
CREATED:20211129T165911Z
LAST-MODIFIED:20211129T171257Z
UID:10000983-1664994600-1664994600@maskatshrine.com
SUMMARY:Units Council/Divan Meeting
DESCRIPTION:
URL:https://maskatshrine.com/event/units-council-divan-14/2022-10-05/
LOCATION:Maskat Shrine\, 5101 Henry S. Grace Fwy\, Wichita Falls\, TX\, 76302\, United States
CATEGORIES:Meeting
GEO:33.8506458;-98.4870434
X-APPLE-STRUCTURED-LOCATION;VALUE=URI;X-ADDRESS=Maskat Shrine 5101 Henry S. Grace Fwy Wichita Falls TX 76302 United States;X-APPLE-RADIUS=500;X-TITLE=5101 Henry S. Grace Fwy:geo:-98.4870434,33.8506458
END:VEVENT
BEGIN:VEVENT
DTSTART;TZID=America/Chicago:20221006T190000
DTEND;TZID=America/Chicago:20221006T190000
DTSTAMP:20260424T210236
CREATED:20211122T174317Z
LAST-MODIFIED:20211122T174317Z
UID:10001451-1665082800-1665082800@maskatshrine.com
SUMMARY:Nile Stated Session
DESCRIPTION:
URL:https://maskatshrine.com/event/nile-stated-session-9/2022-10-06/
LOCATION:TX
CATEGORIES:Ladies Events
END:VEVENT
BEGIN:VEVENT
DTSTART;TZID=America/Chicago:20221008T090000
DTEND;TZID=America/Chicago:20221008T170000
DTSTAMP:20260424T210236
CREATED:20211122T175249Z
LAST-MODIFIED:20230130T213302Z
UID:10001494-1665219600-1665248400@maskatshrine.com
SUMMARY:Provost Guard Practice
DESCRIPTION:
URL:https://maskatshrine.com/event/provost-guard-practice-3/2022-10-08/
LOCATION:TX
CATEGORIES:Miscellaneous
END:VEVENT
BEGIN:VEVENT
DTSTART;VALUE=DATE:20221010
DTEND;VALUE=DATE:20221011
DTSTAMP:20260424T210236
CREATED:20211129T172411Z
LAST-MODIFIED:20211129T172411Z
UID:10000875-1665360000-1665446399@maskatshrine.com
SUMMARY:Columbus Day - MASKAT CLOSED
DESCRIPTION:
URL:https://maskatshrine.com/event/columbus-day-maskat-closed-3/
LOCATION:TX
CATEGORIES:Holidays
END:VEVENT
BEGIN:VEVENT
DTSTART;TZID=America/Chicago:20221010T183000
DTEND;TZID=America/Chicago:20221010T203000
DTSTAMP:20260424T210236
CREATED:20211129T170745Z
LAST-MODIFIED:20211129T172156Z
UID:10001572-1665426600-1665433800@maskatshrine.com
SUMMARY:Nile Fun Band
DESCRIPTION:
URL:https://maskatshrine.com/event/nile-fun-band-9/2022-10-10/
LOCATION:TX
CATEGORIES:Ladies Events
END:VEVENT
BEGIN:VEVENT
DTSTART;TZID=America/Chicago:20221010T190000
DTEND;TZID=America/Chicago:20221010T190000
DTSTAMP:20260424T210236
CREATED:20211122T171501Z
LAST-MODIFIED:20211129T173307Z
UID:10001160-1665428400-1665428400@maskatshrine.com
SUMMARY:Nile Dancers
DESCRIPTION:
URL:https://maskatshrine.com/event/nile-dancers-practice-2/2022-10-10/
LOCATION:TX
CATEGORIES:Ladies Events
END:VEVENT
BEGIN:VEVENT
DTSTART;TZID=America/Chicago:20221011T183000
DTEND;TZID=America/Chicago:20221011T183000
DTSTAMP:20260424T210236
CREATED:20211122T185558Z
LAST-MODIFIED:20211122T185558Z
UID:10001603-1665513000-1665513000@maskatshrine.com
SUMMARY:Stated Meeting
DESCRIPTION:
URL:https://maskatshrine.com/event/stated-meeting-15/2022-10-11/
LOCATION:TX
CATEGORIES:Meeting
END:VEVENT
BEGIN:VEVENT
DTSTART;TZID=America/Chicago:20221013T103000
DTEND;TZID=America/Chicago:20221013T120000
DTSTAMP:20260424T210236
CREATED:20211129T170437Z
LAST-MODIFIED:20211129T170437Z
UID:10001576-1665657000-1665662400@maskatshrine.com
SUMMARY:Nile Sewing
DESCRIPTION:
URL:https://maskatshrine.com/event/nile-sewing-8/2022-10-13/
LOCATION:Maskat Shrine\, 5101 Henry S. Grace Fwy\, Wichita Falls\, TX\, 76302\, United States
CATEGORIES:Ladies Events
GEO:33.8506458;-98.4870434
X-APPLE-STRUCTURED-LOCATION;VALUE=URI;X-ADDRESS=Maskat Shrine 5101 Henry S. Grace Fwy Wichita Falls TX 76302 United States;X-APPLE-RADIUS=500;X-TITLE=5101 Henry S. Grace Fwy:geo:-98.4870434,33.8506458
END:VEVENT
BEGIN:VEVENT
DTSTART;VALUE=DATE:20221014
DTEND;VALUE=DATE:20221016
DTSTAMP:20260424T210236
CREATED:20211129T172734Z
LAST-MODIFIED:20211129T172759Z
UID:10000876-1665705600-1665878399@maskatshrine.com
SUMMARY:Golf Christmas Party - Granbury
DESCRIPTION:
URL:https://maskatshrine.com/event/golf-christmas-party-granbury/
LOCATION:TX
CATEGORIES:Special Events
END:VEVENT
BEGIN:VEVENT
DTSTART;TZID=America/Chicago:20221014T130000
DTEND;TZID=America/Chicago:20221014T170000
DTSTAMP:20260424T210236
CREATED:20211122T183044Z
LAST-MODIFIED:20211122T183246Z
UID:10001585-1665752400-1665766800@maskatshrine.com
SUMMARY:Shrine Ladies
DESCRIPTION:
URL:https://maskatshrine.com/event/shrine-ladies-7/2022-10-14/
LOCATION:TX
CATEGORIES:Shrine Ladies
END:VEVENT
BEGIN:VEVENT
DTSTART;VALUE=DATE:20221015
DTEND;VALUE=DATE:20221016
DTSTAMP:20260424T210236
CREATED:20220315T194356Z
LAST-MODIFIED:20220315T194356Z
UID:10001309-1665792000-1665878399@maskatshrine.com
SUMMARY:BUILDING RENTAL
DESCRIPTION:
URL:https://maskatshrine.com/event/building-rental-50/
LOCATION:TX
CATEGORIES:Rentals
END:VEVENT
BEGIN:VEVENT
DTSTART;TZID=America/Chicago:20221015T090000
DTEND;TZID=America/Chicago:20221015T170000
DTSTAMP:20260424T210236
CREATED:20211122T175249Z
LAST-MODIFIED:20230130T213302Z
UID:10001495-1665824400-1665853200@maskatshrine.com
SUMMARY:Provost Guard Practice
DESCRIPTION:
URL:https://maskatshrine.com/event/provost-guard-practice-3/2022-10-15/
LOCATION:TX
CATEGORIES:Miscellaneous
END:VEVENT
BEGIN:VEVENT
DTSTART;VALUE=DATE:20221017
DTEND;VALUE=DATE:20221018
DTSTAMP:20260424T210236
CREATED:20211122T192034Z
LAST-MODIFIED:20211122T192106Z
UID:10000852-1665964800-1666051199@maskatshrine.com
SUMMARY:Wildcat Articles Due
DESCRIPTION:
URL:https://maskatshrine.com/event/wildcat-articles-due-14/2022-10-17/
LOCATION:TX
CATEGORIES:Miscellaneous
END:VEVENT
BEGIN:VEVENT
DTSTART;TZID=America/Chicago:20221017T190000
DTEND;TZID=America/Chicago:20221017T190000
DTSTAMP:20260424T210236
CREATED:20211122T171501Z
LAST-MODIFIED:20211129T173307Z
UID:10001161-1666033200-1666033200@maskatshrine.com
SUMMARY:Nile Dancers
DESCRIPTION:
URL:https://maskatshrine.com/event/nile-dancers-practice-2/2022-10-17/
LOCATION:TX
CATEGORIES:Ladies Events
END:VEVENT
BEGIN:VEVENT
DTSTART;TZID=America/Chicago:20221020T173000
DTEND;TZID=America/Chicago:20221020T173000
DTSTAMP:20260424T210236
CREATED:20211122T184341Z
LAST-MODIFIED:20211122T184409Z
UID:10001593-1666287000-1666287000@maskatshrine.com
SUMMARY:MASKAT HAPPY HOUR
DESCRIPTION:
URL:https://maskatshrine.com/event/maskat-happy-hour-7/2022-10-20/
LOCATION:TX
CATEGORIES:Miscellaneous
END:VEVENT
BEGIN:VEVENT
DTSTART;TZID=America/Chicago:20221020T183000
DTEND;TZID=America/Chicago:20221020T213000
DTSTAMP:20260424T210236
CREATED:20211122T200638Z
LAST-MODIFIED:20211122T200638Z
UID:10000856-1666290600-1666301400@maskatshrine.com
SUMMARY:Nile Patrol
DESCRIPTION:
URL:https://maskatshrine.com/event/nile-patrol-9/2022-10-20/
LOCATION:TX
CATEGORIES:Ladies Events
END:VEVENT
END:VCALENDAR