BEGIN:VCALENDAR
VERSION:2.0
PRODID:-//Maskat Shrine - ECPv6.15.13//NONSGML v1.0//EN
CALSCALE:GREGORIAN
METHOD:PUBLISH
X-WR-CALNAME:Maskat Shrine
X-ORIGINAL-URL:https://maskatshrine.com
X-WR-CALDESC:Events for Maskat Shrine
REFRESH-INTERVAL;VALUE=DURATION:PT1H
X-Robots-Tag:noindex
X-PUBLISHED-TTL:PT1H
BEGIN:VTIMEZONE
TZID:America/Chicago
BEGIN:DAYLIGHT
TZOFFSETFROM:-0600
TZOFFSETTO:-0500
TZNAME:CDT
DTSTART:20240310T080000
END:DAYLIGHT
BEGIN:STANDARD
TZOFFSETFROM:-0500
TZOFFSETTO:-0600
TZNAME:CST
DTSTART:20241103T070000
END:STANDARD
BEGIN:DAYLIGHT
TZOFFSETFROM:-0600
TZOFFSETTO:-0500
TZNAME:CDT
DTSTART:20250309T080000
END:DAYLIGHT
BEGIN:STANDARD
TZOFFSETFROM:-0500
TZOFFSETTO:-0600
TZNAME:CST
DTSTART:20251102T070000
END:STANDARD
BEGIN:DAYLIGHT
TZOFFSETFROM:-0600
TZOFFSETTO:-0500
TZNAME:CDT
DTSTART:20260308T080000
END:DAYLIGHT
BEGIN:STANDARD
TZOFFSETFROM:-0500
TZOFFSETTO:-0600
TZNAME:CST
DTSTART:20261101T070000
END:STANDARD
BEGIN:DAYLIGHT
TZOFFSETFROM:-0600
TZOFFSETTO:-0500
TZNAME:CDT
DTSTART:20270314T080000
END:DAYLIGHT
BEGIN:STANDARD
TZOFFSETFROM:-0500
TZOFFSETTO:-0600
TZNAME:CST
DTSTART:20271107T070000
END:STANDARD
END:VTIMEZONE
BEGIN:VEVENT
DTSTART;TZID=America/Chicago:20251106T190000
DTEND;TZID=America/Chicago:20251106T210000
DTSTAMP:20260420T235015
CREATED:20250203T000156Z
LAST-MODIFIED:20250203T000156Z
UID:10002913-1762455600-1762462800@maskatshrine.com
SUMMARY:NILE STATED SESSION
DESCRIPTION:
URL:https://maskatshrine.com/event/nile-stated-session-13/2025-11-06/
CATEGORIES:Ladies Events
END:VEVENT
BEGIN:VEVENT
DTSTART;VALUE=DATE:20251108
DTEND;VALUE=DATE:20251109
DTSTAMP:20260420T235015
CREATED:20250203T003109Z
LAST-MODIFIED:20250203T003109Z
UID:10002937-1762560000-1762646399@maskatshrine.com
SUMMARY:BUILDING RENTAL
DESCRIPTION:
URL:https://maskatshrine.com/event/building-rental-82/
CATEGORIES:Rentals
END:VEVENT
BEGIN:VEVENT
DTSTART;TZID=America/Chicago:20251110T070000
DTEND;TZID=America/Chicago:20251110T210000
DTSTAMP:20260420T235015
CREATED:20250203T001153Z
LAST-MODIFIED:20250203T001153Z
UID:10002926-1762758000-1762808400@maskatshrine.com
SUMMARY:NILE FUN BAND
DESCRIPTION:
URL:https://maskatshrine.com/event/nile-fun-band-15/2025-11-10/
CATEGORIES:Ladies Events
END:VEVENT
BEGIN:VEVENT
DTSTART;TZID=America/Chicago:20251110T190000
DTEND;TZID=America/Chicago:20251110T210000
DTSTAMP:20260420T235015
CREATED:20250202T040044Z
LAST-MODIFIED:20260103T010229Z
UID:10002615-1762801200-1762808400@maskatshrine.com
SUMMARY:Nile Danceers
DESCRIPTION:
URL:https://maskatshrine.com/event/nile-dancers-6-3-2/2025-11-10/
CATEGORIES:Ladies Events
END:VEVENT
BEGIN:VEVENT
DTSTART;VALUE=DATE:20251111
DTEND;VALUE=DATE:20251112
DTSTAMP:20260420T235015
CREATED:20250203T004212Z
LAST-MODIFIED:20250203T004212Z
UID:10002941-1762819200-1762905599@maskatshrine.com
SUMMARY:MASKAT CLOSED-Veteran's Day
DESCRIPTION:
URL:https://maskatshrine.com/event/maskat-closed-veterans-day-3/
CATEGORIES:Holidays
END:VEVENT
BEGIN:VEVENT
DTSTART;TZID=America/Chicago:20251111T183000
DTEND;TZID=America/Chicago:20251111T213000
DTSTAMP:20260420T235015
CREATED:20250203T000441Z
LAST-MODIFIED:20250203T000441Z
UID:10002917-1762885800-1762896600@maskatshrine.com
SUMMARY:STATED MEETING
DESCRIPTION:
URL:https://maskatshrine.com/event/stated-meeting-23/2025-11-11/
CATEGORIES:Meeting
END:VEVENT
BEGIN:VEVENT
DTSTART;TZID=America/Chicago:20251112T130000
DTEND;TZID=America/Chicago:20251112T150000
DTSTAMP:20260420T235015
CREATED:20250203T000708Z
LAST-MODIFIED:20250203T000708Z
UID:10002921-1762952400-1762959600@maskatshrine.com
SUMMARY:SHRINE LADIES
DESCRIPTION:
URL:https://maskatshrine.com/event/shrine-ladies-12/2025-11-12/
CATEGORIES:Shrine Ladies
END:VEVENT
BEGIN:VEVENT
DTSTART;VALUE=DATE:20251117
DTEND;VALUE=DATE:20251118
DTSTAMP:20260420T235015
CREATED:20250202T033340Z
LAST-MODIFIED:20250202T033340Z
UID:10002262-1763337600-1763423999@maskatshrine.com
SUMMARY:Wildcat Articles Due
DESCRIPTION:
URL:https://maskatshrine.com/event/wildcat-articles-due-19/2025-11-17/
CATEGORIES:Miscellaneous
END:VEVENT
BEGIN:VEVENT
DTSTART;TZID=America/Chicago:20251117T190000
DTEND;TZID=America/Chicago:20251117T210000
DTSTAMP:20260420T235015
CREATED:20250202T040044Z
LAST-MODIFIED:20260103T010229Z
UID:10002616-1763406000-1763413200@maskatshrine.com
SUMMARY:Nile Danceers
DESCRIPTION:
URL:https://maskatshrine.com/event/nile-dancers-6-3-2/2025-11-17/
CATEGORIES:Ladies Events
END:VEVENT
BEGIN:VEVENT
DTSTART;TZID=America/Chicago:20251120T173000
DTEND;TZID=America/Chicago:20251120T173000
DTSTAMP:20260420T235015
CREATED:20250202T033704Z
LAST-MODIFIED:20250202T223810Z
UID:10002886-1763659800-1763659800@maskatshrine.com
SUMMARY:Happy Hour
DESCRIPTION:
URL:https://maskatshrine.com/event/happy-hour-4/2025-11-20/
CATEGORIES:Miscellaneous
END:VEVENT
BEGIN:VEVENT
DTSTART;TZID=America/Chicago:20251124T190000
DTEND;TZID=America/Chicago:20251124T210000
DTSTAMP:20260420T235015
CREATED:20250202T040044Z
LAST-MODIFIED:20260103T010229Z
UID:10002617-1764010800-1764018000@maskatshrine.com
SUMMARY:Nile Danceers
DESCRIPTION:
URL:https://maskatshrine.com/event/nile-dancers-6-3-2/2025-11-24/
CATEGORIES:Ladies Events
END:VEVENT
BEGIN:VEVENT
DTSTART;VALUE=DATE:20251126
DTEND;VALUE=DATE:20251129
DTSTAMP:20260420T235015
CREATED:20250203T004335Z
LAST-MODIFIED:20250203T004711Z
UID:10002942-1764115200-1764374399@maskatshrine.com
SUMMARY:OFFICE CLOSED-Thanksgiving
DESCRIPTION:
URL:https://maskatshrine.com/event/office-closed-thanksgiving/
CATEGORIES:Holidays
END:VEVENT
BEGIN:VEVENT
DTSTART;VALUE=DATE:20251127
DTEND;VALUE=DATE:20251128
DTSTAMP:20260420T235015
CREATED:20250203T004419Z
LAST-MODIFIED:20250203T004419Z
UID:10002943-1764201600-1764287999@maskatshrine.com
SUMMARY:BUILDING RENTAL
DESCRIPTION:
URL:https://maskatshrine.com/event/building-rental-83/
CATEGORIES:Rentals
END:VEVENT
BEGIN:VEVENT
DTSTART;TZID=America/Chicago:20251201T190000
DTEND;TZID=America/Chicago:20251201T210000
DTSTAMP:20260420T235015
CREATED:20250202T040044Z
LAST-MODIFIED:20260103T010229Z
UID:10002618-1764615600-1764622800@maskatshrine.com
SUMMARY:Nile Danceers
DESCRIPTION:
URL:https://maskatshrine.com/event/nile-dancers-6-3-2/2025-12-01/
CATEGORIES:Ladies Events
END:VEVENT
BEGIN:VEVENT
DTSTART;TZID=America/Chicago:20251203T183000
DTEND;TZID=America/Chicago:20251203T210000
DTSTAMP:20260420T235015
CREATED:20250203T003845Z
LAST-MODIFIED:20250203T003845Z
UID:10002939-1764786600-1764795600@maskatshrine.com
SUMMARY:UNITS COUNCIL
DESCRIPTION:
URL:https://maskatshrine.com/event/units-council-22/
CATEGORIES:Meeting
END:VEVENT
BEGIN:VEVENT
DTSTART;TZID=America/Chicago:20251204T190000
DTEND;TZID=America/Chicago:20251204T210000
DTSTAMP:20260420T235015
CREATED:20250203T000156Z
LAST-MODIFIED:20250203T000156Z
UID:10002914-1764874800-1764882000@maskatshrine.com
SUMMARY:NILE STATED SESSION
DESCRIPTION:
URL:https://maskatshrine.com/event/nile-stated-session-13/2025-12-04/
CATEGORIES:Ladies Events
END:VEVENT
BEGIN:VEVENT
DTSTART;TZID=America/Chicago:20251207T080000
DTEND;TZID=America/Chicago:20251207T170000
DTSTAMP:20260420T235015
CREATED:20250203T004853Z
LAST-MODIFIED:20250203T004853Z
UID:10002944-1765094400-1765126800@maskatshrine.com
SUMMARY:NILE SUPREME QUEEN VISIT
DESCRIPTION:
URL:https://maskatshrine.com/event/nile-supreme-queen-visit-5/
CATEGORIES:Ladies Events
END:VEVENT
BEGIN:VEVENT
DTSTART;TZID=America/Chicago:20251208T070000
DTEND;TZID=America/Chicago:20251208T210000
DTSTAMP:20260420T235015
CREATED:20250203T001153Z
LAST-MODIFIED:20250203T001153Z
UID:10002927-1765177200-1765227600@maskatshrine.com
SUMMARY:NILE FUN BAND
DESCRIPTION:
URL:https://maskatshrine.com/event/nile-fun-band-15/2025-12-08/
CATEGORIES:Ladies Events
END:VEVENT
BEGIN:VEVENT
DTSTART;TZID=America/Chicago:20251208T190000
DTEND;TZID=America/Chicago:20251208T210000
DTSTAMP:20260420T235015
CREATED:20250202T040044Z
LAST-MODIFIED:20260103T010229Z
UID:10002619-1765220400-1765227600@maskatshrine.com
SUMMARY:Nile Danceers
DESCRIPTION:
URL:https://maskatshrine.com/event/nile-dancers-6-3-2/2025-12-08/
CATEGORIES:Ladies Events
END:VEVENT
BEGIN:VEVENT
DTSTART;TZID=America/Chicago:20251209T183000
DTEND;TZID=America/Chicago:20251209T213000
DTSTAMP:20260420T235016
CREATED:20250203T000441Z
LAST-MODIFIED:20250203T000441Z
UID:10002918-1765305000-1765315800@maskatshrine.com
SUMMARY:STATED MEETING
DESCRIPTION:
URL:https://maskatshrine.com/event/stated-meeting-23/2025-12-09/
CATEGORIES:Meeting
END:VEVENT
BEGIN:VEVENT
DTSTART;TZID=America/Chicago:20251210T130000
DTEND;TZID=America/Chicago:20251210T150000
DTSTAMP:20260420T235016
CREATED:20250203T000708Z
LAST-MODIFIED:20250203T000708Z
UID:10002922-1765371600-1765378800@maskatshrine.com
SUMMARY:SHRINE LADIES
DESCRIPTION:
URL:https://maskatshrine.com/event/shrine-ladies-12/2025-12-10/
CATEGORIES:Shrine Ladies
END:VEVENT
BEGIN:VEVENT
DTSTART;VALUE=DATE:20251215
DTEND;VALUE=DATE:20251216
DTSTAMP:20260420T235016
CREATED:20250202T033340Z
LAST-MODIFIED:20250202T033340Z
UID:10002263-1765756800-1765843199@maskatshrine.com
SUMMARY:Wildcat Articles Due
DESCRIPTION:
URL:https://maskatshrine.com/event/wildcat-articles-due-19/2025-12-15/
CATEGORIES:Miscellaneous
END:VEVENT
BEGIN:VEVENT
DTSTART;TZID=America/Chicago:20251215T190000
DTEND;TZID=America/Chicago:20251215T210000
DTSTAMP:20260420T235016
CREATED:20250202T040044Z
LAST-MODIFIED:20260103T010229Z
UID:10002620-1765825200-1765832400@maskatshrine.com
SUMMARY:Nile Danceers
DESCRIPTION:
URL:https://maskatshrine.com/event/nile-dancers-6-3-2/2025-12-15/
CATEGORIES:Ladies Events
END:VEVENT
BEGIN:VEVENT
DTSTART;TZID=America/Chicago:20251218T173000
DTEND;TZID=America/Chicago:20251218T173000
DTSTAMP:20260420T235016
CREATED:20250202T033704Z
LAST-MODIFIED:20250202T223810Z
UID:10002887-1766079000-1766079000@maskatshrine.com
SUMMARY:Happy Hour
DESCRIPTION:
URL:https://maskatshrine.com/event/happy-hour-4/2025-12-18/
CATEGORIES:Miscellaneous
END:VEVENT
BEGIN:VEVENT
DTSTART;TZID=America/Chicago:20251222T190000
DTEND;TZID=America/Chicago:20251222T210000
DTSTAMP:20260420T235016
CREATED:20250202T040044Z
LAST-MODIFIED:20260103T010229Z
UID:10002621-1766430000-1766437200@maskatshrine.com
SUMMARY:Nile Danceers
DESCRIPTION:
URL:https://maskatshrine.com/event/nile-dancers-6-3-2/2025-12-22/
CATEGORIES:Ladies Events
END:VEVENT
BEGIN:VEVENT
DTSTART;VALUE=DATE:20251223
DTEND;VALUE=DATE:20251227
DTSTAMP:20260420T235016
CREATED:20250203T005009Z
LAST-MODIFIED:20250203T005009Z
UID:10002945-1766448000-1766793599@maskatshrine.com
SUMMARY:MASKAT CLOSED FOR CHRISTMAS
DESCRIPTION:
URL:https://maskatshrine.com/event/maskat-closed-for-christmas/
CATEGORIES:Holidays
END:VEVENT
BEGIN:VEVENT
DTSTART;VALUE=DATE:20251224
DTEND;VALUE=DATE:20251225
DTSTAMP:20260420T235016
CREATED:20250203T005106Z
LAST-MODIFIED:20250203T005106Z
UID:10002946-1766534400-1766620799@maskatshrine.com
SUMMARY:BUILDING RENTAL
DESCRIPTION:
URL:https://maskatshrine.com/event/building-rental-84/
CATEGORIES:Rentals
END:VEVENT
BEGIN:VEVENT
DTSTART;TZID=America/Chicago:20251229T190000
DTEND;TZID=America/Chicago:20251229T210000
DTSTAMP:20260420T235016
CREATED:20250202T040044Z
LAST-MODIFIED:20260103T010229Z
UID:10002622-1767034800-1767042000@maskatshrine.com
SUMMARY:Nile Danceers
DESCRIPTION:
URL:https://maskatshrine.com/event/nile-dancers-6-3-2/2025-12-29/
CATEGORIES:Ladies Events
END:VEVENT
BEGIN:VEVENT
DTSTART;VALUE=DATE:20260101
DTEND;VALUE=DATE:20260102
DTSTAMP:20260420T235016
CREATED:20251222T184017Z
LAST-MODIFIED:20251222T184017Z
UID:10002955-1767225600-1767311999@maskatshrine.com
SUMMARY:New Year's Day - MASKAT CLOSED
DESCRIPTION:
URL:https://maskatshrine.com/event/new-years-day-maskat-closed-2/
CATEGORIES:Holidays
END:VEVENT
BEGIN:VEVENT
DTSTART;VALUE=DATE:20260103
DTEND;VALUE=DATE:20260104
DTSTAMP:20260420T235016
CREATED:20260102T143852Z
LAST-MODIFIED:20260103T011115Z
UID:10003059-1767398400-1767484799@maskatshrine.com
SUMMARY:Provost Guard Practice
DESCRIPTION:
URL:https://maskatshrine.com/event/provost-guard-practice-6/2026-01-03/
CATEGORIES:Meeting
END:VEVENT
END:VCALENDAR