BEGIN:VCALENDAR
VERSION:2.0
PRODID:-//Maskat Shrine - ECPv6.15.13//NONSGML v1.0//EN
CALSCALE:GREGORIAN
METHOD:PUBLISH
X-ORIGINAL-URL:https://maskatshrine.com
X-WR-CALDESC:Events for Maskat Shrine
REFRESH-INTERVAL;VALUE=DURATION:PT1H
X-Robots-Tag:noindex
X-PUBLISHED-TTL:PT1H
BEGIN:VTIMEZONE
TZID:America/Chicago
BEGIN:DAYLIGHT
TZOFFSETFROM:-0600
TZOFFSETTO:-0500
TZNAME:CDT
DTSTART:20210314T080000
END:DAYLIGHT
BEGIN:STANDARD
TZOFFSETFROM:-0500
TZOFFSETTO:-0600
TZNAME:CST
DTSTART:20211107T070000
END:STANDARD
BEGIN:DAYLIGHT
TZOFFSETFROM:-0600
TZOFFSETTO:-0500
TZNAME:CDT
DTSTART:20220313T080000
END:DAYLIGHT
BEGIN:STANDARD
TZOFFSETFROM:-0500
TZOFFSETTO:-0600
TZNAME:CST
DTSTART:20221106T070000
END:STANDARD
BEGIN:DAYLIGHT
TZOFFSETFROM:-0600
TZOFFSETTO:-0500
TZNAME:CDT
DTSTART:20230312T080000
END:DAYLIGHT
BEGIN:STANDARD
TZOFFSETFROM:-0500
TZOFFSETTO:-0600
TZNAME:CST
DTSTART:20231105T070000
END:STANDARD
END:VTIMEZONE
BEGIN:VEVENT
DTSTART;VALUE=DATE:20220609
DTEND;VALUE=DATE:20220612
DTSTAMP:20260419T210023
CREATED:20211122T210044Z
LAST-MODIFIED:20211122T210612Z
UID:10000870-1654732800-1654991999@maskatshrine.com
SUMMARY:TSA - WICHITA FALLS
DESCRIPTION:
URL:https://maskatshrine.com/event/tsa-wichita-falls-2/
CATEGORIES:Special Events
END:VEVENT
BEGIN:VEVENT
DTSTART;TZID=America/Chicago:20220611T090000
DTEND;TZID=America/Chicago:20220611T170000
DTSTAMP:20260419T210023
CREATED:20211122T175249Z
LAST-MODIFIED:20230130T213302Z
UID:10001477-1654938000-1654966800@maskatshrine.com
SUMMARY:Provost Guard Practice
DESCRIPTION:
URL:https://maskatshrine.com/event/provost-guard-practice-3/2022-06-11/
CATEGORIES:Miscellaneous
END:VEVENT
BEGIN:VEVENT
DTSTART;TZID=America/Chicago:20220613T190000
DTEND;TZID=America/Chicago:20220613T190000
DTSTAMP:20260419T210023
CREATED:20211122T171501Z
LAST-MODIFIED:20211129T173307Z
UID:10001143-1655146800-1655146800@maskatshrine.com
SUMMARY:Nile Dancers
DESCRIPTION:
URL:https://maskatshrine.com/event/nile-dancers-practice-2/2022-06-13/
CATEGORIES:Ladies Events
END:VEVENT
BEGIN:VEVENT
DTSTART;VALUE=DATE:20220614
DTEND;VALUE=DATE:20220619
DTSTAMP:20260419T210023
CREATED:20211122T210140Z
LAST-MODIFIED:20211122T210140Z
UID:10000871-1655164800-1655596799@maskatshrine.com
SUMMARY:OIL BOWL
DESCRIPTION:
URL:https://maskatshrine.com/event/oil-bowl-8/
CATEGORIES:Special Events
END:VEVENT
BEGIN:VEVENT
DTSTART;TZID=America/Chicago:20220614T080000
DTEND;TZID=America/Chicago:20220614T170000
DTSTAMP:20260419T210023
CREATED:20211122T185039Z
LAST-MODIFIED:20211122T185039Z
UID:10001601-1655193600-1655226000@maskatshrine.com
SUMMARY:Stated Meeting
DESCRIPTION:
URL:https://maskatshrine.com/event/stated-meeting-14/2022-06-14/
CATEGORIES:Meeting
END:VEVENT
BEGIN:VEVENT
DTSTART;TZID=America/Chicago:20220618T090000
DTEND;TZID=America/Chicago:20220618T170000
DTSTAMP:20260419T210023
CREATED:20211122T175249Z
LAST-MODIFIED:20230130T213302Z
UID:10001478-1655542800-1655571600@maskatshrine.com
SUMMARY:Provost Guard Practice
DESCRIPTION:
URL:https://maskatshrine.com/event/provost-guard-practice-3/2022-06-18/
CATEGORIES:Miscellaneous
END:VEVENT
BEGIN:VEVENT
DTSTART;TZID=America/Chicago:20220620T190000
DTEND;TZID=America/Chicago:20220620T190000
DTSTAMP:20260419T210023
CREATED:20211122T171501Z
LAST-MODIFIED:20211129T173307Z
UID:10001144-1655751600-1655751600@maskatshrine.com
SUMMARY:Nile Dancers
DESCRIPTION:
URL:https://maskatshrine.com/event/nile-dancers-practice-2/2022-06-20/
CATEGORIES:Ladies Events
END:VEVENT
BEGIN:VEVENT
DTSTART;TZID=America/Chicago:20220625T090000
DTEND;TZID=America/Chicago:20220625T170000
DTSTAMP:20260419T210023
CREATED:20211122T175249Z
LAST-MODIFIED:20230130T213302Z
UID:10001479-1656147600-1656176400@maskatshrine.com
SUMMARY:Provost Guard Practice
DESCRIPTION:
URL:https://maskatshrine.com/event/provost-guard-practice-3/2022-06-25/
CATEGORIES:Miscellaneous
END:VEVENT
BEGIN:VEVENT
DTSTART;TZID=America/Chicago:20220627T190000
DTEND;TZID=America/Chicago:20220627T190000
DTSTAMP:20260419T210023
CREATED:20211122T171501Z
LAST-MODIFIED:20211129T173307Z
UID:10001145-1656356400-1656356400@maskatshrine.com
SUMMARY:Nile Dancers
DESCRIPTION:
URL:https://maskatshrine.com/event/nile-dancers-practice-2/2022-06-27/
CATEGORIES:Ladies Events
END:VEVENT
BEGIN:VEVENT
DTSTART;VALUE=DATE:20220702
DTEND;VALUE=DATE:20220708
DTSTAMP:20260419T210023
CREATED:20211122T210812Z
LAST-MODIFIED:20211122T210812Z
UID:10000872-1656720000-1657238399@maskatshrine.com
SUMMARY:IMPERIAL SESSION
DESCRIPTION:
URL:https://maskatshrine.com/event/imperial-session-4/
CATEGORIES:Special Events
END:VEVENT
BEGIN:VEVENT
DTSTART;TZID=America/Chicago:20220702T090000
DTEND;TZID=America/Chicago:20220702T170000
DTSTAMP:20260419T210023
CREATED:20211122T175249Z
LAST-MODIFIED:20230130T213302Z
UID:10001480-1656752400-1656781200@maskatshrine.com
SUMMARY:Provost Guard Practice
DESCRIPTION:
URL:https://maskatshrine.com/event/provost-guard-practice-3/2022-07-02/
CATEGORIES:Miscellaneous
END:VEVENT
BEGIN:VEVENT
DTSTART;TZID=America/Chicago:20220704T080000
DTEND;TZID=America/Chicago:20220704T170000
DTSTAMP:20260419T210023
CREATED:20211122T210903Z
LAST-MODIFIED:20211122T210903Z
UID:10000873-1656921600-1656954000@maskatshrine.com
SUMMARY:Independence Day-MASKAT CLOSED
DESCRIPTION:
URL:https://maskatshrine.com/event/independence-day-maskat-closed-2/
CATEGORIES:Holidays
END:VEVENT
BEGIN:VEVENT
DTSTART;TZID=America/Chicago:20220704T190000
DTEND;TZID=America/Chicago:20220704T190000
DTSTAMP:20260419T210023
CREATED:20211122T171501Z
LAST-MODIFIED:20211129T173307Z
UID:10001146-1656961200-1656961200@maskatshrine.com
SUMMARY:Nile Dancers
DESCRIPTION:
URL:https://maskatshrine.com/event/nile-dancers-practice-2/2022-07-04/
CATEGORIES:Ladies Events
END:VEVENT
BEGIN:VEVENT
DTSTART;VALUE=DATE:20220707
DTEND;VALUE=DATE:20220708
DTSTAMP:20260419T210023
CREATED:20220307T180757Z
LAST-MODIFIED:20220307T180757Z
UID:10000498-1657152000-1657238399@maskatshrine.com
SUMMARY:BUILDING RENTAL
DESCRIPTION:
URL:https://maskatshrine.com/event/building-rental-49/
CATEGORIES:Rentals
END:VEVENT
BEGIN:VEVENT
DTSTART;VALUE=DATE:20220709
DTEND;VALUE=DATE:20220710
DTSTAMP:20260419T210023
CREATED:20211129T165140Z
LAST-MODIFIED:20211129T165140Z
UID:10001299-1657324800-1657411199@maskatshrine.com
SUMMARY:Return From Supreme Nile Luncheon
DESCRIPTION:
URL:https://maskatshrine.com/event/return-from-supreme-nile-luncheon/
CATEGORIES:Ladies Events
END:VEVENT
BEGIN:VEVENT
DTSTART;TZID=America/Chicago:20220709T090000
DTEND;TZID=America/Chicago:20220709T170000
DTSTAMP:20260419T210023
CREATED:20211122T175249Z
LAST-MODIFIED:20230130T213302Z
UID:10001481-1657357200-1657386000@maskatshrine.com
SUMMARY:Provost Guard Practice
DESCRIPTION:
URL:https://maskatshrine.com/event/provost-guard-practice-3/2022-07-09/
CATEGORIES:Miscellaneous
END:VEVENT
BEGIN:VEVENT
DTSTART;TZID=America/Chicago:20220711T190000
DTEND;TZID=America/Chicago:20220711T190000
DTSTAMP:20260419T210023
CREATED:20211122T171501Z
LAST-MODIFIED:20211129T173307Z
UID:10001147-1657566000-1657566000@maskatshrine.com
SUMMARY:Nile Dancers
DESCRIPTION:
URL:https://maskatshrine.com/event/nile-dancers-practice-2/2022-07-11/
CATEGORIES:Ladies Events
END:VEVENT
BEGIN:VEVENT
DTSTART;TZID=America/Chicago:20220716T090000
DTEND;TZID=America/Chicago:20220716T170000
DTSTAMP:20260419T210023
CREATED:20211122T175249Z
LAST-MODIFIED:20230130T213302Z
UID:10001482-1657962000-1657990800@maskatshrine.com
SUMMARY:Provost Guard Practice
DESCRIPTION:
URL:https://maskatshrine.com/event/provost-guard-practice-3/2022-07-16/
CATEGORIES:Miscellaneous
END:VEVENT
BEGIN:VEVENT
DTSTART;VALUE=DATE:20220718
DTEND;VALUE=DATE:20220719
DTSTAMP:20260419T210023
CREATED:20211122T191413Z
LAST-MODIFIED:20211122T191413Z
UID:10001611-1658102400-1658188799@maskatshrine.com
SUMMARY:Wildcat Articles Due
DESCRIPTION:
URL:https://maskatshrine.com/event/wildcat-articles-due-12/
CATEGORIES:Miscellaneous
END:VEVENT
BEGIN:VEVENT
DTSTART;TZID=America/Chicago:20220718T190000
DTEND;TZID=America/Chicago:20220718T190000
DTSTAMP:20260419T210023
CREATED:20211122T171501Z
LAST-MODIFIED:20211129T173307Z
UID:10001148-1658170800-1658170800@maskatshrine.com
SUMMARY:Nile Dancers
DESCRIPTION:
URL:https://maskatshrine.com/event/nile-dancers-practice-2/2022-07-18/
CATEGORIES:Ladies Events
END:VEVENT
BEGIN:VEVENT
DTSTART;TZID=America/Chicago:20220723T090000
DTEND;TZID=America/Chicago:20220723T170000
DTSTAMP:20260419T210023
CREATED:20211122T175249Z
LAST-MODIFIED:20230130T213302Z
UID:10001483-1658566800-1658595600@maskatshrine.com
SUMMARY:Provost Guard Practice
DESCRIPTION:
URL:https://maskatshrine.com/event/provost-guard-practice-3/2022-07-23/
CATEGORIES:Miscellaneous
END:VEVENT
BEGIN:VEVENT
DTSTART;TZID=America/Chicago:20220725T190000
DTEND;TZID=America/Chicago:20220725T190000
DTSTAMP:20260419T210023
CREATED:20211122T171501Z
LAST-MODIFIED:20211129T173307Z
UID:10001149-1658775600-1658775600@maskatshrine.com
SUMMARY:Nile Dancers
DESCRIPTION:
URL:https://maskatshrine.com/event/nile-dancers-practice-2/2022-07-25/
CATEGORIES:Ladies Events
END:VEVENT
BEGIN:VEVENT
DTSTART;TZID=America/Chicago:20220730T090000
DTEND;TZID=America/Chicago:20220730T170000
DTSTAMP:20260419T210023
CREATED:20211122T175249Z
LAST-MODIFIED:20230130T213302Z
UID:10001484-1659171600-1659200400@maskatshrine.com
SUMMARY:Provost Guard Practice
DESCRIPTION:
URL:https://maskatshrine.com/event/provost-guard-practice-3/2022-07-30/
CATEGORIES:Miscellaneous
END:VEVENT
BEGIN:VEVENT
DTSTART;TZID=America/Chicago:20220801T190000
DTEND;TZID=America/Chicago:20220801T190000
DTSTAMP:20260419T210023
CREATED:20211122T171501Z
LAST-MODIFIED:20211129T173307Z
UID:10001150-1659380400-1659380400@maskatshrine.com
SUMMARY:Nile Dancers
DESCRIPTION:
URL:https://maskatshrine.com/event/nile-dancers-practice-2/2022-08-01/
CATEGORIES:Ladies Events
END:VEVENT
BEGIN:VEVENT
DTSTART;VALUE=DATE:20220806
DTEND;VALUE=DATE:20220807
DTSTAMP:20260419T210023
CREATED:20220620T181805Z
LAST-MODIFIED:20220620T181805Z
UID:10000704-1659744000-1659830399@maskatshrine.com
SUMMARY:BUILDING RENTAL
DESCRIPTION:
URL:https://maskatshrine.com/event/building-rental-52/
CATEGORIES:Rentals
END:VEVENT
BEGIN:VEVENT
DTSTART;TZID=America/Chicago:20220806T090000
DTEND;TZID=America/Chicago:20220806T170000
DTSTAMP:20260419T210023
CREATED:20211122T175249Z
LAST-MODIFIED:20230130T213302Z
UID:10001485-1659776400-1659805200@maskatshrine.com
SUMMARY:Provost Guard Practice
DESCRIPTION:
URL:https://maskatshrine.com/event/provost-guard-practice-3/2022-08-06/
CATEGORIES:Miscellaneous
END:VEVENT
BEGIN:VEVENT
DTSTART;TZID=America/Chicago:20220808T190000
DTEND;TZID=America/Chicago:20220808T190000
DTSTAMP:20260419T210023
CREATED:20211122T171501Z
LAST-MODIFIED:20211129T173307Z
UID:10001151-1659985200-1659985200@maskatshrine.com
SUMMARY:Nile Dancers
DESCRIPTION:
URL:https://maskatshrine.com/event/nile-dancers-practice-2/2022-08-08/
CATEGORIES:Ladies Events
END:VEVENT
BEGIN:VEVENT
DTSTART;TZID=America/Chicago:20220813T090000
DTEND;TZID=America/Chicago:20220813T170000
DTSTAMP:20260419T210023
CREATED:20211122T175249Z
LAST-MODIFIED:20230130T213302Z
UID:10001486-1660381200-1660410000@maskatshrine.com
SUMMARY:Provost Guard Practice
DESCRIPTION:
URL:https://maskatshrine.com/event/provost-guard-practice-3/2022-08-13/
CATEGORIES:Miscellaneous
END:VEVENT
BEGIN:VEVENT
DTSTART;TZID=America/Chicago:20220815T190000
DTEND;TZID=America/Chicago:20220815T190000
DTSTAMP:20260419T210023
CREATED:20211122T171501Z
LAST-MODIFIED:20211129T173307Z
UID:10001152-1660590000-1660590000@maskatshrine.com
SUMMARY:Nile Dancers
DESCRIPTION:
URL:https://maskatshrine.com/event/nile-dancers-practice-2/2022-08-15/
CATEGORIES:Ladies Events
END:VEVENT
BEGIN:VEVENT
DTSTART;TZID=America/Chicago:20220820T090000
DTEND;TZID=America/Chicago:20220820T170000
DTSTAMP:20260419T210023
CREATED:20211122T175249Z
LAST-MODIFIED:20230130T213302Z
UID:10001487-1660986000-1661014800@maskatshrine.com
SUMMARY:Provost Guard Practice
DESCRIPTION:
URL:https://maskatshrine.com/event/provost-guard-practice-3/2022-08-20/
CATEGORIES:Miscellaneous
END:VEVENT
END:VCALENDAR