BEGIN:VCALENDAR
VERSION:2.0
PRODID:-//Maskat Shrine - ECPv6.15.13//NONSGML v1.0//EN
CALSCALE:GREGORIAN
METHOD:PUBLISH
X-ORIGINAL-URL:https://maskatshrine.com
X-WR-CALDESC:Events for Maskat Shrine
REFRESH-INTERVAL;VALUE=DURATION:PT1H
X-Robots-Tag:noindex
X-PUBLISHED-TTL:PT1H
BEGIN:VTIMEZONE
TZID:America/Chicago
BEGIN:DAYLIGHT
TZOFFSETFROM:-0600
TZOFFSETTO:-0500
TZNAME:CDT
DTSTART:20220313T080000
END:DAYLIGHT
BEGIN:STANDARD
TZOFFSETFROM:-0500
TZOFFSETTO:-0600
TZNAME:CST
DTSTART:20221106T070000
END:STANDARD
BEGIN:DAYLIGHT
TZOFFSETFROM:-0600
TZOFFSETTO:-0500
TZNAME:CDT
DTSTART:20230312T080000
END:DAYLIGHT
BEGIN:STANDARD
TZOFFSETFROM:-0500
TZOFFSETTO:-0600
TZNAME:CST
DTSTART:20231105T070000
END:STANDARD
BEGIN:DAYLIGHT
TZOFFSETFROM:-0600
TZOFFSETTO:-0500
TZNAME:CDT
DTSTART:20240310T080000
END:DAYLIGHT
BEGIN:STANDARD
TZOFFSETFROM:-0500
TZOFFSETTO:-0600
TZNAME:CST
DTSTART:20241103T070000
END:STANDARD
END:VTIMEZONE
BEGIN:VEVENT
DTSTART;VALUE=DATE:20231104
DTEND;VALUE=DATE:20231105
DTSTAMP:20260421T033049
CREATED:20230131T212506Z
LAST-MODIFIED:20230907T154941Z
UID:10001819-1699056000-1699142399@maskatshrine.com
SUMMARY:Rib Cook
DESCRIPTION:
URL:https://maskatshrine.com/event/rib-cook/
CATEGORIES:Special Events
END:VEVENT
BEGIN:VEVENT
DTSTART;TZID=America/Chicago:20231104T090000
DTEND;TZID=America/Chicago:20231104T170000
DTSTAMP:20260421T033049
CREATED:20211122T175249Z
LAST-MODIFIED:20230130T213302Z
UID:10001550-1699088400-1699117200@maskatshrine.com
SUMMARY:Provost Guard Practice
DESCRIPTION:
URL:https://maskatshrine.com/event/provost-guard-practice-3/2023-11-04/
CATEGORIES:Miscellaneous
END:VEVENT
BEGIN:VEVENT
DTSTART;TZID=America/Chicago:20231105T080000
DTEND;TZID=America/Chicago:20231105T170000
DTSTAMP:20260421T033049
CREATED:20230131T215348Z
LAST-MODIFIED:20230131T215348Z
UID:10001841-1699171200-1699203600@maskatshrine.com
SUMMARY:Daylight Savings Time Ends
DESCRIPTION:
URL:https://maskatshrine.com/event/daylight-savings-time-ends-2/
CATEGORIES:Miscellaneous
END:VEVENT
BEGIN:VEVENT
DTSTART;TZID=America/Chicago:20231106T190000
DTEND;TZID=America/Chicago:20231106T213000
DTSTAMP:20260421T033049
CREATED:20230131T002357Z
LAST-MODIFIED:20230131T002357Z
UID:10001674-1699297200-1699306200@maskatshrine.com
SUMMARY:Nile Dancers
DESCRIPTION:
URL:https://maskatshrine.com/event/nile-dancers-3/2023-11-06/
CATEGORIES:Ladies Events
END:VEVENT
BEGIN:VEVENT
DTSTART;TZID=America/Chicago:20231108T080000
DTEND;TZID=America/Chicago:20231108T170000
DTSTAMP:20260421T033049
CREATED:20230131T210931Z
LAST-MODIFIED:20230131T210931Z
UID:10001806-1699430400-1699462800@maskatshrine.com
SUMMARY:Units Council
DESCRIPTION:
URL:https://maskatshrine.com/event/units-council-10/
CATEGORIES:Meeting
END:VEVENT
BEGIN:VEVENT
DTSTART;TZID=America/Chicago:20231108T130000
DTEND;TZID=America/Chicago:20231108T150000
DTSTAMP:20260421T033049
CREATED:20230131T003211Z
LAST-MODIFIED:20230131T021142Z
UID:10001689-1699448400-1699455600@maskatshrine.com
SUMMARY:Shrine Ladies
DESCRIPTION:
URL:https://maskatshrine.com/event/shrine-ladies-9/2023-11-08/
CATEGORIES:Shrine Ladies
END:VEVENT
BEGIN:VEVENT
DTSTART;TZID=America/Chicago:20231109T103000
DTEND;TZID=America/Chicago:20231109T120000
DTSTAMP:20260421T033049
CREATED:20230131T211620Z
LAST-MODIFIED:20230131T211620Z
UID:10001814-1699525800-1699531200@maskatshrine.com
SUMMARY:Nile Sewing
DESCRIPTION:
URL:https://maskatshrine.com/event/nile-sewing-11/2023-11-09/
CATEGORIES:Ladies Events
END:VEVENT
BEGIN:VEVENT
DTSTART;VALUE=DATE:20231110
DTEND;VALUE=DATE:20231111
DTSTAMP:20260421T033049
CREATED:20230131T213404Z
LAST-MODIFIED:20230131T213404Z
UID:10001825-1699574400-1699660799@maskatshrine.com
SUMMARY:Veterans' Day-MASKAT CLOSED
DESCRIPTION:
URL:https://maskatshrine.com/event/veterans-day-maskat-closed-3/
CATEGORIES:Holidays
END:VEVENT
BEGIN:VEVENT
DTSTART;TZID=America/Chicago:20231111T090000
DTEND;TZID=America/Chicago:20231111T170000
DTSTAMP:20260421T033049
CREATED:20211122T175249Z
LAST-MODIFIED:20230130T213302Z
UID:10001551-1699693200-1699722000@maskatshrine.com
SUMMARY:Provost Guard Practice
DESCRIPTION:
URL:https://maskatshrine.com/event/provost-guard-practice-3/2023-11-11/
CATEGORIES:Miscellaneous
END:VEVENT
BEGIN:VEVENT
DTSTART;TZID=America/Chicago:20231113T190000
DTEND;TZID=America/Chicago:20231113T213000
DTSTAMP:20260421T033049
CREATED:20230131T002357Z
LAST-MODIFIED:20230131T002357Z
UID:10001675-1699902000-1699911000@maskatshrine.com
SUMMARY:Nile Dancers
DESCRIPTION:
URL:https://maskatshrine.com/event/nile-dancers-3/2023-11-13/
CATEGORIES:Ladies Events
END:VEVENT
BEGIN:VEVENT
DTSTART;TZID=America/Chicago:20231113T190000
DTEND;TZID=America/Chicago:20231113T213000
DTSTAMP:20260421T033049
CREATED:20230131T193252Z
LAST-MODIFIED:20230131T213051Z
UID:10001823-1699902000-1699911000@maskatshrine.com
SUMMARY:Nile Fun Band
DESCRIPTION:
URL:https://maskatshrine.com/event/nile-fun-band-11/2023-11-13/
CATEGORIES:Ladies Events
END:VEVENT
BEGIN:VEVENT
DTSTART;TZID=America/Chicago:20231114T183000
DTEND;TZID=America/Chicago:20231114T183000
DTSTAMP:20260421T033049
CREATED:20230131T022317Z
LAST-MODIFIED:20230131T022317Z
UID:10001716-1699986600-1699986600@maskatshrine.com
SUMMARY:Stated Meeting
DESCRIPTION:
URL:https://maskatshrine.com/event/stated-meeting-17/2023-11-14/
CATEGORIES:Meeting
END:VEVENT
BEGIN:VEVENT
DTSTART;TZID=America/Chicago:20231116T173000
DTEND;TZID=America/Chicago:20231116T190000
DTSTAMP:20260421T033049
CREATED:20230131T204734Z
LAST-MODIFIED:20230131T204734Z
UID:10001789-1700155800-1700161200@maskatshrine.com
SUMMARY:Happy Hour
DESCRIPTION:
URL:https://maskatshrine.com/event/happy-hour-3/2023-11-16/
CATEGORIES:Miscellaneous
END:VEVENT
BEGIN:VEVENT
DTSTART;TZID=America/Chicago:20231116T183000
DTEND;TZID=America/Chicago:20231116T210000
DTSTAMP:20260421T033049
CREATED:20230131T023455Z
LAST-MODIFIED:20230131T023455Z
UID:10001743-1700159400-1700168400@maskatshrine.com
SUMMARY:Nile Patrol
DESCRIPTION:
URL:https://maskatshrine.com/event/nile-patrol-11/2023-11-16/
CATEGORIES:Ladies Events
END:VEVENT
BEGIN:VEVENT
DTSTART;VALUE=DATE:20231118
DTEND;VALUE=DATE:20231120
DTSTAMP:20260421T033049
CREATED:20230131T213501Z
LAST-MODIFIED:20230131T213501Z
UID:10001826-1700265600-1700438399@maskatshrine.com
SUMMARY:Turkey Cook
DESCRIPTION:
URL:https://maskatshrine.com/event/turkey-cook-5/
CATEGORIES:Special Events
END:VEVENT
BEGIN:VEVENT
DTSTART;TZID=America/Chicago:20231118T090000
DTEND;TZID=America/Chicago:20231118T170000
DTSTAMP:20260421T033049
CREATED:20211122T175249Z
LAST-MODIFIED:20230130T213302Z
UID:10001552-1700298000-1700326800@maskatshrine.com
SUMMARY:Provost Guard Practice
DESCRIPTION:
URL:https://maskatshrine.com/event/provost-guard-practice-3/2023-11-18/
CATEGORIES:Miscellaneous
END:VEVENT
BEGIN:VEVENT
DTSTART;VALUE=DATE:20231120
DTEND;VALUE=DATE:20231121
DTSTAMP:20260421T033049
CREATED:20230131T205838Z
LAST-MODIFIED:20230131T205838Z
UID:10001798-1700438400-1700524799@maskatshrine.com
SUMMARY:Wildcat Articles Due
DESCRIPTION:
URL:https://maskatshrine.com/event/wildcat-articles-due-17/2023-11-20/
CATEGORIES:Miscellaneous
END:VEVENT
BEGIN:VEVENT
DTSTART;TZID=America/Chicago:20231120T190000
DTEND;TZID=America/Chicago:20231120T213000
DTSTAMP:20260421T033049
CREATED:20230131T002357Z
LAST-MODIFIED:20230131T002357Z
UID:10001676-1700506800-1700515800@maskatshrine.com
SUMMARY:Nile Dancers
DESCRIPTION:
URL:https://maskatshrine.com/event/nile-dancers-3/2023-11-20/
CATEGORIES:Ladies Events
END:VEVENT
BEGIN:VEVENT
DTSTART;VALUE=DATE:20231123
DTEND;VALUE=DATE:20231124
DTSTAMP:20260421T033049
CREATED:20230131T213652Z
LAST-MODIFIED:20230131T213652Z
UID:10001828-1700697600-1700783999@maskatshrine.com
SUMMARY:BUILDING RENTAL
DESCRIPTION:
URL:https://maskatshrine.com/event/building-rental-55/
CATEGORIES:Rentals
END:VEVENT
BEGIN:VEVENT
DTSTART;VALUE=DATE:20231123
DTEND;VALUE=DATE:20231125
DTSTAMP:20260421T033049
CREATED:20230131T213605Z
LAST-MODIFIED:20230131T213605Z
UID:10001827-1700697600-1700870399@maskatshrine.com
SUMMARY:Thanksgiving-MASKAT CLOSED
DESCRIPTION:
URL:https://maskatshrine.com/event/thanksgiving-maskat-closed-6/
CATEGORIES:Holidays
END:VEVENT
BEGIN:VEVENT
DTSTART;TZID=America/Chicago:20231125T090000
DTEND;TZID=America/Chicago:20231125T170000
DTSTAMP:20260421T033049
CREATED:20211122T175249Z
LAST-MODIFIED:20230130T213302Z
UID:10001553-1700902800-1700931600@maskatshrine.com
SUMMARY:Provost Guard Practice
DESCRIPTION:
URL:https://maskatshrine.com/event/provost-guard-practice-3/2023-11-25/
CATEGORIES:Miscellaneous
END:VEVENT
BEGIN:VEVENT
DTSTART;VALUE=DATE:20231126
DTEND;VALUE=DATE:20231127
DTSTAMP:20260421T033049
CREATED:20230131T213748Z
LAST-MODIFIED:20230131T213748Z
UID:10001829-1700956800-1701043199@maskatshrine.com
SUMMARY:Decorate for Christmas
DESCRIPTION:
URL:https://maskatshrine.com/event/decorate-for-christmas-6/
CATEGORIES:Miscellaneous
END:VEVENT
BEGIN:VEVENT
DTSTART;VALUE=DATE:20231127
DTEND;VALUE=DATE:20231128
DTSTAMP:20260421T033049
CREATED:20231016T154334Z
LAST-MODIFIED:20231016T154334Z
UID:10001851-1701043200-1701129599@maskatshrine.com
SUMMARY:BUILDING RENTAL
DESCRIPTION:
URL:https://maskatshrine.com/event/building-rental-63/
CATEGORIES:Rentals
END:VEVENT
BEGIN:VEVENT
DTSTART;TZID=America/Chicago:20231127T190000
DTEND;TZID=America/Chicago:20231127T213000
DTSTAMP:20260421T033049
CREATED:20230131T002357Z
LAST-MODIFIED:20230131T002357Z
UID:10001677-1701111600-1701120600@maskatshrine.com
SUMMARY:Nile Dancers
DESCRIPTION:
URL:https://maskatshrine.com/event/nile-dancers-3/2023-11-27/
CATEGORIES:Ladies Events
END:VEVENT
BEGIN:VEVENT
DTSTART;VALUE=DATE:20231201
DTEND;VALUE=DATE:20231202
DTSTAMP:20260421T033049
CREATED:20230426T163606Z
LAST-MODIFIED:20230426T170403Z
UID:10001847-1701388800-1701475199@maskatshrine.com
SUMMARY:BUILDING RENTAL
DESCRIPTION:
URL:https://maskatshrine.com/event/building-rental-59/
CATEGORIES:Rentals
END:VEVENT
BEGIN:VEVENT
DTSTART;TZID=America/Chicago:20231202T090000
DTEND;TZID=America/Chicago:20231202T170000
DTSTAMP:20260421T033049
CREATED:20211122T175249Z
LAST-MODIFIED:20230130T213302Z
UID:10001554-1701507600-1701536400@maskatshrine.com
SUMMARY:Provost Guard Practice
DESCRIPTION:
URL:https://maskatshrine.com/event/provost-guard-practice-3/2023-12-02/
CATEGORIES:Miscellaneous
END:VEVENT
BEGIN:VEVENT
DTSTART;VALUE=DATE:20231203
DTEND;VALUE=DATE:20231204
DTSTAMP:20260421T033049
CREATED:20230131T214126Z
LAST-MODIFIED:20230131T214126Z
UID:10001830-1701561600-1701647999@maskatshrine.com
SUMMARY:Shop for Foster Kids Christmas Party
DESCRIPTION:
URL:https://maskatshrine.com/event/shop-for-foster-kids-christmas-party/
CATEGORIES:Miscellaneous
END:VEVENT
BEGIN:VEVENT
DTSTART;VALUE=DATE:20231204
DTEND;VALUE=DATE:20231205
DTSTAMP:20260421T033049
CREATED:20230131T214225Z
LAST-MODIFIED:20230131T214225Z
UID:10001831-1701648000-1701734399@maskatshrine.com
SUMMARY:Foster Kids Christmas Party
DESCRIPTION:
URL:https://maskatshrine.com/event/foster-kids-christmas-party-5/
CATEGORIES:Special Events
END:VEVENT
BEGIN:VEVENT
DTSTART;TZID=America/Chicago:20231204T190000
DTEND;TZID=America/Chicago:20231204T213000
DTSTAMP:20260421T033049
CREATED:20230131T002357Z
LAST-MODIFIED:20230131T002357Z
UID:10001678-1701716400-1701725400@maskatshrine.com
SUMMARY:Nile Dancers
DESCRIPTION:
URL:https://maskatshrine.com/event/nile-dancers-3/2023-12-04/
CATEGORIES:Ladies Events
END:VEVENT
BEGIN:VEVENT
DTSTART;TZID=America/Chicago:20231206T183000
DTEND;TZID=America/Chicago:20231206T210000
DTSTAMP:20260421T033049
CREATED:20230131T211026Z
LAST-MODIFIED:20230131T211026Z
UID:10001807-1701887400-1701896400@maskatshrine.com
SUMMARY:Units Council
DESCRIPTION:
URL:https://maskatshrine.com/event/units-council-11/
CATEGORIES:Meeting
END:VEVENT
END:VCALENDAR