BEGIN:VCALENDAR
VERSION:2.0
PRODID:-//Maskat Shrine - ECPv6.15.13//NONSGML v1.0//EN
CALSCALE:GREGORIAN
METHOD:PUBLISH
X-WR-CALNAME:Maskat Shrine
X-ORIGINAL-URL:https://maskatshrine.com
X-WR-CALDESC:Events for Maskat Shrine
REFRESH-INTERVAL;VALUE=DURATION:PT1H
X-Robots-Tag:noindex
X-PUBLISHED-TTL:PT1H
BEGIN:VTIMEZONE
TZID:America/Chicago
BEGIN:DAYLIGHT
TZOFFSETFROM:-0600
TZOFFSETTO:-0500
TZNAME:CDT
DTSTART:20230312T080000
END:DAYLIGHT
BEGIN:STANDARD
TZOFFSETFROM:-0500
TZOFFSETTO:-0600
TZNAME:CST
DTSTART:20231105T070000
END:STANDARD
BEGIN:DAYLIGHT
TZOFFSETFROM:-0600
TZOFFSETTO:-0500
TZNAME:CDT
DTSTART:20240310T080000
END:DAYLIGHT
BEGIN:STANDARD
TZOFFSETFROM:-0500
TZOFFSETTO:-0600
TZNAME:CST
DTSTART:20241103T070000
END:STANDARD
BEGIN:DAYLIGHT
TZOFFSETFROM:-0600
TZOFFSETTO:-0500
TZNAME:CDT
DTSTART:20250309T080000
END:DAYLIGHT
BEGIN:STANDARD
TZOFFSETFROM:-0500
TZOFFSETTO:-0600
TZNAME:CST
DTSTART:20251102T070000
END:STANDARD
END:VTIMEZONE
BEGIN:VEVENT
DTSTART;TZID=America/Chicago:20241116T080000
DTEND;TZID=America/Chicago:20241116T170000
DTSTAMP:20260425T115040
CREATED:20240117T163631Z
LAST-MODIFIED:20240117T163631Z
UID:10002160-1731744000-1731776400@maskatshrine.com
SUMMARY:Military Thanksgiving Dinner
DESCRIPTION:
URL:https://maskatshrine.com/event/military-thanksgiving-dinner/
CATEGORIES:Special Events
END:VEVENT
BEGIN:VEVENT
DTSTART;VALUE=DATE:20241118
DTEND;VALUE=DATE:20241119
DTSTAMP:20260425T115040
CREATED:20231214T190135Z
LAST-MODIFIED:20231214T190201Z
UID:10002059-1731888000-1731974399@maskatshrine.com
SUMMARY:Wildcat Articles Due
DESCRIPTION:
URL:https://maskatshrine.com/event/wildcat-articles-due-18/2024-11-18/
CATEGORIES:Miscellaneous
END:VEVENT
BEGIN:VEVENT
DTSTART;TZID=America/Chicago:20241118T190000
DTEND;TZID=America/Chicago:20241118T210000
DTSTAMP:20260425T115040
CREATED:20231214T175141Z
LAST-MODIFIED:20240117T165632Z
UID:10002039-1731956400-1731963600@maskatshrine.com
SUMMARY:Nile Dancers
DESCRIPTION:
URL:https://maskatshrine.com/event/nile-dancers-5/2024-11-18/
CATEGORIES:Ladies Events
END:VEVENT
BEGIN:VEVENT
DTSTART;TZID=America/Chicago:20241121T173000
DTEND;TZID=America/Chicago:20241121T193000
DTSTAMP:20260425T115040
CREATED:20231214T190429Z
LAST-MODIFIED:20231214T190429Z
UID:10002071-1732210200-1732217400@maskatshrine.com
SUMMARY:HAPPY BIRTHDAY! Happy Hour
DESCRIPTION:
URL:https://maskatshrine.com/event/happy-birthday-happy-hour/2024-11-21/
CATEGORIES:Miscellaneous
END:VEVENT
BEGIN:VEVENT
DTSTART;VALUE=DATE:20241123
DTEND;VALUE=DATE:20241124
DTSTAMP:20260425T115040
CREATED:20240117T164229Z
LAST-MODIFIED:20240212T193945Z
UID:10002163-1732320000-1732406399@maskatshrine.com
SUMMARY:Decorate for Christmas
DESCRIPTION:
URL:https://maskatshrine.com/event/decorate-for-christmas-7/
CATEGORIES:Miscellaneous
END:VEVENT
BEGIN:VEVENT
DTSTART;TZID=America/Chicago:20241123T080000
DTEND;TZID=America/Chicago:20241123T170000
DTSTAMP:20260425T115040
CREATED:20231214T182304Z
LAST-MODIFIED:20231214T182304Z
UID:10001998-1732348800-1732381200@maskatshrine.com
SUMMARY:Provost Guard Practice
DESCRIPTION:
URL:https://maskatshrine.com/event/provost-guard-practice-4/2024-11-23/
CATEGORIES:Miscellaneous
END:VEVENT
BEGIN:VEVENT
DTSTART;TZID=America/Chicago:20241125T190000
DTEND;TZID=America/Chicago:20241125T210000
DTSTAMP:20260425T115040
CREATED:20231214T175141Z
LAST-MODIFIED:20240117T165632Z
UID:10002040-1732561200-1732568400@maskatshrine.com
SUMMARY:Nile Dancers
DESCRIPTION:
URL:https://maskatshrine.com/event/nile-dancers-5/2024-11-25/
CATEGORIES:Ladies Events
END:VEVENT
BEGIN:VEVENT
DTSTART;VALUE=DATE:20241128
DTEND;VALUE=DATE:20241129
DTSTAMP:20260425T115040
CREATED:20240117T164001Z
LAST-MODIFIED:20240117T164001Z
UID:10002162-1732752000-1732838399@maskatshrine.com
SUMMARY:BUILDING RENTAL
DESCRIPTION:
URL:https://maskatshrine.com/event/building-rental-66/
CATEGORIES:Rentals
END:VEVENT
BEGIN:VEVENT
DTSTART;VALUE=DATE:20241128
DTEND;VALUE=DATE:20241130
DTSTAMP:20260425T115040
CREATED:20240117T163830Z
LAST-MODIFIED:20240117T163904Z
UID:10002161-1732752000-1732924799@maskatshrine.com
SUMMARY:MASKAT CLOSED - Thanksgiving
DESCRIPTION:
URL:https://maskatshrine.com/event/maskat-closed-thanksgiving/
CATEGORIES:Holidays
END:VEVENT
BEGIN:VEVENT
DTSTART;TZID=America/Chicago:20241130T080000
DTEND;TZID=America/Chicago:20241130T170000
DTSTAMP:20260425T115040
CREATED:20231214T182304Z
LAST-MODIFIED:20231214T182304Z
UID:10001999-1732953600-1732986000@maskatshrine.com
SUMMARY:Provost Guard Practice
DESCRIPTION:
URL:https://maskatshrine.com/event/provost-guard-practice-4/2024-11-30/
CATEGORIES:Miscellaneous
END:VEVENT
BEGIN:VEVENT
DTSTART;TZID=America/Chicago:20241201T080000
DTEND;TZID=America/Chicago:20241201T170000
DTSTAMP:20260425T115040
CREATED:20240117T164522Z
LAST-MODIFIED:20240117T164522Z
UID:10002164-1733040000-1733072400@maskatshrine.com
SUMMARY:Shop for Foster's Kids Party
DESCRIPTION:
URL:https://maskatshrine.com/event/shop-for-fosters-kids-party/
CATEGORIES:Miscellaneous
END:VEVENT
BEGIN:VEVENT
DTSTART;TZID=America/Chicago:20241202T080000
DTEND;TZID=America/Chicago:20241202T170000
DTSTAMP:20260425T115040
CREATED:20240117T164559Z
LAST-MODIFIED:20240117T164559Z
UID:10002165-1733126400-1733158800@maskatshrine.com
SUMMARY:Foster Kid's Party
DESCRIPTION:
URL:https://maskatshrine.com/event/foster-kids-party-3/
CATEGORIES:Special Events
END:VEVENT
BEGIN:VEVENT
DTSTART;TZID=America/Chicago:20241202T190000
DTEND;TZID=America/Chicago:20241202T210000
DTSTAMP:20260425T115040
CREATED:20231214T175141Z
LAST-MODIFIED:20240117T165632Z
UID:10001874-1733166000-1733173200@maskatshrine.com
SUMMARY:Nile Dancers
DESCRIPTION:
URL:https://maskatshrine.com/event/nile-dancers-5/2024-12-02/
CATEGORIES:Ladies Events
END:VEVENT
BEGIN:VEVENT
DTSTART;TZID=America/Chicago:20241204T183000
DTEND;TZID=America/Chicago:20241204T210000
DTSTAMP:20260425T115040
CREATED:20240104T200102Z
LAST-MODIFIED:20240104T200102Z
UID:10002127-1733337000-1733346000@maskatshrine.com
SUMMARY:Units Council
DESCRIPTION:
URL:https://maskatshrine.com/event/units-council-15/2024-12-04/
CATEGORIES:Meeting
END:VEVENT
BEGIN:VEVENT
DTSTART;TZID=America/Chicago:20241205T190000
DTEND;TZID=America/Chicago:20241205T213000
DTSTAMP:20260425T115040
CREATED:20240104T200336Z
LAST-MODIFIED:20240104T200336Z
UID:10002131-1733425200-1733434200@maskatshrine.com
SUMMARY:Nile Stated Session
DESCRIPTION:
URL:https://maskatshrine.com/event/nile-stated-session-12/2024-12-05/
CATEGORIES:Ladies Events
END:VEVENT
BEGIN:VEVENT
DTSTART;VALUE=DATE:20241206
DTEND;VALUE=DATE:20241207
DTSTAMP:20260425T115040
CREATED:20240911T172156Z
LAST-MODIFIED:20240911T172156Z
UID:10002181-1733443200-1733529599@maskatshrine.com
SUMMARY:BUILDING RENTAL
DESCRIPTION:
URL:https://maskatshrine.com/event/building-rental-71/
CATEGORIES:Rentals
END:VEVENT
BEGIN:VEVENT
DTSTART;VALUE=DATE:20241206
DTEND;VALUE=DATE:20241209
DTSTAMP:20260425T115040
CREATED:20240117T164833Z
LAST-MODIFIED:20240117T164833Z
UID:10002166-1733443200-1733702399@maskatshrine.com
SUMMARY:Festival of Trees
DESCRIPTION:
URL:https://maskatshrine.com/event/festival-of-trees/
CATEGORIES:Special Events
END:VEVENT
BEGIN:VEVENT
DTSTART;TZID=America/Chicago:20241207T080000
DTEND;TZID=America/Chicago:20241207T170000
DTSTAMP:20260425T115040
CREATED:20231214T182304Z
LAST-MODIFIED:20231214T182304Z
UID:10002000-1733558400-1733590800@maskatshrine.com
SUMMARY:Provost Guard Practice
DESCRIPTION:
URL:https://maskatshrine.com/event/provost-guard-practice-4/2024-12-07/
CATEGORIES:Miscellaneous
END:VEVENT
BEGIN:VEVENT
DTSTART;TZID=America/Chicago:20241209T183000
DTEND;TZID=America/Chicago:20241209T213000
DTSTAMP:20260425T115040
CREATED:20240117T163021Z
LAST-MODIFIED:20240117T163021Z
UID:10002158-1733769000-1733779800@maskatshrine.com
SUMMARY:Nile Fun Band
DESCRIPTION:
URL:https://maskatshrine.com/event/nile-fun-band-13/2024-12-09/
CATEGORIES:Ladies Events
END:VEVENT
BEGIN:VEVENT
DTSTART;TZID=America/Chicago:20241209T190000
DTEND;TZID=America/Chicago:20241209T210000
DTSTAMP:20260425T115040
CREATED:20231214T175141Z
LAST-MODIFIED:20240117T165632Z
UID:10002167-1733770800-1733778000@maskatshrine.com
SUMMARY:Nile Dancers
DESCRIPTION:
URL:https://maskatshrine.com/event/nile-dancers-5/2024-12-09/
CATEGORIES:Ladies Events
END:VEVENT
BEGIN:VEVENT
DTSTART;TZID=America/Chicago:20241210T183000
DTEND;TZID=America/Chicago:20241210T213000
DTSTAMP:20260425T115040
CREATED:20240117T170103Z
LAST-MODIFIED:20240117T170211Z
UID:10002171-1733855400-1733866200@maskatshrine.com
SUMMARY:Stated Meeting - Elections & Ladies' Night
DESCRIPTION:
URL:https://maskatshrine.com/event/stated-meeting-25/
CATEGORIES:Meeting
END:VEVENT
BEGIN:VEVENT
DTSTART;TZID=America/Chicago:20241211T130000
DTEND;TZID=America/Chicago:20241211T150000
DTSTAMP:20260425T115040
CREATED:20240104T201344Z
LAST-MODIFIED:20240104T201344Z
UID:10002141-1733922000-1733929200@maskatshrine.com
SUMMARY:Shrine Ladies
DESCRIPTION:
URL:https://maskatshrine.com/event/shrine-ladies-11/2024-12-11/
CATEGORIES:Shrine Ladies
END:VEVENT
BEGIN:VEVENT
DTSTART;TZID=America/Chicago:20241212T103000
DTEND;TZID=America/Chicago:20241212T150000
DTSTAMP:20260425T115040
CREATED:20240104T201610Z
LAST-MODIFIED:20240104T201716Z
UID:10002145-1733999400-1734015600@maskatshrine.com
SUMMARY:Nile Sewing
DESCRIPTION:
URL:https://maskatshrine.com/event/nile-sewing-13/2024-12-12/
CATEGORIES:Ladies Events
END:VEVENT
BEGIN:VEVENT
DTSTART;VALUE=DATE:20241214
DTEND;VALUE=DATE:20241215
DTSTAMP:20260425T115040
CREATED:20240819T171038Z
LAST-MODIFIED:20240819T171038Z
UID:10002179-1734134400-1734220799@maskatshrine.com
SUMMARY:BUILDING RENTAL
DESCRIPTION:
URL:https://maskatshrine.com/event/building-rental-70/
CATEGORIES:Rentals
END:VEVENT
BEGIN:VEVENT
DTSTART;TZID=America/Chicago:20241214T080000
DTEND;TZID=America/Chicago:20241214T170000
DTSTAMP:20260425T115040
CREATED:20231214T182304Z
LAST-MODIFIED:20231214T182304Z
UID:10002001-1734163200-1734195600@maskatshrine.com
SUMMARY:Provost Guard Practice
DESCRIPTION:
URL:https://maskatshrine.com/event/provost-guard-practice-4/2024-12-14/
CATEGORIES:Miscellaneous
END:VEVENT
BEGIN:VEVENT
DTSTART;VALUE=DATE:20241216
DTEND;VALUE=DATE:20241217
DTSTAMP:20260425T115040
CREATED:20231214T190135Z
LAST-MODIFIED:20231214T190201Z
UID:10002060-1734307200-1734393599@maskatshrine.com
SUMMARY:Wildcat Articles Due
DESCRIPTION:
URL:https://maskatshrine.com/event/wildcat-articles-due-18/2024-12-16/
CATEGORIES:Miscellaneous
END:VEVENT
BEGIN:VEVENT
DTSTART;TZID=America/Chicago:20241216T190000
DTEND;TZID=America/Chicago:20241216T210000
DTSTAMP:20260425T115040
CREATED:20231214T175141Z
LAST-MODIFIED:20240117T165632Z
UID:10002168-1734375600-1734382800@maskatshrine.com
SUMMARY:Nile Dancers
DESCRIPTION:
URL:https://maskatshrine.com/event/nile-dancers-5/2024-12-16/
CATEGORIES:Ladies Events
END:VEVENT
BEGIN:VEVENT
DTSTART;TZID=America/Chicago:20241219T173000
DTEND;TZID=America/Chicago:20241219T193000
DTSTAMP:20260425T115040
CREATED:20231214T190429Z
LAST-MODIFIED:20231214T190429Z
UID:10002072-1734629400-1734636600@maskatshrine.com
SUMMARY:HAPPY BIRTHDAY! Happy Hour
DESCRIPTION:
URL:https://maskatshrine.com/event/happy-birthday-happy-hour/2024-12-19/
CATEGORIES:Miscellaneous
END:VEVENT
BEGIN:VEVENT
DTSTART;TZID=America/Chicago:20241221T080000
DTEND;TZID=America/Chicago:20241221T170000
DTSTAMP:20260425T115040
CREATED:20231214T182304Z
LAST-MODIFIED:20231214T182304Z
UID:10002002-1734768000-1734800400@maskatshrine.com
SUMMARY:Provost Guard Practice
DESCRIPTION:
URL:https://maskatshrine.com/event/provost-guard-practice-4/2024-12-21/
CATEGORIES:Miscellaneous
END:VEVENT
BEGIN:VEVENT
DTSTART;TZID=America/Chicago:20241223T190000
DTEND;TZID=America/Chicago:20241223T210000
DTSTAMP:20260425T115040
CREATED:20231214T175141Z
LAST-MODIFIED:20240117T165632Z
UID:10002169-1734980400-1734987600@maskatshrine.com
SUMMARY:Nile Dancers
DESCRIPTION:
URL:https://maskatshrine.com/event/nile-dancers-5/2024-12-23/
CATEGORIES:Ladies Events
END:VEVENT
END:VCALENDAR