BEGIN:VCALENDAR
VERSION:2.0
PRODID:-//Maskat Shrine - ECPv6.15.13//NONSGML v1.0//EN
CALSCALE:GREGORIAN
METHOD:PUBLISH
X-ORIGINAL-URL:https://maskatshrine.com
X-WR-CALDESC:Events for Maskat Shrine
REFRESH-INTERVAL;VALUE=DURATION:PT1H
X-Robots-Tag:noindex
X-PUBLISHED-TTL:PT1H
BEGIN:VTIMEZONE
TZID:America/Chicago
BEGIN:DAYLIGHT
TZOFFSETFROM:-0600
TZOFFSETTO:-0500
TZNAME:CDT
DTSTART:20230312T080000
END:DAYLIGHT
BEGIN:STANDARD
TZOFFSETFROM:-0500
TZOFFSETTO:-0600
TZNAME:CST
DTSTART:20231105T070000
END:STANDARD
BEGIN:DAYLIGHT
TZOFFSETFROM:-0600
TZOFFSETTO:-0500
TZNAME:CDT
DTSTART:20240310T080000
END:DAYLIGHT
BEGIN:STANDARD
TZOFFSETFROM:-0500
TZOFFSETTO:-0600
TZNAME:CST
DTSTART:20241103T070000
END:STANDARD
BEGIN:DAYLIGHT
TZOFFSETFROM:-0600
TZOFFSETTO:-0500
TZNAME:CDT
DTSTART:20250309T080000
END:DAYLIGHT
BEGIN:STANDARD
TZOFFSETFROM:-0500
TZOFFSETTO:-0600
TZNAME:CST
DTSTART:20251102T070000
END:STANDARD
END:VTIMEZONE
BEGIN:VEVENT
DTSTART;TZID=America/Chicago:20241019T080000
DTEND;TZID=America/Chicago:20241019T170000
DTSTAMP:20260420T135649
CREATED:20231214T182304Z
LAST-MODIFIED:20231214T182304Z
UID:10001993-1729324800-1729357200@maskatshrine.com
SUMMARY:Provost Guard Practice
DESCRIPTION:
URL:https://maskatshrine.com/event/provost-guard-practice-4/2024-10-19/
CATEGORIES:Miscellaneous
END:VEVENT
BEGIN:VEVENT
DTSTART;VALUE=DATE:20241021
DTEND;VALUE=DATE:20241022
DTSTAMP:20260420T135649
CREATED:20231214T190135Z
LAST-MODIFIED:20231214T190201Z
UID:10002058-1729468800-1729555199@maskatshrine.com
SUMMARY:Wildcat Articles Due
DESCRIPTION:
URL:https://maskatshrine.com/event/wildcat-articles-due-18/2024-10-21/
CATEGORIES:Miscellaneous
END:VEVENT
BEGIN:VEVENT
DTSTART;TZID=America/Chicago:20241021T190000
DTEND;TZID=America/Chicago:20241021T210000
DTSTAMP:20260420T135649
CREATED:20231214T175141Z
LAST-MODIFIED:20240117T165632Z
UID:10002036-1729537200-1729544400@maskatshrine.com
SUMMARY:Nile Dancers
DESCRIPTION:
URL:https://maskatshrine.com/event/nile-dancers-5/2024-10-21/
CATEGORIES:Ladies Events
END:VEVENT
BEGIN:VEVENT
DTSTART;VALUE=DATE:20241026
DTEND;VALUE=DATE:20241027
DTSTAMP:20260420T135649
CREATED:20240117T162025Z
LAST-MODIFIED:20240117T162025Z
UID:10002152-1729900800-1729987199@maskatshrine.com
SUMMARY:Halloween Masquerade Party
DESCRIPTION:
URL:https://maskatshrine.com/event/halloween-masquerade-party/
CATEGORIES:Special Events
END:VEVENT
BEGIN:VEVENT
DTSTART;TZID=America/Chicago:20241026T080000
DTEND;TZID=America/Chicago:20241026T170000
DTSTAMP:20260420T135649
CREATED:20231214T182304Z
LAST-MODIFIED:20231214T182304Z
UID:10001994-1729929600-1729962000@maskatshrine.com
SUMMARY:Provost Guard Practice
DESCRIPTION:
URL:https://maskatshrine.com/event/provost-guard-practice-4/2024-10-26/
CATEGORIES:Miscellaneous
END:VEVENT
BEGIN:VEVENT
DTSTART;TZID=America/Chicago:20241028T190000
DTEND;TZID=America/Chicago:20241028T210000
DTSTAMP:20260420T135649
CREATED:20231214T175141Z
LAST-MODIFIED:20240117T165632Z
UID:10002037-1730142000-1730149200@maskatshrine.com
SUMMARY:Nile Dancers
DESCRIPTION:
URL:https://maskatshrine.com/event/nile-dancers-5/2024-10-28/
CATEGORIES:Ladies Events
END:VEVENT
BEGIN:VEVENT
DTSTART;TZID=America/Chicago:20241102T080000
DTEND;TZID=America/Chicago:20241102T170000
DTSTAMP:20260420T135649
CREATED:20231214T182304Z
LAST-MODIFIED:20231214T182304Z
UID:10001995-1730534400-1730566800@maskatshrine.com
SUMMARY:Provost Guard Practice
DESCRIPTION:
URL:https://maskatshrine.com/event/provost-guard-practice-4/2024-11-02/
CATEGORIES:Miscellaneous
END:VEVENT
BEGIN:VEVENT
DTSTART;TZID=America/Chicago:20241102T183000
DTEND;TZID=America/Chicago:20241102T203000
DTSTAMP:20260420T135649
CREATED:20240104T201824Z
LAST-MODIFIED:20240506T172418Z
UID:10002146-1730572200-1730579400@maskatshrine.com
SUMMARY:Nile Bingo\, Brats & Burgers
DESCRIPTION:
URL:https://maskatshrine.com/event/nile-bingo-brats-burgers/
CATEGORIES:Ladies Events
END:VEVENT
BEGIN:VEVENT
DTSTART;TZID=America/Chicago:20241104T190000
DTEND;TZID=America/Chicago:20241104T210000
DTSTAMP:20260420T135649
CREATED:20231214T175141Z
LAST-MODIFIED:20240117T165632Z
UID:10001873-1730746800-1730754000@maskatshrine.com
SUMMARY:Nile Dancers
DESCRIPTION:
URL:https://maskatshrine.com/event/nile-dancers-5/2024-11-04/
CATEGORIES:Ladies Events
END:VEVENT
BEGIN:VEVENT
DTSTART;TZID=America/Chicago:20241106T183000
DTEND;TZID=America/Chicago:20241106T210000
DTSTAMP:20260420T135649
CREATED:20240104T200102Z
LAST-MODIFIED:20240104T200102Z
UID:10002126-1730917800-1730926800@maskatshrine.com
SUMMARY:Units Council
DESCRIPTION:
URL:https://maskatshrine.com/event/units-council-15/2024-11-06/
CATEGORIES:Meeting
END:VEVENT
BEGIN:VEVENT
DTSTART;TZID=America/Chicago:20241107T190000
DTEND;TZID=America/Chicago:20241107T213000
DTSTAMP:20260420T135649
CREATED:20240104T200336Z
LAST-MODIFIED:20240104T200336Z
UID:10002130-1731006000-1731015000@maskatshrine.com
SUMMARY:Nile Stated Session
DESCRIPTION:
URL:https://maskatshrine.com/event/nile-stated-session-12/2024-11-07/
CATEGORIES:Ladies Events
END:VEVENT
BEGIN:VEVENT
DTSTART;VALUE=DATE:20241109
DTEND;VALUE=DATE:20241110
DTSTAMP:20260420T135649
CREATED:20240117T162236Z
LAST-MODIFIED:20240117T162236Z
UID:10002153-1731110400-1731196799@maskatshrine.com
SUMMARY:Veteran's Day Parade
DESCRIPTION:
URL:https://maskatshrine.com/event/veterans-day-parade-2/
CATEGORIES:Miscellaneous
END:VEVENT
BEGIN:VEVENT
DTSTART;TZID=America/Chicago:20241109T080000
DTEND;TZID=America/Chicago:20241109T170000
DTSTAMP:20260420T135649
CREATED:20231214T182304Z
LAST-MODIFIED:20231214T182304Z
UID:10001996-1731139200-1731171600@maskatshrine.com
SUMMARY:Provost Guard Practice
DESCRIPTION:
URL:https://maskatshrine.com/event/provost-guard-practice-4/2024-11-09/
CATEGORIES:Miscellaneous
END:VEVENT
BEGIN:VEVENT
DTSTART;TZID=America/Chicago:20241111T080000
DTEND;TZID=America/Chicago:20241111T170000
DTSTAMP:20260420T135649
CREATED:20240117T162529Z
LAST-MODIFIED:20240117T162529Z
UID:10002154-1731312000-1731344400@maskatshrine.com
SUMMARY:MASKAT CLOSED - Veteran's Day
DESCRIPTION:
URL:https://maskatshrine.com/event/maskat-closed-veterans-day-2/
CATEGORIES:Holidays
END:VEVENT
BEGIN:VEVENT
DTSTART;TZID=America/Chicago:20241111T183000
DTEND;TZID=America/Chicago:20241111T213000
DTSTAMP:20260420T135649
CREATED:20240117T163021Z
LAST-MODIFIED:20240117T163021Z
UID:10002157-1731349800-1731360600@maskatshrine.com
SUMMARY:Nile Fun Band
DESCRIPTION:
URL:https://maskatshrine.com/event/nile-fun-band-13/2024-11-11/
CATEGORIES:Ladies Events
END:VEVENT
BEGIN:VEVENT
DTSTART;TZID=America/Chicago:20241111T190000
DTEND;TZID=America/Chicago:20241111T210000
DTSTAMP:20260420T135649
CREATED:20231214T175141Z
LAST-MODIFIED:20240117T165632Z
UID:10002038-1731351600-1731358800@maskatshrine.com
SUMMARY:Nile Dancers
DESCRIPTION:
URL:https://maskatshrine.com/event/nile-dancers-5/2024-11-11/
CATEGORIES:Ladies Events
END:VEVENT
BEGIN:VEVENT
DTSTART;TZID=America/Chicago:20241112T183000
DTEND;TZID=America/Chicago:20241112T213000
DTSTAMP:20260420T135649
CREATED:20240117T163438Z
LAST-MODIFIED:20240117T163438Z
UID:10002159-1731436200-1731447000@maskatshrine.com
SUMMARY:Stated Meeting
DESCRIPTION:
URL:https://maskatshrine.com/event/stated-meeting-24/
CATEGORIES:Meeting
END:VEVENT
BEGIN:VEVENT
DTSTART;TZID=America/Chicago:20241113T130000
DTEND;TZID=America/Chicago:20241113T150000
DTSTAMP:20260420T135649
CREATED:20240104T201344Z
LAST-MODIFIED:20240104T201344Z
UID:10002140-1731502800-1731510000@maskatshrine.com
SUMMARY:Shrine Ladies
DESCRIPTION:
URL:https://maskatshrine.com/event/shrine-ladies-11/2024-11-13/
CATEGORIES:Shrine Ladies
END:VEVENT
BEGIN:VEVENT
DTSTART;TZID=America/Chicago:20241114T103000
DTEND;TZID=America/Chicago:20241114T150000
DTSTAMP:20260420T135649
CREATED:20240104T201610Z
LAST-MODIFIED:20240104T201716Z
UID:10002144-1731580200-1731596400@maskatshrine.com
SUMMARY:Nile Sewing
DESCRIPTION:
URL:https://maskatshrine.com/event/nile-sewing-13/2024-11-14/
CATEGORIES:Ladies Events
END:VEVENT
BEGIN:VEVENT
DTSTART;TZID=America/Chicago:20241116T080000
DTEND;TZID=America/Chicago:20241116T170000
DTSTAMP:20260420T135649
CREATED:20231214T182304Z
LAST-MODIFIED:20231214T182304Z
UID:10001997-1731744000-1731776400@maskatshrine.com
SUMMARY:Provost Guard Practice
DESCRIPTION:
URL:https://maskatshrine.com/event/provost-guard-practice-4/2024-11-16/
CATEGORIES:Miscellaneous
END:VEVENT
BEGIN:VEVENT
DTSTART;TZID=America/Chicago:20241116T080000
DTEND;TZID=America/Chicago:20241116T170000
DTSTAMP:20260420T135649
CREATED:20240117T163631Z
LAST-MODIFIED:20240117T163631Z
UID:10002160-1731744000-1731776400@maskatshrine.com
SUMMARY:Military Thanksgiving Dinner
DESCRIPTION:
URL:https://maskatshrine.com/event/military-thanksgiving-dinner/
CATEGORIES:Special Events
END:VEVENT
BEGIN:VEVENT
DTSTART;VALUE=DATE:20241118
DTEND;VALUE=DATE:20241119
DTSTAMP:20260420T135649
CREATED:20231214T190135Z
LAST-MODIFIED:20231214T190201Z
UID:10002059-1731888000-1731974399@maskatshrine.com
SUMMARY:Wildcat Articles Due
DESCRIPTION:
URL:https://maskatshrine.com/event/wildcat-articles-due-18/2024-11-18/
CATEGORIES:Miscellaneous
END:VEVENT
BEGIN:VEVENT
DTSTART;TZID=America/Chicago:20241118T190000
DTEND;TZID=America/Chicago:20241118T210000
DTSTAMP:20260420T135649
CREATED:20231214T175141Z
LAST-MODIFIED:20240117T165632Z
UID:10002039-1731956400-1731963600@maskatshrine.com
SUMMARY:Nile Dancers
DESCRIPTION:
URL:https://maskatshrine.com/event/nile-dancers-5/2024-11-18/
CATEGORIES:Ladies Events
END:VEVENT
BEGIN:VEVENT
DTSTART;TZID=America/Chicago:20241121T173000
DTEND;TZID=America/Chicago:20241121T193000
DTSTAMP:20260420T135649
CREATED:20231214T190429Z
LAST-MODIFIED:20231214T190429Z
UID:10002071-1732210200-1732217400@maskatshrine.com
SUMMARY:HAPPY BIRTHDAY! Happy Hour
DESCRIPTION:
URL:https://maskatshrine.com/event/happy-birthday-happy-hour/2024-11-21/
CATEGORIES:Miscellaneous
END:VEVENT
BEGIN:VEVENT
DTSTART;VALUE=DATE:20241123
DTEND;VALUE=DATE:20241124
DTSTAMP:20260420T135649
CREATED:20240117T164229Z
LAST-MODIFIED:20240212T193945Z
UID:10002163-1732320000-1732406399@maskatshrine.com
SUMMARY:Decorate for Christmas
DESCRIPTION:
URL:https://maskatshrine.com/event/decorate-for-christmas-7/
CATEGORIES:Miscellaneous
END:VEVENT
BEGIN:VEVENT
DTSTART;TZID=America/Chicago:20241123T080000
DTEND;TZID=America/Chicago:20241123T170000
DTSTAMP:20260420T135649
CREATED:20231214T182304Z
LAST-MODIFIED:20231214T182304Z
UID:10001998-1732348800-1732381200@maskatshrine.com
SUMMARY:Provost Guard Practice
DESCRIPTION:
URL:https://maskatshrine.com/event/provost-guard-practice-4/2024-11-23/
CATEGORIES:Miscellaneous
END:VEVENT
BEGIN:VEVENT
DTSTART;TZID=America/Chicago:20241125T190000
DTEND;TZID=America/Chicago:20241125T210000
DTSTAMP:20260420T135649
CREATED:20231214T175141Z
LAST-MODIFIED:20240117T165632Z
UID:10002040-1732561200-1732568400@maskatshrine.com
SUMMARY:Nile Dancers
DESCRIPTION:
URL:https://maskatshrine.com/event/nile-dancers-5/2024-11-25/
CATEGORIES:Ladies Events
END:VEVENT
BEGIN:VEVENT
DTSTART;VALUE=DATE:20241128
DTEND;VALUE=DATE:20241129
DTSTAMP:20260420T135649
CREATED:20240117T164001Z
LAST-MODIFIED:20240117T164001Z
UID:10002162-1732752000-1732838399@maskatshrine.com
SUMMARY:BUILDING RENTAL
DESCRIPTION:
URL:https://maskatshrine.com/event/building-rental-66/
CATEGORIES:Rentals
END:VEVENT
BEGIN:VEVENT
DTSTART;VALUE=DATE:20241128
DTEND;VALUE=DATE:20241130
DTSTAMP:20260420T135649
CREATED:20240117T163830Z
LAST-MODIFIED:20240117T163904Z
UID:10002161-1732752000-1732924799@maskatshrine.com
SUMMARY:MASKAT CLOSED - Thanksgiving
DESCRIPTION:
URL:https://maskatshrine.com/event/maskat-closed-thanksgiving/
CATEGORIES:Holidays
END:VEVENT
BEGIN:VEVENT
DTSTART;TZID=America/Chicago:20241130T080000
DTEND;TZID=America/Chicago:20241130T170000
DTSTAMP:20260420T135649
CREATED:20231214T182304Z
LAST-MODIFIED:20231214T182304Z
UID:10001999-1732953600-1732986000@maskatshrine.com
SUMMARY:Provost Guard Practice
DESCRIPTION:
URL:https://maskatshrine.com/event/provost-guard-practice-4/2024-11-30/
CATEGORIES:Miscellaneous
END:VEVENT
END:VCALENDAR