BEGIN:VCALENDAR
VERSION:2.0
PRODID:-//Maskat Shrine - ECPv6.15.13//NONSGML v1.0//EN
CALSCALE:GREGORIAN
METHOD:PUBLISH
X-ORIGINAL-URL:https://maskatshrine.com
X-WR-CALDESC:Events for Maskat Shrine
REFRESH-INTERVAL;VALUE=DURATION:PT1H
X-Robots-Tag:noindex
X-PUBLISHED-TTL:PT1H
BEGIN:VTIMEZONE
TZID:America/Chicago
BEGIN:DAYLIGHT
TZOFFSETFROM:-0600
TZOFFSETTO:-0500
TZNAME:CDT
DTSTART:20240310T080000
END:DAYLIGHT
BEGIN:STANDARD
TZOFFSETFROM:-0500
TZOFFSETTO:-0600
TZNAME:CST
DTSTART:20241103T070000
END:STANDARD
BEGIN:DAYLIGHT
TZOFFSETFROM:-0600
TZOFFSETTO:-0500
TZNAME:CDT
DTSTART:20250309T080000
END:DAYLIGHT
BEGIN:STANDARD
TZOFFSETFROM:-0500
TZOFFSETTO:-0600
TZNAME:CST
DTSTART:20251102T070000
END:STANDARD
BEGIN:DAYLIGHT
TZOFFSETFROM:-0600
TZOFFSETTO:-0500
TZNAME:CDT
DTSTART:20260308T080000
END:DAYLIGHT
BEGIN:STANDARD
TZOFFSETFROM:-0500
TZOFFSETTO:-0600
TZNAME:CST
DTSTART:20261101T070000
END:STANDARD
END:VTIMEZONE
BEGIN:VEVENT
DTSTART;TZID=America/Chicago:20250602T190000
DTEND;TZID=America/Chicago:20250602T210000
DTSTAMP:20260421T170621
CREATED:20250202T040044Z
LAST-MODIFIED:20260103T010229Z
UID:10002592-1748890800-1748898000@maskatshrine.com
SUMMARY:Nile Danceers
DESCRIPTION:
URL:https://maskatshrine.com/event/nile-dancers-6-3-2/2025-06-02/
CATEGORIES:Ladies Events
END:VEVENT
BEGIN:VEVENT
DTSTART;VALUE=DATE:20250604
DTEND;VALUE=DATE:20250608
DTSTAMP:20260421T170621
CREATED:20250202T230102Z
LAST-MODIFIED:20250202T230150Z
UID:10002896-1748995200-1749340799@maskatshrine.com
SUMMARY:OIL BOWL
DESCRIPTION:
URL:https://maskatshrine.com/event/oil-bowl-11/
CATEGORIES:Special Events
END:VEVENT
BEGIN:VEVENT
DTSTART;TZID=America/Chicago:20250604T183000
DTEND;TZID=America/Chicago:20250604T183000
DTSTAMP:20260421T170621
CREATED:20250202T234047Z
LAST-MODIFIED:20250202T234358Z
UID:10002908-1749061800-1749061800@maskatshrine.com
SUMMARY:UNITS COUNCIL
DESCRIPTION:
URL:https://maskatshrine.com/event/units-council-17/2025-06-04/
CATEGORIES:Meeting
END:VEVENT
BEGIN:VEVENT
DTSTART;TZID=America/Chicago:20250609T190000
DTEND;TZID=America/Chicago:20250609T210000
DTSTAMP:20260421T170621
CREATED:20250202T040044Z
LAST-MODIFIED:20260103T010229Z
UID:10002593-1749495600-1749502800@maskatshrine.com
SUMMARY:Nile Danceers
DESCRIPTION:
URL:https://maskatshrine.com/event/nile-dancers-6-3-2/2025-06-09/
CATEGORIES:Ladies Events
END:VEVENT
BEGIN:VEVENT
DTSTART;TZID=America/Chicago:20250610T183000
DTEND;TZID=America/Chicago:20250610T210000
DTSTAMP:20260421T170621
CREATED:20250203T012139Z
LAST-MODIFIED:20250203T012139Z
UID:10002951-1749580200-1749589200@maskatshrine.com
SUMMARY:STATED MEETING
DESCRIPTION:
URL:https://maskatshrine.com/event/stated-meeting-dinner-630-pm-2/2025-06-10/
CATEGORIES:Meeting
END:VEVENT
BEGIN:VEVENT
DTSTART;VALUE=DATE:20250612
DTEND;VALUE=DATE:20250616
DTSTAMP:20260421T170621
CREATED:20250202T230355Z
LAST-MODIFIED:20250202T230355Z
UID:10002897-1749686400-1750031999@maskatshrine.com
SUMMARY:TSA-Tyler
DESCRIPTION:
URL:https://maskatshrine.com/event/tsa-tyler/
CATEGORIES:Special Events
END:VEVENT
BEGIN:VEVENT
DTSTART;TZID=America/Chicago:20250616T190000
DTEND;TZID=America/Chicago:20250616T210000
DTSTAMP:20260421T170621
CREATED:20250202T040044Z
LAST-MODIFIED:20260103T010229Z
UID:10002594-1750100400-1750107600@maskatshrine.com
SUMMARY:Nile Danceers
DESCRIPTION:
URL:https://maskatshrine.com/event/nile-dancers-6-3-2/2025-06-16/
CATEGORIES:Ladies Events
END:VEVENT
BEGIN:VEVENT
DTSTART;TZID=America/Chicago:20250619T173000
DTEND;TZID=America/Chicago:20250619T173000
DTSTAMP:20260421T170621
CREATED:20250202T033704Z
LAST-MODIFIED:20250202T223810Z
UID:10002881-1750354200-1750354200@maskatshrine.com
SUMMARY:Happy Hour
DESCRIPTION:
URL:https://maskatshrine.com/event/happy-hour-4/2025-06-19/
CATEGORIES:Miscellaneous
END:VEVENT
BEGIN:VEVENT
DTSTART;TZID=America/Chicago:20250623T190000
DTEND;TZID=America/Chicago:20250623T210000
DTSTAMP:20260421T170621
CREATED:20250202T040044Z
LAST-MODIFIED:20260103T010229Z
UID:10002595-1750705200-1750712400@maskatshrine.com
SUMMARY:Nile Danceers
DESCRIPTION:
URL:https://maskatshrine.com/event/nile-dancers-6-3-2/2025-06-23/
CATEGORIES:Ladies Events
END:VEVENT
BEGIN:VEVENT
DTSTART;VALUE=DATE:20250628
DTEND;VALUE=DATE:20250629
DTSTAMP:20260421T170621
CREATED:20250514T004837Z
LAST-MODIFIED:20250514T004837Z
UID:10002953-1751068800-1751155199@maskatshrine.com
SUMMARY:BUILDING RENTAL
DESCRIPTION:
URL:https://maskatshrine.com/event/building-rental-85/
CATEGORIES:Rentals
END:VEVENT
BEGIN:VEVENT
DTSTART;VALUE=DATE:20250629
DTEND;VALUE=DATE:20250704
DTSTAMP:20260421T170621
CREATED:20250202T230931Z
LAST-MODIFIED:20250202T231052Z
UID:10002898-1751155200-1751587199@maskatshrine.com
SUMMARY:IMPERIAL-Atlanta
DESCRIPTION:
URL:https://maskatshrine.com/event/imperial-atlanta/
CATEGORIES:Special Events
END:VEVENT
BEGIN:VEVENT
DTSTART;TZID=America/Chicago:20250630T190000
DTEND;TZID=America/Chicago:20250630T210000
DTSTAMP:20260421T170621
CREATED:20250202T040044Z
LAST-MODIFIED:20260103T010229Z
UID:10002596-1751310000-1751317200@maskatshrine.com
SUMMARY:Nile Danceers
DESCRIPTION:
URL:https://maskatshrine.com/event/nile-dancers-6-3-2/2025-06-30/
CATEGORIES:Ladies Events
END:VEVENT
END:VCALENDAR