BEGIN:VCALENDAR
VERSION:2.0
PRODID:-//Maskat Shrine - ECPv6.15.13//NONSGML v1.0//EN
CALSCALE:GREGORIAN
METHOD:PUBLISH
X-WR-CALNAME:Maskat Shrine
X-ORIGINAL-URL:https://maskatshrine.com
X-WR-CALDESC:Events for Maskat Shrine
REFRESH-INTERVAL;VALUE=DURATION:PT1H
X-Robots-Tag:noindex
X-PUBLISHED-TTL:PT1H
BEGIN:VTIMEZONE
TZID:America/Chicago
BEGIN:DAYLIGHT
TZOFFSETFROM:-0600
TZOFFSETTO:-0500
TZNAME:CDT
DTSTART:20250309T080000
END:DAYLIGHT
BEGIN:STANDARD
TZOFFSETFROM:-0500
TZOFFSETTO:-0600
TZNAME:CST
DTSTART:20251102T070000
END:STANDARD
BEGIN:DAYLIGHT
TZOFFSETFROM:-0600
TZOFFSETTO:-0500
TZNAME:CDT
DTSTART:20260308T080000
END:DAYLIGHT
BEGIN:STANDARD
TZOFFSETFROM:-0500
TZOFFSETTO:-0600
TZNAME:CST
DTSTART:20261101T070000
END:STANDARD
BEGIN:DAYLIGHT
TZOFFSETFROM:-0600
TZOFFSETTO:-0500
TZNAME:CDT
DTSTART:20270314T080000
END:DAYLIGHT
BEGIN:STANDARD
TZOFFSETFROM:-0500
TZOFFSETTO:-0600
TZNAME:CST
DTSTART:20271107T070000
END:STANDARD
END:VTIMEZONE
BEGIN:VEVENT
DTSTART;VALUE=DATE:20260801
DTEND;VALUE=DATE:20260802
DTSTAMP:20260422T203737
CREATED:20260102T143852Z
LAST-MODIFIED:20260103T011115Z
UID:10003089-1785542400-1785628799@maskatshrine.com
SUMMARY:Provost Guard Practice
DESCRIPTION:
URL:https://maskatshrine.com/event/provost-guard-practice-6/2026-08-01/
CATEGORIES:Meeting
END:VEVENT
BEGIN:VEVENT
DTSTART;TZID=America/Chicago:20260803T190000
DTEND;TZID=America/Chicago:20260803T210000
DTSTAMP:20260422T203737
CREATED:20250202T040044Z
LAST-MODIFIED:20260103T010229Z
UID:10002653-1785783600-1785790800@maskatshrine.com
SUMMARY:Nile Danceers
DESCRIPTION:
URL:https://maskatshrine.com/event/nile-dancers-6-3-2/2026-08-03/
CATEGORIES:Ladies Events
END:VEVENT
BEGIN:VEVENT
DTSTART;VALUE=DATE:20260808
DTEND;VALUE=DATE:20260809
DTSTAMP:20260422T203737
CREATED:20260102T143852Z
LAST-MODIFIED:20260103T011115Z
UID:10003090-1786147200-1786233599@maskatshrine.com
SUMMARY:Provost Guard Practice
DESCRIPTION:
URL:https://maskatshrine.com/event/provost-guard-practice-6/2026-08-08/
CATEGORIES:Meeting
END:VEVENT
BEGIN:VEVENT
DTSTART;VALUE=DATE:20260808
DTEND;VALUE=DATE:20260816
DTSTAMP:20260422T203737
CREATED:20260102T221642Z
LAST-MODIFIED:20260102T221642Z
UID:10003169-1786147200-1786838399@maskatshrine.com
SUMMARY:Potentate's Trip
DESCRIPTION:
URL:https://maskatshrine.com/event/potentates-trip-6/
CATEGORIES:Special Events
END:VEVENT
BEGIN:VEVENT
DTSTART;TZID=America/Chicago:20260810T190000
DTEND;TZID=America/Chicago:20260810T210000
DTSTAMP:20260422T203737
CREATED:20250202T040044Z
LAST-MODIFIED:20260103T010229Z
UID:10002654-1786388400-1786395600@maskatshrine.com
SUMMARY:Nile Danceers
DESCRIPTION:
URL:https://maskatshrine.com/event/nile-dancers-6-3-2/2026-08-10/
CATEGORIES:Ladies Events
END:VEVENT
BEGIN:VEVENT
DTSTART;TZID=America/Chicago:20260812T130000
DTEND;TZID=America/Chicago:20260812T150000
DTSTAMP:20260422T203737
CREATED:20251224T010202Z
LAST-MODIFIED:20251224T010202Z
UID:10002963-1786539600-1786546800@maskatshrine.com
SUMMARY:Shrine Ladies
DESCRIPTION:
URL:https://maskatshrine.com/event/shrine-ladies-13/2026-08-12/
CATEGORIES:Shrine Ladies
END:VEVENT
BEGIN:VEVENT
DTSTART;VALUE=DATE:20260815
DTEND;VALUE=DATE:20260816
DTSTAMP:20260422T203737
CREATED:20260102T143852Z
LAST-MODIFIED:20260103T011115Z
UID:10003091-1786752000-1786838399@maskatshrine.com
SUMMARY:Provost Guard Practice
DESCRIPTION:
URL:https://maskatshrine.com/event/provost-guard-practice-6/2026-08-15/
CATEGORIES:Meeting
END:VEVENT
BEGIN:VEVENT
DTSTART;VALUE=DATE:20260817
DTEND;VALUE=DATE:20260818
DTSTAMP:20260422T203737
CREATED:20260102T150407Z
LAST-MODIFIED:20260102T223449Z
UID:10002271-1786924800-1787011199@maskatshrine.com
SUMMARY:Wildcat Articles Due
DESCRIPTION:
URL:https://maskatshrine.com/event/wildcat-articles-due-19-2/2026-08-17/
CATEGORIES:Miscellaneous
END:VEVENT
BEGIN:VEVENT
DTSTART;TZID=America/Chicago:20260817T190000
DTEND;TZID=America/Chicago:20260817T210000
DTSTAMP:20260422T203737
CREATED:20250202T040044Z
LAST-MODIFIED:20260103T010229Z
UID:10002655-1786993200-1787000400@maskatshrine.com
SUMMARY:Nile Danceers
DESCRIPTION:
URL:https://maskatshrine.com/event/nile-dancers-6-3-2/2026-08-17/
CATEGORIES:Ladies Events
END:VEVENT
BEGIN:VEVENT
DTSTART;TZID=America/Chicago:20260820T173000
DTEND;TZID=America/Chicago:20260820T183000
DTSTAMP:20260422T203737
CREATED:20260102T140843Z
LAST-MODIFIED:20260102T140843Z
UID:10003044-1787247000-1787250600@maskatshrine.com
SUMMARY:Happy Hour
DESCRIPTION:
URL:https://maskatshrine.com/event/happy-hour-5/2026-08-20/
CATEGORIES:Ladies Events,Miscellaneous
END:VEVENT
BEGIN:VEVENT
DTSTART;VALUE=DATE:20260822
DTEND;VALUE=DATE:20260823
DTSTAMP:20260422T203737
CREATED:20260102T143852Z
LAST-MODIFIED:20260103T011115Z
UID:10003092-1787356800-1787443199@maskatshrine.com
SUMMARY:Provost Guard Practice
DESCRIPTION:
URL:https://maskatshrine.com/event/provost-guard-practice-6/2026-08-22/
CATEGORIES:Meeting
END:VEVENT
BEGIN:VEVENT
DTSTART;TZID=America/Chicago:20260824T190000
DTEND;TZID=America/Chicago:20260824T210000
DTSTAMP:20260422T203737
CREATED:20250202T040044Z
LAST-MODIFIED:20260103T010229Z
UID:10002656-1787598000-1787605200@maskatshrine.com
SUMMARY:Nile Danceers
DESCRIPTION:
URL:https://maskatshrine.com/event/nile-dancers-6-3-2/2026-08-24/
CATEGORIES:Ladies Events
END:VEVENT
BEGIN:VEVENT
DTSTART;VALUE=DATE:20260829
DTEND;VALUE=DATE:20260830
DTSTAMP:20260422T203737
CREATED:20260102T143852Z
LAST-MODIFIED:20260103T011115Z
UID:10003093-1787961600-1788047999@maskatshrine.com
SUMMARY:Provost Guard Practice
DESCRIPTION:
URL:https://maskatshrine.com/event/provost-guard-practice-6/2026-08-29/
CATEGORIES:Meeting
END:VEVENT
BEGIN:VEVENT
DTSTART;TZID=America/Chicago:20260831T190000
DTEND;TZID=America/Chicago:20260831T210000
DTSTAMP:20260422T203737
CREATED:20250202T040044Z
LAST-MODIFIED:20260103T010229Z
UID:10002657-1788202800-1788210000@maskatshrine.com
SUMMARY:Nile Danceers
DESCRIPTION:
URL:https://maskatshrine.com/event/nile-dancers-6-3-2/2026-08-31/
CATEGORIES:Ladies Events
END:VEVENT
END:VCALENDAR