BEGIN:VCALENDAR
VERSION:2.0
PRODID:-//Maskat Shrine - ECPv6.15.13//NONSGML v1.0//EN
CALSCALE:GREGORIAN
METHOD:PUBLISH
X-ORIGINAL-URL:https://maskatshrine.com
X-WR-CALDESC:Events for Maskat Shrine
REFRESH-INTERVAL;VALUE=DURATION:PT1H
X-Robots-Tag:noindex
X-PUBLISHED-TTL:PT1H
BEGIN:VTIMEZONE
TZID:America/Chicago
BEGIN:DAYLIGHT
TZOFFSETFROM:-0600
TZOFFSETTO:-0500
TZNAME:CDT
DTSTART:20210314T080000
END:DAYLIGHT
BEGIN:STANDARD
TZOFFSETFROM:-0500
TZOFFSETTO:-0600
TZNAME:CST
DTSTART:20211107T070000
END:STANDARD
BEGIN:DAYLIGHT
TZOFFSETFROM:-0600
TZOFFSETTO:-0500
TZNAME:CDT
DTSTART:20220313T080000
END:DAYLIGHT
BEGIN:STANDARD
TZOFFSETFROM:-0500
TZOFFSETTO:-0600
TZNAME:CST
DTSTART:20221106T070000
END:STANDARD
BEGIN:DAYLIGHT
TZOFFSETFROM:-0600
TZOFFSETTO:-0500
TZNAME:CDT
DTSTART:20230312T080000
END:DAYLIGHT
BEGIN:STANDARD
TZOFFSETFROM:-0500
TZOFFSETTO:-0600
TZNAME:CST
DTSTART:20231105T070000
END:STANDARD
END:VTIMEZONE
BEGIN:VEVENT
DTSTART;VALUE=DATE:20220213
DTEND;VALUE=DATE:20220214
DTSTAMP:20260422T141925
CREATED:20211122T195448Z
LAST-MODIFIED:20211122T195448Z
UID:10000864-1644710400-1644796799@maskatshrine.com
SUMMARY:Super Bowl
DESCRIPTION:
URL:https://maskatshrine.com/event/super-bowl/
CATEGORIES:Special Events
END:VEVENT
BEGIN:VEVENT
DTSTART;VALUE=DATE:20220214
DTEND;VALUE=DATE:20220215
DTSTAMP:20260422T141925
CREATED:20211129T164802Z
LAST-MODIFIED:20211129T164802Z
UID:10000488-1644796800-1644883199@maskatshrine.com
SUMMARY:Valentine's Day
DESCRIPTION:
URL:https://maskatshrine.com/event/valentines-day-5/
CATEGORIES:Miscellaneous
END:VEVENT
BEGIN:VEVENT
DTSTART;TZID=America/Chicago:20220214T183000
DTEND;TZID=America/Chicago:20220214T200000
DTSTAMP:20260422T141925
CREATED:20211122T175759Z
LAST-MODIFIED:20211122T175905Z
UID:10001560-1644863400-1644868800@maskatshrine.com
SUMMARY:Nile Fun Band
DESCRIPTION:
URL:https://maskatshrine.com/event/nile-fun-band-8/2022-02-14/
CATEGORIES:Ladies Events
END:VEVENT
BEGIN:VEVENT
DTSTART;TZID=America/Chicago:20220214T190000
DTEND;TZID=America/Chicago:20220214T190000
DTSTAMP:20260422T141925
CREATED:20211122T171501Z
LAST-MODIFIED:20211129T173307Z
UID:10001126-1644865200-1644865200@maskatshrine.com
SUMMARY:Nile Dancers
DESCRIPTION:
URL:https://maskatshrine.com/event/nile-dancers-practice-2/2022-02-14/
CATEGORIES:Ladies Events
END:VEVENT
BEGIN:VEVENT
DTSTART;TZID=America/Chicago:20220217T173000
DTEND;TZID=America/Chicago:20220217T200000
DTSTAMP:20260422T141925
CREATED:20211122T183757Z
LAST-MODIFIED:20211122T183757Z
UID:10001589-1645119000-1645128000@maskatshrine.com
SUMMARY:MASKAT HAPPY HOUR
DESCRIPTION:
URL:https://maskatshrine.com/event/maskat-happy-hour-5/2022-02-17/
CATEGORIES:Miscellaneous
END:VEVENT
BEGIN:VEVENT
DTSTART;TZID=America/Chicago:20220217T183000
DTEND;TZID=America/Chicago:20220217T210000
DTSTAMP:20260422T141925
CREATED:20211122T200213Z
LAST-MODIFIED:20211122T200411Z
UID:10000860-1645122600-1645131600@maskatshrine.com
SUMMARY:Nile Patrol
DESCRIPTION:
URL:https://maskatshrine.com/event/nile-patrol-8/2022-02-17/
CATEGORIES:Ladies Events
END:VEVENT
BEGIN:VEVENT
DTSTART;TZID=America/Chicago:20220219T090000
DTEND;TZID=America/Chicago:20220219T170000
DTSTAMP:20260422T141925
CREATED:20211122T175249Z
LAST-MODIFIED:20230130T213302Z
UID:10001461-1645261200-1645290000@maskatshrine.com
SUMMARY:Provost Guard Practice
DESCRIPTION:
URL:https://maskatshrine.com/event/provost-guard-practice-3/2022-02-19/
CATEGORIES:Miscellaneous
END:VEVENT
END:VCALENDAR