BEGIN:VCALENDAR
VERSION:2.0
PRODID:-//Maskat Shrine - ECPv6.15.13//NONSGML v1.0//EN
CALSCALE:GREGORIAN
METHOD:PUBLISH
X-WR-CALNAME:Maskat Shrine
X-ORIGINAL-URL:https://maskatshrine.com
X-WR-CALDESC:Events for Maskat Shrine
REFRESH-INTERVAL;VALUE=DURATION:PT1H
X-Robots-Tag:noindex
X-PUBLISHED-TTL:PT1H
BEGIN:VTIMEZONE
TZID:America/Chicago
BEGIN:DAYLIGHT
TZOFFSETFROM:-0600
TZOFFSETTO:-0500
TZNAME:CDT
DTSTART:20210314T080000
END:DAYLIGHT
BEGIN:STANDARD
TZOFFSETFROM:-0500
TZOFFSETTO:-0600
TZNAME:CST
DTSTART:20211107T070000
END:STANDARD
BEGIN:DAYLIGHT
TZOFFSETFROM:-0600
TZOFFSETTO:-0500
TZNAME:CDT
DTSTART:20220313T080000
END:DAYLIGHT
BEGIN:STANDARD
TZOFFSETFROM:-0500
TZOFFSETTO:-0600
TZNAME:CST
DTSTART:20221106T070000
END:STANDARD
BEGIN:DAYLIGHT
TZOFFSETFROM:-0600
TZOFFSETTO:-0500
TZNAME:CDT
DTSTART:20230312T080000
END:DAYLIGHT
BEGIN:STANDARD
TZOFFSETFROM:-0500
TZOFFSETTO:-0600
TZNAME:CST
DTSTART:20231105T070000
END:STANDARD
END:VTIMEZONE
BEGIN:VEVENT
DTSTART;TZID=America/Chicago:20220307T190000
DTEND;TZID=America/Chicago:20220307T190000
DTSTAMP:20260420T010853
CREATED:20211122T171501Z
LAST-MODIFIED:20211129T173307Z
UID:10001129-1646679600-1646679600@maskatshrine.com
SUMMARY:Nile Dancers
DESCRIPTION:
URL:https://maskatshrine.com/event/nile-dancers-practice-2/2022-03-07/
CATEGORIES:Ladies Events
END:VEVENT
BEGIN:VEVENT
DTSTART;TZID=America/Chicago:20220308T080000
DTEND;TZID=America/Chicago:20220308T170000
DTSTAMP:20260420T010853
CREATED:20211122T185039Z
LAST-MODIFIED:20211122T185039Z
UID:10001598-1646726400-1646758800@maskatshrine.com
SUMMARY:Stated Meeting
DESCRIPTION:
URL:https://maskatshrine.com/event/stated-meeting-14/2022-03-08/
CATEGORIES:Meeting
END:VEVENT
BEGIN:VEVENT
DTSTART;TZID=America/Chicago:20220310T103000
DTEND;TZID=America/Chicago:20220310T170000
DTSTAMP:20260420T010853
CREATED:20211122T181406Z
LAST-MODIFIED:20211122T211430Z
UID:10001568-1646908200-1646931600@maskatshrine.com
SUMMARY:Nile Sewing
DESCRIPTION:
URL:https://maskatshrine.com/event/nile-sewing-9/2022-03-10/
CATEGORIES:Ladies Events
END:VEVENT
BEGIN:VEVENT
DTSTART;TZID=America/Chicago:20220311T130000
DTEND;TZID=America/Chicago:20220311T170000
DTSTAMP:20260420T010853
CREATED:20211122T182917Z
LAST-MODIFIED:20211122T182917Z
UID:10001581-1647003600-1647018000@maskatshrine.com
SUMMARY:Shrine Ladies
DESCRIPTION:
URL:https://maskatshrine.com/event/shrine-ladies-6/2022-03-11/
CATEGORIES:Shrine Ladies
END:VEVENT
BEGIN:VEVENT
DTSTART;TZID=America/Chicago:20220312T080000
DTEND;TZID=America/Chicago:20220312T170000
DTSTAMP:20260420T010853
CREATED:20220127T203539Z
LAST-MODIFIED:20220127T203539Z
UID:10001443-1647072000-1647104400@maskatshrine.com
SUMMARY:CEREMONIAL
DESCRIPTION:
URL:https://maskatshrine.com/event/ceremonial-3/
CATEGORIES:Special Events
END:VEVENT
BEGIN:VEVENT
DTSTART;TZID=America/Chicago:20220312T090000
DTEND;TZID=America/Chicago:20220312T170000
DTSTAMP:20260420T010853
CREATED:20211122T175249Z
LAST-MODIFIED:20230130T213302Z
UID:10001464-1647075600-1647104400@maskatshrine.com
SUMMARY:Provost Guard Practice
DESCRIPTION:
URL:https://maskatshrine.com/event/provost-guard-practice-3/2022-03-12/
CATEGORIES:Miscellaneous
END:VEVENT
END:VCALENDAR