BEGIN:VCALENDAR
VERSION:2.0
PRODID:-//Maskat Shrine - ECPv6.15.13//NONSGML v1.0//EN
CALSCALE:GREGORIAN
METHOD:PUBLISH
X-ORIGINAL-URL:https://maskatshrine.com
X-WR-CALDESC:Events for Maskat Shrine
REFRESH-INTERVAL;VALUE=DURATION:PT1H
X-Robots-Tag:noindex
X-PUBLISHED-TTL:PT1H
BEGIN:VTIMEZONE
TZID:America/Chicago
BEGIN:DAYLIGHT
TZOFFSETFROM:-0600
TZOFFSETTO:-0500
TZNAME:CDT
DTSTART:20210314T080000
END:DAYLIGHT
BEGIN:STANDARD
TZOFFSETFROM:-0500
TZOFFSETTO:-0600
TZNAME:CST
DTSTART:20211107T070000
END:STANDARD
BEGIN:DAYLIGHT
TZOFFSETFROM:-0600
TZOFFSETTO:-0500
TZNAME:CDT
DTSTART:20220313T080000
END:DAYLIGHT
BEGIN:STANDARD
TZOFFSETFROM:-0500
TZOFFSETTO:-0600
TZNAME:CST
DTSTART:20221106T070000
END:STANDARD
BEGIN:DAYLIGHT
TZOFFSETFROM:-0600
TZOFFSETTO:-0500
TZNAME:CDT
DTSTART:20230312T080000
END:DAYLIGHT
BEGIN:STANDARD
TZOFFSETFROM:-0500
TZOFFSETTO:-0600
TZNAME:CST
DTSTART:20231105T070000
END:STANDARD
END:VTIMEZONE
BEGIN:VEVENT
DTSTART;TZID=America/Chicago:20220313T080000
DTEND;TZID=America/Chicago:20220313T170000
DTSTAMP:20260420T131017
CREATED:20211122T201905Z
LAST-MODIFIED:20211122T201905Z
UID:10001613-1647158400-1647190800@maskatshrine.com
SUMMARY:DAYLIGHT SAVINGS TIME
DESCRIPTION:
URL:https://maskatshrine.com/event/daylight-savings-time-2/
CATEGORIES:Temple Unavailable
END:VEVENT
BEGIN:VEVENT
DTSTART;TZID=America/Chicago:20220314T080000
DTEND;TZID=America/Chicago:20220314T170000
DTSTAMP:20260420T131017
CREATED:20211122T190232Z
LAST-MODIFIED:20211122T190232Z
UID:10001608-1647244800-1647277200@maskatshrine.com
SUMMARY:Wildcat Articles Due
DESCRIPTION:
URL:https://maskatshrine.com/event/wildcat-articles-due-10/
CATEGORIES:Miscellaneous
END:VEVENT
BEGIN:VEVENT
DTSTART;TZID=America/Chicago:20220314T183000
DTEND;TZID=America/Chicago:20220314T200000
DTSTAMP:20260420T131017
CREATED:20211122T175759Z
LAST-MODIFIED:20211122T175905Z
UID:10001561-1647282600-1647288000@maskatshrine.com
SUMMARY:Nile Fun Band
DESCRIPTION:
URL:https://maskatshrine.com/event/nile-fun-band-8/2022-03-14/
CATEGORIES:Ladies Events
END:VEVENT
BEGIN:VEVENT
DTSTART;TZID=America/Chicago:20220314T190000
DTEND;TZID=America/Chicago:20220314T190000
DTSTAMP:20260420T131017
CREATED:20211122T171501Z
LAST-MODIFIED:20211129T173307Z
UID:10001130-1647284400-1647284400@maskatshrine.com
SUMMARY:Nile Dancers
DESCRIPTION:
URL:https://maskatshrine.com/event/nile-dancers-practice-2/2022-03-14/
CATEGORIES:Ladies Events
END:VEVENT
BEGIN:VEVENT
DTSTART;TZID=America/Chicago:20220317T173000
DTEND;TZID=America/Chicago:20220317T200000
DTSTAMP:20260420T131017
CREATED:20211122T183757Z
LAST-MODIFIED:20211122T183757Z
UID:10001590-1647538200-1647547200@maskatshrine.com
SUMMARY:MASKAT HAPPY HOUR
DESCRIPTION:
URL:https://maskatshrine.com/event/maskat-happy-hour-5/2022-03-17/
CATEGORIES:Miscellaneous
END:VEVENT
BEGIN:VEVENT
DTSTART;TZID=America/Chicago:20220317T183000
DTEND;TZID=America/Chicago:20220317T210000
DTSTAMP:20260420T131017
CREATED:20211122T200213Z
LAST-MODIFIED:20211122T200411Z
UID:10000861-1647541800-1647550800@maskatshrine.com
SUMMARY:Nile Patrol
DESCRIPTION:
URL:https://maskatshrine.com/event/nile-patrol-8/2022-03-17/
CATEGORIES:Ladies Events
END:VEVENT
BEGIN:VEVENT
DTSTART;VALUE=DATE:20220319
DTEND;VALUE=DATE:20220320
DTSTAMP:20260420T131017
CREATED:20211122T204113Z
LAST-MODIFIED:20211122T204113Z
UID:10001615-1647648000-1647734399@maskatshrine.com
SUMMARY:Nile Installation
DESCRIPTION:
URL:https://maskatshrine.com/event/nile-installation-6/
CATEGORIES:Ladies Events
END:VEVENT
BEGIN:VEVENT
DTSTART;TZID=America/Chicago:20220319T090000
DTEND;TZID=America/Chicago:20220319T170000
DTSTAMP:20260420T131017
CREATED:20211122T175249Z
LAST-MODIFIED:20230130T213302Z
UID:10001465-1647680400-1647709200@maskatshrine.com
SUMMARY:Provost Guard Practice
DESCRIPTION:
URL:https://maskatshrine.com/event/provost-guard-practice-3/2022-03-19/
CATEGORIES:Miscellaneous
END:VEVENT
END:VCALENDAR