BEGIN:VCALENDAR
VERSION:2.0
PRODID:-//Maskat Shrine - ECPv6.15.13//NONSGML v1.0//EN
CALSCALE:GREGORIAN
METHOD:PUBLISH
X-ORIGINAL-URL:https://maskatshrine.com
X-WR-CALDESC:Events for Maskat Shrine
REFRESH-INTERVAL;VALUE=DURATION:PT1H
X-Robots-Tag:noindex
X-PUBLISHED-TTL:PT1H
BEGIN:VTIMEZONE
TZID:America/Chicago
BEGIN:DAYLIGHT
TZOFFSETFROM:-0600
TZOFFSETTO:-0500
TZNAME:CDT
DTSTART:20210314T080000
END:DAYLIGHT
BEGIN:STANDARD
TZOFFSETFROM:-0500
TZOFFSETTO:-0600
TZNAME:CST
DTSTART:20211107T070000
END:STANDARD
BEGIN:DAYLIGHT
TZOFFSETFROM:-0600
TZOFFSETTO:-0500
TZNAME:CDT
DTSTART:20220313T080000
END:DAYLIGHT
BEGIN:STANDARD
TZOFFSETFROM:-0500
TZOFFSETTO:-0600
TZNAME:CST
DTSTART:20221106T070000
END:STANDARD
BEGIN:DAYLIGHT
TZOFFSETFROM:-0600
TZOFFSETTO:-0500
TZNAME:CDT
DTSTART:20230312T080000
END:DAYLIGHT
BEGIN:STANDARD
TZOFFSETFROM:-0500
TZOFFSETTO:-0600
TZNAME:CST
DTSTART:20231105T070000
END:STANDARD
END:VTIMEZONE
BEGIN:VEVENT
DTSTART;TZID=America/Chicago:20220530T080000
DTEND;TZID=America/Chicago:20220530T170000
DTSTAMP:20260419T205054
CREATED:20211122T205522Z
LAST-MODIFIED:20211122T205833Z
UID:10000869-1653897600-1653930000@maskatshrine.com
SUMMARY:Memorial Day-MASKAT CLOSED
DESCRIPTION:
URL:https://maskatshrine.com/event/memorial-day-maskat-closed-2/
CATEGORIES:Holidays
END:VEVENT
BEGIN:VEVENT
DTSTART;TZID=America/Chicago:20220530T190000
DTEND;TZID=America/Chicago:20220530T190000
DTSTAMP:20260419T205054
CREATED:20211122T171501Z
LAST-MODIFIED:20211129T173307Z
UID:10001141-1653937200-1653937200@maskatshrine.com
SUMMARY:Nile Dancers
DESCRIPTION:
URL:https://maskatshrine.com/event/nile-dancers-practice-2/2022-05-30/
CATEGORIES:Ladies Events
END:VEVENT
BEGIN:VEVENT
DTSTART;TZID=America/Chicago:20220601T183000
DTEND;TZID=America/Chicago:20220601T210000
DTSTAMP:20260419T205054
CREATED:20211122T171038Z
LAST-MODIFIED:20211122T171145Z
UID:10000494-1654108200-1654117200@maskatshrine.com
SUMMARY:Units Council/Divan Meeting
DESCRIPTION:
URL:https://maskatshrine.com/event/units-council-divan-meeting/2022-06-01/
CATEGORIES:Meeting
END:VEVENT
BEGIN:VEVENT
DTSTART;TZID=America/Chicago:20220604T090000
DTEND;TZID=America/Chicago:20220604T170000
DTSTAMP:20260419T205054
CREATED:20211122T175249Z
LAST-MODIFIED:20230130T213302Z
UID:10001476-1654333200-1654362000@maskatshrine.com
SUMMARY:Provost Guard Practice
DESCRIPTION:
URL:https://maskatshrine.com/event/provost-guard-practice-3/2022-06-04/
CATEGORIES:Miscellaneous
END:VEVENT
END:VCALENDAR