BEGIN:VCALENDAR
VERSION:2.0
PRODID:-//Maskat Shrine - ECPv6.15.13//NONSGML v1.0//EN
CALSCALE:GREGORIAN
METHOD:PUBLISH
X-ORIGINAL-URL:https://maskatshrine.com
X-WR-CALDESC:Events for Maskat Shrine
REFRESH-INTERVAL;VALUE=DURATION:PT1H
X-Robots-Tag:noindex
X-PUBLISHED-TTL:PT1H
BEGIN:VTIMEZONE
TZID:America/Chicago
BEGIN:DAYLIGHT
TZOFFSETFROM:-0600
TZOFFSETTO:-0500
TZNAME:CDT
DTSTART:20220313T080000
END:DAYLIGHT
BEGIN:STANDARD
TZOFFSETFROM:-0500
TZOFFSETTO:-0600
TZNAME:CST
DTSTART:20221106T070000
END:STANDARD
BEGIN:DAYLIGHT
TZOFFSETFROM:-0600
TZOFFSETTO:-0500
TZNAME:CDT
DTSTART:20230312T080000
END:DAYLIGHT
BEGIN:STANDARD
TZOFFSETFROM:-0500
TZOFFSETTO:-0600
TZNAME:CST
DTSTART:20231105T070000
END:STANDARD
BEGIN:DAYLIGHT
TZOFFSETFROM:-0600
TZOFFSETTO:-0500
TZNAME:CDT
DTSTART:20240310T080000
END:DAYLIGHT
BEGIN:STANDARD
TZOFFSETFROM:-0500
TZOFFSETTO:-0600
TZNAME:CST
DTSTART:20241103T070000
END:STANDARD
END:VTIMEZONE
BEGIN:VEVENT
DTSTART;VALUE=DATE:20230212
DTEND;VALUE=DATE:20230213
DTSTAMP:20260421T194102
CREATED:20230131T192840Z
LAST-MODIFIED:20230131T192840Z
UID:10001751-1676160000-1676246399@maskatshrine.com
SUMMARY:Super Bowl Party
DESCRIPTION:
URL:https://maskatshrine.com/event/super-bowl-party-5/
CATEGORIES:Special Events
END:VEVENT
BEGIN:VEVENT
DTSTART;TZID=America/Chicago:20230213T190000
DTEND;TZID=America/Chicago:20230213T213000
DTSTAMP:20260421T194102
CREATED:20230131T002357Z
LAST-MODIFIED:20230131T002357Z
UID:10001636-1676314800-1676323800@maskatshrine.com
SUMMARY:Nile Dancers
DESCRIPTION:
URL:https://maskatshrine.com/event/nile-dancers-3/2023-02-13/
CATEGORIES:Ladies Events
END:VEVENT
BEGIN:VEVENT
DTSTART;TZID=America/Chicago:20230213T190000
DTEND;TZID=America/Chicago:20230213T213000
DTSTAMP:20260421T194102
CREATED:20230131T193110Z
LAST-MODIFIED:20230131T193110Z
UID:10001753-1676314800-1676323800@maskatshrine.com
SUMMARY:Nile Fun Band
DESCRIPTION:
URL:https://maskatshrine.com/event/nile-fun-band-10/2023-02-13/
CATEGORIES:Ladies Events
END:VEVENT
BEGIN:VEVENT
DTSTART;VALUE=DATE:20230214
DTEND;VALUE=DATE:20230215
DTSTAMP:20260421T194102
CREATED:20230131T193444Z
LAST-MODIFIED:20230131T193444Z
UID:10001761-1676332800-1676419199@maskatshrine.com
SUMMARY:VALENTINE'S DAY
DESCRIPTION:
URL:https://maskatshrine.com/event/valentines-day-6/
CATEGORIES:Miscellaneous
END:VEVENT
BEGIN:VEVENT
DTSTART;TZID=America/Chicago:20230214T183000
DTEND;TZID=America/Chicago:20230214T210000
DTSTAMP:20260421T194102
CREATED:20230131T031108Z
LAST-MODIFIED:20230131T031108Z
UID:10001747-1676399400-1676408400@maskatshrine.com
SUMMARY:Stated Meeting
DESCRIPTION:
URL:https://maskatshrine.com/event/stated-meeting-16-2-2/2023-02-14/
CATEGORIES:Meeting
END:VEVENT
BEGIN:VEVENT
DTSTART;TZID=America/Chicago:20230216T173000
DTEND;TZID=America/Chicago:20230216T173000
DTSTAMP:20260421T194102
CREATED:20230131T023056Z
LAST-MODIFIED:20230131T204147Z
UID:10001725-1676568600-1676568600@maskatshrine.com
SUMMARY:HAPPY HOUR
DESCRIPTION:
URL:https://maskatshrine.com/event/happy-hour/2023-02-16/
CATEGORIES:Miscellaneous
END:VEVENT
BEGIN:VEVENT
DTSTART;TZID=America/Chicago:20230216T183000
DTEND;TZID=America/Chicago:20230216T210000
DTSTAMP:20260421T194102
CREATED:20230131T023255Z
LAST-MODIFIED:20230131T023255Z
UID:10001737-1676572200-1676581200@maskatshrine.com
SUMMARY:Nile Patrol
DESCRIPTION:
URL:https://maskatshrine.com/event/nile-patrol-10/2023-02-16/
CATEGORIES:Ladies Events
END:VEVENT
BEGIN:VEVENT
DTSTART;TZID=America/Chicago:20230218T090000
DTEND;TZID=America/Chicago:20230218T170000
DTSTAMP:20260421T194102
CREATED:20211122T175249Z
LAST-MODIFIED:20230130T213302Z
UID:10001513-1676710800-1676739600@maskatshrine.com
SUMMARY:Provost Guard Practice
DESCRIPTION:
URL:https://maskatshrine.com/event/provost-guard-practice-3/2023-02-18/
CATEGORIES:Miscellaneous
END:VEVENT
END:VCALENDAR