BEGIN:VCALENDAR
VERSION:2.0
PRODID:-//Maskat Shrine - ECPv6.15.13//NONSGML v1.0//EN
CALSCALE:GREGORIAN
METHOD:PUBLISH
X-WR-CALNAME:Maskat Shrine
X-ORIGINAL-URL:https://maskatshrine.com
X-WR-CALDESC:Events for Maskat Shrine
REFRESH-INTERVAL;VALUE=DURATION:PT1H
X-Robots-Tag:noindex
X-PUBLISHED-TTL:PT1H
BEGIN:VTIMEZONE
TZID:America/Chicago
BEGIN:DAYLIGHT
TZOFFSETFROM:-0600
TZOFFSETTO:-0500
TZNAME:CDT
DTSTART:20220313T080000
END:DAYLIGHT
BEGIN:STANDARD
TZOFFSETFROM:-0500
TZOFFSETTO:-0600
TZNAME:CST
DTSTART:20221106T070000
END:STANDARD
BEGIN:DAYLIGHT
TZOFFSETFROM:-0600
TZOFFSETTO:-0500
TZNAME:CDT
DTSTART:20230312T080000
END:DAYLIGHT
BEGIN:STANDARD
TZOFFSETFROM:-0500
TZOFFSETTO:-0600
TZNAME:CST
DTSTART:20231105T070000
END:STANDARD
BEGIN:DAYLIGHT
TZOFFSETFROM:-0600
TZOFFSETTO:-0500
TZNAME:CDT
DTSTART:20240310T080000
END:DAYLIGHT
BEGIN:STANDARD
TZOFFSETFROM:-0500
TZOFFSETTO:-0600
TZNAME:CST
DTSTART:20241103T070000
END:STANDARD
END:VTIMEZONE
BEGIN:VEVENT
DTSTART;TZID=America/Chicago:20230306T190000
DTEND;TZID=America/Chicago:20230306T213000
DTSTAMP:20260423T001926
CREATED:20230131T002357Z
LAST-MODIFIED:20230131T002357Z
UID:10001639-1678129200-1678138200@maskatshrine.com
SUMMARY:Nile Dancers
DESCRIPTION:
URL:https://maskatshrine.com/event/nile-dancers-3/2023-03-06/
CATEGORIES:Ladies Events
END:VEVENT
BEGIN:VEVENT
DTSTART;TZID=America/Chicago:20230308T130000
DTEND;TZID=America/Chicago:20230308T150000
DTSTAMP:20260423T001926
CREATED:20230131T002938Z
LAST-MODIFIED:20230131T021237Z
UID:10001684-1678280400-1678287600@maskatshrine.com
SUMMARY:Shrine Ladies
DESCRIPTION:
URL:https://maskatshrine.com/event/shrine-ladies-8/2023-03-08/
CATEGORIES:Shrine Ladies
END:VEVENT
BEGIN:VEVENT
DTSTART;TZID=America/Chicago:20230308T183000
DTEND;TZID=America/Chicago:20230308T213000
DTSTAMP:20260423T001926
CREATED:20230131T194527Z
LAST-MODIFIED:20230131T194527Z
UID:10001765-1678300200-1678311000@maskatshrine.com
SUMMARY:Units Council
DESCRIPTION:
URL:https://maskatshrine.com/event/units-council-6/2023-03-08/
CATEGORIES:Meeting
END:VEVENT
BEGIN:VEVENT
DTSTART;TZID=America/Chicago:20230309T103000
DTEND;TZID=America/Chicago:20230309T120000
DTSTAMP:20260423T001926
CREATED:20230131T021528Z
LAST-MODIFIED:20230131T021528Z
UID:10001704-1678357800-1678363200@maskatshrine.com
SUMMARY:Nile Sewing
DESCRIPTION:
URL:https://maskatshrine.com/event/nile-sewing-10/2023-03-09/
CATEGORIES:Ladies Events
END:VEVENT
BEGIN:VEVENT
DTSTART;TZID=America/Chicago:20230311T090000
DTEND;TZID=America/Chicago:20230311T170000
DTSTAMP:20260423T001926
CREATED:20211122T175249Z
LAST-MODIFIED:20230130T213302Z
UID:10001516-1678525200-1678554000@maskatshrine.com
SUMMARY:Provost Guard Practice
DESCRIPTION:
URL:https://maskatshrine.com/event/provost-guard-practice-3/2023-03-11/
CATEGORIES:Miscellaneous
END:VEVENT
BEGIN:VEVENT
DTSTART;TZID=America/Chicago:20230311T140000
DTEND;TZID=America/Chicago:20230311T170000
DTSTAMP:20260423T001926
CREATED:20230131T194652Z
LAST-MODIFIED:20230131T194652Z
UID:10001766-1678543200-1678554000@maskatshrine.com
SUMMARY:Nile Installation
DESCRIPTION:
URL:https://maskatshrine.com/event/nile-installation-7/
CATEGORIES:Ladies Events
END:VEVENT
END:VCALENDAR