BEGIN:VCALENDAR
VERSION:2.0
PRODID:-//Maskat Shrine - ECPv6.15.13//NONSGML v1.0//EN
CALSCALE:GREGORIAN
METHOD:PUBLISH
X-ORIGINAL-URL:https://maskatshrine.com
X-WR-CALDESC:Events for Maskat Shrine
REFRESH-INTERVAL;VALUE=DURATION:PT1H
X-Robots-Tag:noindex
X-PUBLISHED-TTL:PT1H
BEGIN:VTIMEZONE
TZID:America/Chicago
BEGIN:DAYLIGHT
TZOFFSETFROM:-0600
TZOFFSETTO:-0500
TZNAME:CDT
DTSTART:20220313T080000
END:DAYLIGHT
BEGIN:STANDARD
TZOFFSETFROM:-0500
TZOFFSETTO:-0600
TZNAME:CST
DTSTART:20221106T070000
END:STANDARD
BEGIN:DAYLIGHT
TZOFFSETFROM:-0600
TZOFFSETTO:-0500
TZNAME:CDT
DTSTART:20230312T080000
END:DAYLIGHT
BEGIN:STANDARD
TZOFFSETFROM:-0500
TZOFFSETTO:-0600
TZNAME:CST
DTSTART:20231105T070000
END:STANDARD
BEGIN:DAYLIGHT
TZOFFSETFROM:-0600
TZOFFSETTO:-0500
TZNAME:CDT
DTSTART:20240310T080000
END:DAYLIGHT
BEGIN:STANDARD
TZOFFSETFROM:-0500
TZOFFSETTO:-0600
TZNAME:CST
DTSTART:20241103T070000
END:STANDARD
END:VTIMEZONE
BEGIN:VEVENT
DTSTART;VALUE=DATE:20231016
DTEND;VALUE=DATE:20231017
DTSTAMP:20260425T225041
CREATED:20230131T205838Z
LAST-MODIFIED:20230131T205838Z
UID:10001797-1697414400-1697500799@maskatshrine.com
SUMMARY:Wildcat Articles Due
DESCRIPTION:
URL:https://maskatshrine.com/event/wildcat-articles-due-17/2023-10-16/
CATEGORIES:Miscellaneous
END:VEVENT
BEGIN:VEVENT
DTSTART;TZID=America/Chicago:20231016T190000
DTEND;TZID=America/Chicago:20231016T213000
DTSTAMP:20260425T225041
CREATED:20230131T002357Z
LAST-MODIFIED:20230131T002357Z
UID:10001671-1697482800-1697491800@maskatshrine.com
SUMMARY:Nile Dancers
DESCRIPTION:
URL:https://maskatshrine.com/event/nile-dancers-3/2023-10-16/
CATEGORIES:Ladies Events
END:VEVENT
BEGIN:VEVENT
DTSTART;TZID=America/Chicago:20231019T173000
DTEND;TZID=America/Chicago:20231019T190000
DTSTAMP:20260425T225041
CREATED:20230131T204734Z
LAST-MODIFIED:20230131T204734Z
UID:10001788-1697736600-1697742000@maskatshrine.com
SUMMARY:Happy Hour
DESCRIPTION:
URL:https://maskatshrine.com/event/happy-hour-3/2023-10-19/
CATEGORIES:Miscellaneous
END:VEVENT
BEGIN:VEVENT
DTSTART;TZID=America/Chicago:20231019T183000
DTEND;TZID=America/Chicago:20231019T210000
DTSTAMP:20260425T225041
CREATED:20230131T023455Z
LAST-MODIFIED:20230131T023455Z
UID:10001742-1697740200-1697749200@maskatshrine.com
SUMMARY:Nile Patrol
DESCRIPTION:
URL:https://maskatshrine.com/event/nile-patrol-11/2023-10-19/
CATEGORIES:Ladies Events
END:VEVENT
BEGIN:VEVENT
DTSTART;VALUE=DATE:20231020
DTEND;VALUE=DATE:20231023
DTSTAMP:20260425T225041
CREATED:20230131T212416Z
LAST-MODIFIED:20230131T212416Z
UID:10001818-1697760000-1698019199@maskatshrine.com
SUMMARY:Golf Christmas-Granbury
DESCRIPTION:
URL:https://maskatshrine.com/event/golf-christmas-granbury/
CATEGORIES:Special Events
END:VEVENT
BEGIN:VEVENT
DTSTART;TZID=America/Chicago:20231021T090000
DTEND;TZID=America/Chicago:20231021T170000
DTSTAMP:20260425T225041
CREATED:20211122T175249Z
LAST-MODIFIED:20230130T213302Z
UID:10001548-1697878800-1697907600@maskatshrine.com
SUMMARY:Provost Guard Practice
DESCRIPTION:
URL:https://maskatshrine.com/event/provost-guard-practice-3/2023-10-21/
CATEGORIES:Miscellaneous
END:VEVENT
END:VCALENDAR