BEGIN:VCALENDAR
VERSION:2.0
PRODID:-//Maskat Shrine - ECPv6.15.13//NONSGML v1.0//EN
CALSCALE:GREGORIAN
METHOD:PUBLISH
X-WR-CALNAME:Maskat Shrine
X-ORIGINAL-URL:https://maskatshrine.com
X-WR-CALDESC:Events for Maskat Shrine
REFRESH-INTERVAL;VALUE=DURATION:PT1H
X-Robots-Tag:noindex
X-PUBLISHED-TTL:PT1H
BEGIN:VTIMEZONE
TZID:America/Chicago
BEGIN:DAYLIGHT
TZOFFSETFROM:-0600
TZOFFSETTO:-0500
TZNAME:CDT
DTSTART:20220313T080000
END:DAYLIGHT
BEGIN:STANDARD
TZOFFSETFROM:-0500
TZOFFSETTO:-0600
TZNAME:CST
DTSTART:20221106T070000
END:STANDARD
BEGIN:DAYLIGHT
TZOFFSETFROM:-0600
TZOFFSETTO:-0500
TZNAME:CDT
DTSTART:20230312T080000
END:DAYLIGHT
BEGIN:STANDARD
TZOFFSETFROM:-0500
TZOFFSETTO:-0600
TZNAME:CST
DTSTART:20231105T070000
END:STANDARD
BEGIN:DAYLIGHT
TZOFFSETFROM:-0600
TZOFFSETTO:-0500
TZNAME:CDT
DTSTART:20240310T080000
END:DAYLIGHT
BEGIN:STANDARD
TZOFFSETFROM:-0500
TZOFFSETTO:-0600
TZNAME:CST
DTSTART:20241103T070000
END:STANDARD
END:VTIMEZONE
BEGIN:VEVENT
DTSTART;VALUE=DATE:20231020
DTEND;VALUE=DATE:20231023
DTSTAMP:20260425T134752
CREATED:20230131T212416Z
LAST-MODIFIED:20230131T212416Z
UID:10001818-1697760000-1698019199@maskatshrine.com
SUMMARY:Golf Christmas-Granbury
DESCRIPTION:
URL:https://maskatshrine.com/event/golf-christmas-granbury/
CATEGORIES:Special Events
END:VEVENT
BEGIN:VEVENT
DTSTART;TZID=America/Chicago:20231023T190000
DTEND;TZID=America/Chicago:20231023T213000
DTSTAMP:20260425T134752
CREATED:20230131T002357Z
LAST-MODIFIED:20230131T002357Z
UID:10001672-1698087600-1698096600@maskatshrine.com
SUMMARY:Nile Dancers
DESCRIPTION:
URL:https://maskatshrine.com/event/nile-dancers-3/2023-10-23/
CATEGORIES:Ladies Events
END:VEVENT
BEGIN:VEVENT
DTSTART;TZID=America/Chicago:20231024T080000
DTEND;TZID=America/Chicago:20231024T170000
DTSTAMP:20260425T134752
CREATED:20230830T194011Z
LAST-MODIFIED:20230830T194011Z
UID:10001850-1698134400-1698166800@maskatshrine.com
SUMMARY:BUILDING RENTAL
DESCRIPTION:
URL:https://maskatshrine.com/event/building-rental-62/
CATEGORIES:Rentals
END:VEVENT
BEGIN:VEVENT
DTSTART;TZID=America/Chicago:20231028T090000
DTEND;TZID=America/Chicago:20231028T170000
DTSTAMP:20260425T134752
CREATED:20211122T175249Z
LAST-MODIFIED:20230130T213302Z
UID:10001549-1698483600-1698512400@maskatshrine.com
SUMMARY:Provost Guard Practice
DESCRIPTION:
URL:https://maskatshrine.com/event/provost-guard-practice-3/2023-10-28/
CATEGORIES:Miscellaneous
END:VEVENT
END:VCALENDAR