BEGIN:VCALENDAR
VERSION:2.0
PRODID:-//Maskat Shrine - ECPv6.15.13//NONSGML v1.0//EN
CALSCALE:GREGORIAN
METHOD:PUBLISH
X-ORIGINAL-URL:https://maskatshrine.com
X-WR-CALDESC:Events for Maskat Shrine
REFRESH-INTERVAL;VALUE=DURATION:PT1H
X-Robots-Tag:noindex
X-PUBLISHED-TTL:PT1H
BEGIN:VTIMEZONE
TZID:America/Chicago
BEGIN:DAYLIGHT
TZOFFSETFROM:-0600
TZOFFSETTO:-0500
TZNAME:CDT
DTSTART:20220313T080000
END:DAYLIGHT
BEGIN:STANDARD
TZOFFSETFROM:-0500
TZOFFSETTO:-0600
TZNAME:CST
DTSTART:20221106T070000
END:STANDARD
BEGIN:DAYLIGHT
TZOFFSETFROM:-0600
TZOFFSETTO:-0500
TZNAME:CDT
DTSTART:20230312T080000
END:DAYLIGHT
BEGIN:STANDARD
TZOFFSETFROM:-0500
TZOFFSETTO:-0600
TZNAME:CST
DTSTART:20231105T070000
END:STANDARD
BEGIN:DAYLIGHT
TZOFFSETFROM:-0600
TZOFFSETTO:-0500
TZNAME:CDT
DTSTART:20240310T080000
END:DAYLIGHT
BEGIN:STANDARD
TZOFFSETFROM:-0500
TZOFFSETTO:-0600
TZNAME:CST
DTSTART:20241103T070000
END:STANDARD
END:VTIMEZONE
BEGIN:VEVENT
DTSTART;TZID=America/Chicago:20231105T080000
DTEND;TZID=America/Chicago:20231105T170000
DTSTAMP:20260424T031625
CREATED:20230131T215348Z
LAST-MODIFIED:20230131T215348Z
UID:10001841-1699171200-1699203600@maskatshrine.com
SUMMARY:Daylight Savings Time Ends
DESCRIPTION:
URL:https://maskatshrine.com/event/daylight-savings-time-ends-2/
CATEGORIES:Miscellaneous
END:VEVENT
BEGIN:VEVENT
DTSTART;TZID=America/Chicago:20231106T190000
DTEND;TZID=America/Chicago:20231106T213000
DTSTAMP:20260424T031625
CREATED:20230131T002357Z
LAST-MODIFIED:20230131T002357Z
UID:10001674-1699297200-1699306200@maskatshrine.com
SUMMARY:Nile Dancers
DESCRIPTION:
URL:https://maskatshrine.com/event/nile-dancers-3/2023-11-06/
CATEGORIES:Ladies Events
END:VEVENT
BEGIN:VEVENT
DTSTART;TZID=America/Chicago:20231108T080000
DTEND;TZID=America/Chicago:20231108T170000
DTSTAMP:20260424T031625
CREATED:20230131T210931Z
LAST-MODIFIED:20230131T210931Z
UID:10001806-1699430400-1699462800@maskatshrine.com
SUMMARY:Units Council
DESCRIPTION:
URL:https://maskatshrine.com/event/units-council-10/
CATEGORIES:Meeting
END:VEVENT
BEGIN:VEVENT
DTSTART;TZID=America/Chicago:20231108T130000
DTEND;TZID=America/Chicago:20231108T150000
DTSTAMP:20260424T031625
CREATED:20230131T003211Z
LAST-MODIFIED:20230131T021142Z
UID:10001689-1699448400-1699455600@maskatshrine.com
SUMMARY:Shrine Ladies
DESCRIPTION:
URL:https://maskatshrine.com/event/shrine-ladies-9/2023-11-08/
CATEGORIES:Shrine Ladies
END:VEVENT
BEGIN:VEVENT
DTSTART;TZID=America/Chicago:20231109T103000
DTEND;TZID=America/Chicago:20231109T120000
DTSTAMP:20260424T031625
CREATED:20230131T211620Z
LAST-MODIFIED:20230131T211620Z
UID:10001814-1699525800-1699531200@maskatshrine.com
SUMMARY:Nile Sewing
DESCRIPTION:
URL:https://maskatshrine.com/event/nile-sewing-11/2023-11-09/
CATEGORIES:Ladies Events
END:VEVENT
BEGIN:VEVENT
DTSTART;VALUE=DATE:20231110
DTEND;VALUE=DATE:20231111
DTSTAMP:20260424T031625
CREATED:20230131T213404Z
LAST-MODIFIED:20230131T213404Z
UID:10001825-1699574400-1699660799@maskatshrine.com
SUMMARY:Veterans' Day-MASKAT CLOSED
DESCRIPTION:
URL:https://maskatshrine.com/event/veterans-day-maskat-closed-3/
CATEGORIES:Holidays
END:VEVENT
BEGIN:VEVENT
DTSTART;TZID=America/Chicago:20231111T090000
DTEND;TZID=America/Chicago:20231111T170000
DTSTAMP:20260424T031625
CREATED:20211122T175249Z
LAST-MODIFIED:20230130T213302Z
UID:10001551-1699693200-1699722000@maskatshrine.com
SUMMARY:Provost Guard Practice
DESCRIPTION:
URL:https://maskatshrine.com/event/provost-guard-practice-3/2023-11-11/
CATEGORIES:Miscellaneous
END:VEVENT
END:VCALENDAR