BEGIN:VCALENDAR
VERSION:2.0
PRODID:-//Maskat Shrine - ECPv6.15.13//NONSGML v1.0//EN
CALSCALE:GREGORIAN
METHOD:PUBLISH
X-WR-CALNAME:Maskat Shrine
X-ORIGINAL-URL:https://maskatshrine.com
X-WR-CALDESC:Events for Maskat Shrine
REFRESH-INTERVAL;VALUE=DURATION:PT1H
X-Robots-Tag:noindex
X-PUBLISHED-TTL:PT1H
BEGIN:VTIMEZONE
TZID:America/Chicago
BEGIN:DAYLIGHT
TZOFFSETFROM:-0600
TZOFFSETTO:-0500
TZNAME:CDT
DTSTART:20230312T080000
END:DAYLIGHT
BEGIN:STANDARD
TZOFFSETFROM:-0500
TZOFFSETTO:-0600
TZNAME:CST
DTSTART:20231105T070000
END:STANDARD
BEGIN:DAYLIGHT
TZOFFSETFROM:-0600
TZOFFSETTO:-0500
TZNAME:CDT
DTSTART:20240310T080000
END:DAYLIGHT
BEGIN:STANDARD
TZOFFSETFROM:-0500
TZOFFSETTO:-0600
TZNAME:CST
DTSTART:20241103T070000
END:STANDARD
BEGIN:DAYLIGHT
TZOFFSETFROM:-0600
TZOFFSETTO:-0500
TZNAME:CDT
DTSTART:20250309T080000
END:DAYLIGHT
BEGIN:STANDARD
TZOFFSETFROM:-0500
TZOFFSETTO:-0600
TZNAME:CST
DTSTART:20251102T070000
END:STANDARD
END:VTIMEZONE
BEGIN:VEVENT
DTSTART;VALUE=DATE:20240520
DTEND;VALUE=DATE:20240521
DTSTAMP:20260419T085936
CREATED:20231214T190135Z
LAST-MODIFIED:20231214T190201Z
UID:10002053-1716163200-1716249599@maskatshrine.com
SUMMARY:Wildcat Articles Due
DESCRIPTION:
URL:https://maskatshrine.com/event/wildcat-articles-due-18/2024-05-20/
CATEGORIES:Miscellaneous
END:VEVENT
BEGIN:VEVENT
DTSTART;TZID=America/Chicago:20240520T190000
DTEND;TZID=America/Chicago:20240520T210000
DTSTAMP:20260419T085936
CREATED:20231214T175141Z
LAST-MODIFIED:20240117T165632Z
UID:10002019-1716231600-1716238800@maskatshrine.com
SUMMARY:Nile Dancers
DESCRIPTION:
URL:https://maskatshrine.com/event/nile-dancers-5/2024-05-20/
CATEGORIES:Ladies Events
END:VEVENT
BEGIN:VEVENT
DTSTART;VALUE=DATE:20240523
DTEND;VALUE=DATE:20240524
DTSTAMP:20260419T085936
CREATED:20240212T194417Z
LAST-MODIFIED:20240212T194417Z
UID:10002176-1716422400-1716508799@maskatshrine.com
SUMMARY:BUILDING RENTAL
DESCRIPTION:
URL:https://maskatshrine.com/event/building-rental-68/
CATEGORIES:Rentals
END:VEVENT
BEGIN:VEVENT
DTSTART;TZID=America/Chicago:20240525T080000
DTEND;TZID=America/Chicago:20240525T170000
DTSTAMP:20260419T085936
CREATED:20231214T182304Z
LAST-MODIFIED:20231214T182304Z
UID:10001972-1716624000-1716656400@maskatshrine.com
SUMMARY:Provost Guard Practice
DESCRIPTION:
URL:https://maskatshrine.com/event/provost-guard-practice-4/2024-05-25/
CATEGORIES:Miscellaneous
END:VEVENT
END:VCALENDAR