BEGIN:VCALENDAR
VERSION:2.0
PRODID:-//Maskat Shrine - ECPv6.15.13//NONSGML v1.0//EN
CALSCALE:GREGORIAN
METHOD:PUBLISH
X-ORIGINAL-URL:https://maskatshrine.com
X-WR-CALDESC:Events for Maskat Shrine
REFRESH-INTERVAL;VALUE=DURATION:PT1H
X-Robots-Tag:noindex
X-PUBLISHED-TTL:PT1H
BEGIN:VTIMEZONE
TZID:America/Chicago
BEGIN:DAYLIGHT
TZOFFSETFROM:-0600
TZOFFSETTO:-0500
TZNAME:CDT
DTSTART:20230312T080000
END:DAYLIGHT
BEGIN:STANDARD
TZOFFSETFROM:-0500
TZOFFSETTO:-0600
TZNAME:CST
DTSTART:20231105T070000
END:STANDARD
BEGIN:DAYLIGHT
TZOFFSETFROM:-0600
TZOFFSETTO:-0500
TZNAME:CDT
DTSTART:20240310T080000
END:DAYLIGHT
BEGIN:STANDARD
TZOFFSETFROM:-0500
TZOFFSETTO:-0600
TZNAME:CST
DTSTART:20241103T070000
END:STANDARD
BEGIN:DAYLIGHT
TZOFFSETFROM:-0600
TZOFFSETTO:-0500
TZNAME:CDT
DTSTART:20250309T080000
END:DAYLIGHT
BEGIN:STANDARD
TZOFFSETFROM:-0500
TZOFFSETTO:-0600
TZNAME:CST
DTSTART:20251102T070000
END:STANDARD
END:VTIMEZONE
BEGIN:VEVENT
DTSTART;TZID=America/Chicago:20240729T190000
DTEND;TZID=America/Chicago:20240729T210000
DTSTAMP:20260420T013144
CREATED:20231214T175141Z
LAST-MODIFIED:20240117T165632Z
UID:10002027-1722279600-1722286800@maskatshrine.com
SUMMARY:Nile Dancers
DESCRIPTION:
URL:https://maskatshrine.com/event/nile-dancers-5/2024-07-29/
CATEGORIES:Ladies Events
END:VEVENT
BEGIN:VEVENT
DTSTART;VALUE=DATE:20240730
DTEND;VALUE=DATE:20240731
DTSTAMP:20260420T013144
CREATED:20240104T194939Z
LAST-MODIFIED:20240104T194939Z
UID:10002118-1722297600-1722383999@maskatshrine.com
SUMMARY:Decorate for Nile
DESCRIPTION:
URL:https://maskatshrine.com/event/decorate-for-nile-2/
CATEGORIES:Miscellaneous
END:VEVENT
BEGIN:VEVENT
DTSTART;TZID=America/Chicago:20240731T173000
DTEND;TZID=America/Chicago:20240731T210000
DTSTAMP:20260420T013144
CREATED:20240104T195054Z
LAST-MODIFIED:20240104T195141Z
UID:10002119-1722447000-1722459600@maskatshrine.com
SUMMARY:Nile Supreme Queen Visit
DESCRIPTION:
URL:https://maskatshrine.com/event/nile-supreme-queen-visit-4/
CATEGORIES:Ladies Events
END:VEVENT
BEGIN:VEVENT
DTSTART;VALUE=DATE:20240802
DTEND;VALUE=DATE:20240803
DTSTAMP:20260420T013144
CREATED:20240104T195355Z
LAST-MODIFIED:20240104T195355Z
UID:10002120-1722556800-1722643199@maskatshrine.com
SUMMARY:Set Up for Gun Show
DESCRIPTION:
URL:https://maskatshrine.com/event/set-up-for-gun-show/
CATEGORIES:Miscellaneous
END:VEVENT
BEGIN:VEVENT
DTSTART;TZID=America/Chicago:20240803T080000
DTEND;TZID=America/Chicago:20240803T170000
DTSTAMP:20260420T013144
CREATED:20231214T182304Z
LAST-MODIFIED:20231214T182304Z
UID:10001982-1722672000-1722704400@maskatshrine.com
SUMMARY:Provost Guard Practice
DESCRIPTION:
URL:https://maskatshrine.com/event/provost-guard-practice-4/2024-08-03/
CATEGORIES:Miscellaneous
END:VEVENT
END:VCALENDAR