BEGIN:VCALENDAR
VERSION:2.0
PRODID:-//Maskat Shrine - ECPv6.15.13//NONSGML v1.0//EN
CALSCALE:GREGORIAN
METHOD:PUBLISH
X-ORIGINAL-URL:https://maskatshrine.com
X-WR-CALDESC:Events for Maskat Shrine
REFRESH-INTERVAL;VALUE=DURATION:PT1H
X-Robots-Tag:noindex
X-PUBLISHED-TTL:PT1H
BEGIN:VTIMEZONE
TZID:America/Chicago
BEGIN:DAYLIGHT
TZOFFSETFROM:-0600
TZOFFSETTO:-0500
TZNAME:CDT
DTSTART:20240310T080000
END:DAYLIGHT
BEGIN:STANDARD
TZOFFSETFROM:-0500
TZOFFSETTO:-0600
TZNAME:CST
DTSTART:20241103T070000
END:STANDARD
BEGIN:DAYLIGHT
TZOFFSETFROM:-0600
TZOFFSETTO:-0500
TZNAME:CDT
DTSTART:20250309T080000
END:DAYLIGHT
BEGIN:STANDARD
TZOFFSETFROM:-0500
TZOFFSETTO:-0600
TZNAME:CST
DTSTART:20251102T070000
END:STANDARD
BEGIN:DAYLIGHT
TZOFFSETFROM:-0600
TZOFFSETTO:-0500
TZNAME:CDT
DTSTART:20260308T080000
END:DAYLIGHT
BEGIN:STANDARD
TZOFFSETFROM:-0500
TZOFFSETTO:-0600
TZNAME:CST
DTSTART:20261101T070000
END:STANDARD
END:VTIMEZONE
BEGIN:VEVENT
DTSTART;TZID=America/Chicago:20250908T070000
DTEND;TZID=America/Chicago:20250908T210000
DTSTAMP:20260419T090323
CREATED:20250203T001153Z
LAST-MODIFIED:20250203T001153Z
UID:10002924-1757314800-1757365200@maskatshrine.com
SUMMARY:NILE FUN BAND
DESCRIPTION:
URL:https://maskatshrine.com/event/nile-fun-band-15/2025-09-08/
CATEGORIES:Ladies Events
END:VEVENT
BEGIN:VEVENT
DTSTART;TZID=America/Chicago:20250908T190000
DTEND;TZID=America/Chicago:20250908T210000
DTSTAMP:20260419T090323
CREATED:20250202T040044Z
LAST-MODIFIED:20260103T010229Z
UID:10002606-1757358000-1757365200@maskatshrine.com
SUMMARY:Nile Danceers
DESCRIPTION:
URL:https://maskatshrine.com/event/nile-dancers-6-3-2/2025-09-08/
CATEGORIES:Ladies Events
END:VEVENT
BEGIN:VEVENT
DTSTART;TZID=America/Chicago:20250909T183000
DTEND;TZID=America/Chicago:20250909T213000
DTSTAMP:20260419T090323
CREATED:20250203T000441Z
LAST-MODIFIED:20250203T000441Z
UID:10002915-1757442600-1757453400@maskatshrine.com
SUMMARY:STATED MEETING
DESCRIPTION:
URL:https://maskatshrine.com/event/stated-meeting-23/2025-09-09/
CATEGORIES:Meeting
END:VEVENT
BEGIN:VEVENT
DTSTART;TZID=America/Chicago:20250910T130000
DTEND;TZID=America/Chicago:20250910T150000
DTSTAMP:20260419T090323
CREATED:20250203T000708Z
LAST-MODIFIED:20250203T000708Z
UID:10002919-1757509200-1757516400@maskatshrine.com
SUMMARY:SHRINE LADIES
DESCRIPTION:
URL:https://maskatshrine.com/event/shrine-ladies-12/2025-09-10/
CATEGORIES:Shrine Ladies
END:VEVENT
BEGIN:VEVENT
DTSTART;TZID=America/Chicago:20250913T180000
DTEND;TZID=America/Chicago:20250913T200000
DTSTAMP:20260419T090323
CREATED:20250203T000821Z
LAST-MODIFIED:20250203T000821Z
UID:10002923-1757786400-1757793600@maskatshrine.com
SUMMARY:PUZZLE PARTY
DESCRIPTION:
URL:https://maskatshrine.com/event/puzzle-party/
CATEGORIES:Special Events
END:VEVENT
END:VCALENDAR