BEGIN:VCALENDAR
VERSION:2.0
PRODID:-//Maskat Shrine - ECPv6.15.13//NONSGML v1.0//EN
CALSCALE:GREGORIAN
METHOD:PUBLISH
X-ORIGINAL-URL:https://maskatshrine.com
X-WR-CALDESC:Events for Maskat Shrine
REFRESH-INTERVAL;VALUE=DURATION:PT1H
X-Robots-Tag:noindex
X-PUBLISHED-TTL:PT1H
BEGIN:VTIMEZONE
TZID:America/Chicago
BEGIN:DAYLIGHT
TZOFFSETFROM:-0600
TZOFFSETTO:-0500
TZNAME:CDT
DTSTART:20240310T080000
END:DAYLIGHT
BEGIN:STANDARD
TZOFFSETFROM:-0500
TZOFFSETTO:-0600
TZNAME:CST
DTSTART:20241103T070000
END:STANDARD
BEGIN:DAYLIGHT
TZOFFSETFROM:-0600
TZOFFSETTO:-0500
TZNAME:CDT
DTSTART:20250309T080000
END:DAYLIGHT
BEGIN:STANDARD
TZOFFSETFROM:-0500
TZOFFSETTO:-0600
TZNAME:CST
DTSTART:20251102T070000
END:STANDARD
BEGIN:DAYLIGHT
TZOFFSETFROM:-0600
TZOFFSETTO:-0500
TZNAME:CDT
DTSTART:20260308T080000
END:DAYLIGHT
BEGIN:STANDARD
TZOFFSETFROM:-0500
TZOFFSETTO:-0600
TZNAME:CST
DTSTART:20261101T070000
END:STANDARD
END:VTIMEZONE
BEGIN:VEVENT
DTSTART;TZID=America/Chicago:20251207T080000
DTEND;TZID=America/Chicago:20251207T170000
DTSTAMP:20260421T080739
CREATED:20250203T004853Z
LAST-MODIFIED:20250203T004853Z
UID:10002944-1765094400-1765126800@maskatshrine.com
SUMMARY:NILE SUPREME QUEEN VISIT
DESCRIPTION:
URL:https://maskatshrine.com/event/nile-supreme-queen-visit-5/
CATEGORIES:Ladies Events
END:VEVENT
BEGIN:VEVENT
DTSTART;TZID=America/Chicago:20251208T070000
DTEND;TZID=America/Chicago:20251208T210000
DTSTAMP:20260421T080739
CREATED:20250203T001153Z
LAST-MODIFIED:20250203T001153Z
UID:10002927-1765177200-1765227600@maskatshrine.com
SUMMARY:NILE FUN BAND
DESCRIPTION:
URL:https://maskatshrine.com/event/nile-fun-band-15/2025-12-08/
CATEGORIES:Ladies Events
END:VEVENT
BEGIN:VEVENT
DTSTART;TZID=America/Chicago:20251208T190000
DTEND;TZID=America/Chicago:20251208T210000
DTSTAMP:20260421T080739
CREATED:20250202T040044Z
LAST-MODIFIED:20260103T010229Z
UID:10002619-1765220400-1765227600@maskatshrine.com
SUMMARY:Nile Danceers
DESCRIPTION:
URL:https://maskatshrine.com/event/nile-dancers-6-3-2/2025-12-08/
CATEGORIES:Ladies Events
END:VEVENT
BEGIN:VEVENT
DTSTART;TZID=America/Chicago:20251209T183000
DTEND;TZID=America/Chicago:20251209T213000
DTSTAMP:20260421T080739
CREATED:20250203T000441Z
LAST-MODIFIED:20250203T000441Z
UID:10002918-1765305000-1765315800@maskatshrine.com
SUMMARY:STATED MEETING
DESCRIPTION:
URL:https://maskatshrine.com/event/stated-meeting-23/2025-12-09/
CATEGORIES:Meeting
END:VEVENT
BEGIN:VEVENT
DTSTART;TZID=America/Chicago:20251210T130000
DTEND;TZID=America/Chicago:20251210T150000
DTSTAMP:20260421T080739
CREATED:20250203T000708Z
LAST-MODIFIED:20250203T000708Z
UID:10002922-1765371600-1765378800@maskatshrine.com
SUMMARY:SHRINE LADIES
DESCRIPTION:
URL:https://maskatshrine.com/event/shrine-ladies-12/2025-12-10/
CATEGORIES:Shrine Ladies
END:VEVENT
END:VCALENDAR