BEGIN:VCALENDAR
VERSION:2.0
PRODID:-//Maskat Shrine - ECPv6.15.13//NONSGML v1.0//EN
CALSCALE:GREGORIAN
METHOD:PUBLISH
X-ORIGINAL-URL:https://maskatshrine.com
X-WR-CALDESC:Events for Maskat Shrine
REFRESH-INTERVAL;VALUE=DURATION:PT1H
X-Robots-Tag:noindex
X-PUBLISHED-TTL:PT1H
BEGIN:VTIMEZONE
TZID:America/Chicago
BEGIN:DAYLIGHT
TZOFFSETFROM:-0600
TZOFFSETTO:-0500
TZNAME:CDT
DTSTART:20250309T080000
END:DAYLIGHT
BEGIN:STANDARD
TZOFFSETFROM:-0500
TZOFFSETTO:-0600
TZNAME:CST
DTSTART:20251102T070000
END:STANDARD
BEGIN:DAYLIGHT
TZOFFSETFROM:-0600
TZOFFSETTO:-0500
TZNAME:CDT
DTSTART:20260308T080000
END:DAYLIGHT
BEGIN:STANDARD
TZOFFSETFROM:-0500
TZOFFSETTO:-0600
TZNAME:CST
DTSTART:20261101T070000
END:STANDARD
BEGIN:DAYLIGHT
TZOFFSETFROM:-0600
TZOFFSETTO:-0500
TZNAME:CDT
DTSTART:20270314T080000
END:DAYLIGHT
BEGIN:STANDARD
TZOFFSETFROM:-0500
TZOFFSETTO:-0600
TZNAME:CST
DTSTART:20271107T070000
END:STANDARD
END:VTIMEZONE
BEGIN:VEVENT
DTSTART;TZID=America/Chicago:20260126T190000
DTEND;TZID=America/Chicago:20260126T210000
DTSTAMP:20260421T112813
CREATED:20250202T040044Z
LAST-MODIFIED:20260103T010229Z
UID:10002626-1769454000-1769461200@maskatshrine.com
SUMMARY:Nile Danceers
DESCRIPTION:
URL:https://maskatshrine.com/event/nile-dancers-6-3-2/2026-01-26/
CATEGORIES:Ladies Events
END:VEVENT
BEGIN:VEVENT
DTSTART;TZID=America/Chicago:20260127T170000
DTEND;TZID=America/Chicago:20260127T200000
DTSTAMP:20260421T112813
CREATED:20260102T151330Z
LAST-MODIFIED:20260102T151330Z
UID:10003125-1769533200-1769544000@maskatshrine.com
SUMMARY:East-West Shrine Bowl Watch Party
DESCRIPTION:
URL:https://maskatshrine.com/event/east-west-shrine-bowl-watch-party/
LOCATION:Maskat Shrine\, 5101 Henry S. Grace Fwy\, Wichita Falls\, TX\, 76302\, United States
CATEGORIES:Special Events
GEO:33.8506458;-98.4870434
X-APPLE-STRUCTURED-LOCATION;VALUE=URI;X-ADDRESS=Maskat Shrine 5101 Henry S. Grace Fwy Wichita Falls TX 76302 United States;X-APPLE-RADIUS=500;X-TITLE=5101 Henry S. Grace Fwy:geo:-98.4870434,33.8506458
END:VEVENT
BEGIN:VEVENT
DTSTART;VALUE=DATE:20260131
DTEND;VALUE=DATE:20260201
DTSTAMP:20260421T112813
CREATED:20260102T143852Z
LAST-MODIFIED:20260103T011115Z
UID:10003063-1769817600-1769903999@maskatshrine.com
SUMMARY:Provost Guard Practice
DESCRIPTION:
URL:https://maskatshrine.com/event/provost-guard-practice-6/2026-01-31/
CATEGORIES:Meeting
END:VEVENT
END:VCALENDAR